BEGIN:VCALENDAR
VERSION:2.0
PRODID:-//ExcelNotes - ECPv6.15.20//NONSGML v1.0//EN
CALSCALE:GREGORIAN
METHOD:PUBLISH
X-ORIGINAL-URL:https://excelnotes.com
X-WR-CALDESC:Events for ExcelNotes
REFRESH-INTERVAL;VALUE=DURATION:PT1H
X-Robots-Tag:noindex
X-PUBLISHED-TTL:PT1H
BEGIN:VTIMEZONE
TZID:America/New_York
BEGIN:DAYLIGHT
TZOFFSETFROM:-0500
TZOFFSETTO:-0400
TZNAME:EDT
DTSTART:20250309T070000
END:DAYLIGHT
BEGIN:STANDARD
TZOFFSETFROM:-0400
TZOFFSETTO:-0500
TZNAME:EST
DTSTART:20251102T060000
END:STANDARD
BEGIN:DAYLIGHT
TZOFFSETFROM:-0500
TZOFFSETTO:-0400
TZNAME:EDT
DTSTART:20260308T070000
END:DAYLIGHT
BEGIN:STANDARD
TZOFFSETFROM:-0400
TZOFFSETTO:-0500
TZNAME:EST
DTSTART:20261101T060000
END:STANDARD
BEGIN:DAYLIGHT
TZOFFSETFROM:-0500
TZOFFSETTO:-0400
TZNAME:EDT
DTSTART:20270314T070000
END:DAYLIGHT
BEGIN:STANDARD
TZOFFSETFROM:-0400
TZOFFSETTO:-0500
TZNAME:EST
DTSTART:20271107T060000
END:STANDARD
END:VTIMEZONE
BEGIN:VEVENT
DTSTART;VALUE=DATE:20260225
DTEND;VALUE=DATE:20260226
DTSTAMP:20260419T145231
CREATED:20250913T182433Z
LAST-MODIFIED:20250913T182433Z
UID:10000547-1771977600-1772063999@excelnotes.com
SUMMARY:People Power Revolution
DESCRIPTION:The People Power Revolution (or EDSA People Power Revolution Anniversary) in the Philippines was a peaceful uprising that ended the 20-year rule of Ferdinand Marcos\, ousted him from power\, and restored democracy under Corazon Aquino. It remains one of the most significant examples of nonviolent resistance in modern history. \nWhen is the People Power Revolution?\nThe People Power Revolution is celebrated on February 25 every year.  \nThe following is the list of the People Power Revolution from 2020 to 2049. \n   \n\n                \n                \n                            \n                            \n                            \n                    \n        \n\n                                                        HolidayDateWeekday\n\n\n\n        \n            People Power RevolutionFeb 25\, 2020Tuesday        \n            \n            People Power RevolutionFeb 25\, 2021Thursday        \n            \n            People Power RevolutionFeb 25\, 2022Friday        \n            \n            People Power RevolutionFeb 25\, 2023Saturday        \n            \n            People Power RevolutionFeb 25\, 2024Sunday        \n            \n            People Power RevolutionFeb 25\, 2025Tuesday        \n            \n            People Power RevolutionFeb 25\, 2026Wednesday        \n            \n            People Power RevolutionFeb 25\, 2027Thursday        \n            \n            People Power RevolutionFeb 25\, 2028Friday        \n            \n            People Power RevolutionFeb 25\, 2029Sunday        \n            \n            People Power RevolutionFeb 25\, 2030Monday        \n            \n            People Power RevolutionFeb 25\, 2031Tuesday        \n            \n            People Power RevolutionFeb 25\, 2032Wednesday        \n            \n            People Power RevolutionFeb 25\, 2033Friday        \n            \n            People Power RevolutionFeb 25\, 2034Saturday        \n            \n            People Power RevolutionFeb 25\, 2035Sunday        \n            \n            People Power RevolutionFeb 25\, 2036Monday        \n            \n            People Power RevolutionFeb 25\, 2037Wednesday        \n            \n            People Power RevolutionFeb 25\, 2038Thursday        \n            \n            People Power RevolutionFeb 25\, 2039Friday        \n            \n            People Power RevolutionFeb 25\, 2040Saturday        \n            \n            People Power RevolutionFeb 25\, 2041Monday        \n            \n            People Power RevolutionFeb 25\, 2042Tuesday        \n            \n            People Power RevolutionFeb 25\, 2043Wednesday        \n            \n            People Power RevolutionFeb 25\, 2044Thursday        \n            \n            People Power RevolutionFeb 25\, 2045Saturday        \n            \n            People Power RevolutionFeb 25\, 2046Sunday        \n            \n            People Power RevolutionFeb 25\, 2047Monday        \n            \n            People Power RevolutionFeb 25\, 2048Tuesday        \n            \n            People Power RevolutionFeb 25\, 2049Thursday        \n    \n    \n    \n    \n    \n\n\nThe History of the People Power Revolution?\nFerdinand Marcos was elected president of the Philippines in 1965 and re-elected in 1969. In 1972\, he declared martial law\, citing threats of communism and social unrest. This allowed him to rule by decree\, extend his presidency\, and suppress opposition. \nUnder martial law\, there were widespread human rights abuses\, political repression\, censorship\, and corruption. Opposition leader Benigno "Ninoy" Aquino Jr. became a central figure\, even while imprisoned and later exiled. \nIn 1983\, Aquino was assassinated upon his return to Manila\, sparking massive public outrage and intensifying resistance against Marcos. \nBy the mid-1980s\, Marcos faced declining health\, economic crisis\, and growing unrest. He called a snap presidential election for February 7\, 1986\, hoping to legitimize his rule. \nHis main challenger was Corazon "Cory" Aquino\, widow of Ninoy Aquino. The election was marred by massive fraud and intimidation\, with Marcos declaring victory despite widespread evidence that Aquino had won. This triggered widespread protests and became the immediate cause of the revolution. \nFrom Feb 22 to 25\, 1986\, disillusioned military leaders Juan Ponce Enrile (Defense Minister) and Fidel V. Ramos (Armed Forces Vice Chief of Staff) defected from Marcos. Citizens began gathering along Epifanio de los Santos Avenue (EDSA) in Manila to support the defectors.  \nOver the course of four days\, more than two million Filipinos joined in peaceful demonstrations. Soldiers refused to fire on civilians\, and many joined the movement. \nOn February 25\, 1986\, Marcos fled into exile in Hawaii. Corazon Aquino was sworn in as president\, restoring democracy. \nThe People Power Revolution became a global symbol of peaceful resistance against dictatorship. It ended over 20 years of Marcos rule and re-established democratic institutions in the Philippines. \nThe event is commemorated annually on February 25 as the EDSA People Power Revolution Anniversary.
URL:https://excelnotes.com/holiday/people-power-revolution/
CATEGORIES:Historical Holiday
ATTACH;FMTTYPE=image/jpeg:https://excelnotes.com/wp-content/uploads/2025/09/People-Power-Revolution.jpg
END:VEVENT
END:VCALENDAR