BEGIN:VCALENDAR
VERSION:2.0
PRODID:-//ExcelNotes - ECPv6.15.20//NONSGML v1.0//EN
CALSCALE:GREGORIAN
METHOD:PUBLISH
X-ORIGINAL-URL:https://excelnotes.com
X-WR-CALDESC:Events for ExcelNotes
REFRESH-INTERVAL;VALUE=DURATION:PT1H
X-Robots-Tag:noindex
X-PUBLISHED-TTL:PT1H
BEGIN:VTIMEZONE
TZID:America/New_York
BEGIN:DAYLIGHT
TZOFFSETFROM:-0500
TZOFFSETTO:-0400
TZNAME:EDT
DTSTART:20250309T070000
END:DAYLIGHT
BEGIN:STANDARD
TZOFFSETFROM:-0400
TZOFFSETTO:-0500
TZNAME:EST
DTSTART:20251102T060000
END:STANDARD
BEGIN:DAYLIGHT
TZOFFSETFROM:-0500
TZOFFSETTO:-0400
TZNAME:EDT
DTSTART:20260308T070000
END:DAYLIGHT
BEGIN:STANDARD
TZOFFSETFROM:-0400
TZOFFSETTO:-0500
TZNAME:EST
DTSTART:20261101T060000
END:STANDARD
BEGIN:DAYLIGHT
TZOFFSETFROM:-0500
TZOFFSETTO:-0400
TZNAME:EDT
DTSTART:20270314T070000
END:DAYLIGHT
BEGIN:STANDARD
TZOFFSETFROM:-0400
TZOFFSETTO:-0500
TZNAME:EST
DTSTART:20271107T060000
END:STANDARD
END:VTIMEZONE
BEGIN:VEVENT
DTSTART;VALUE=DATE:20260222
DTEND;VALUE=DATE:20260223
DTSTAMP:20260419T145216
CREATED:20250914T034548Z
LAST-MODIFIED:20250914T034548Z
UID:10000561-1771718400-1771804799@excelnotes.com
SUMMARY:Founding Day (Saudi Arabia)
DESCRIPTION:Founding Day in Saudi Arabia honors the year 1727\, when Imam Muhammad bin Saud established the first Saudi state in Diriyah. Declared a holiday in 2022\, it highlights the Kingdom's nearly three centuries of history\, complementing National Day (1932) and deepening the sense of Saudi cultural identity. \nWhen is Founding Day?\nFounding Day in Saudi Arabia is celebrated every year on February 22.  \nThe following is the list of Founding Day from 2020 to 2049. \n   \n\n                \n                \n                            \n                            \n                            \n                    \n        \n\n                                                        HolidayDateWeekday\n\n\n\n        \n            Founding DayFeb 22\, 2020Saturday        \n            \n            Founding DayFeb 22\, 2021Monday        \n            \n            Founding DayFeb 22\, 2022Tuesday        \n            \n            Founding DayFeb 22\, 2023Wednesday        \n            \n            Founding DayFeb 22\, 2024Thursday        \n            \n            Founding DayFeb 22\, 2025Saturday        \n            \n            Founding DayFeb 22\, 2026Sunday        \n            \n            Founding DayFeb 22\, 2027Monday        \n            \n            Founding DayFeb 22\, 2028Tuesday        \n            \n            Founding DayFeb 22\, 2029Thursday        \n            \n            Founding DayFeb 22\, 2030Friday        \n            \n            Founding DayFeb 22\, 2031Saturday        \n            \n            Founding DayFeb 22\, 2032Sunday        \n            \n            Founding DayFeb 22\, 2033Tuesday        \n            \n            Founding DayFeb 22\, 2034Wednesday        \n            \n            Founding DayFeb 22\, 2035Thursday        \n            \n            Founding DayFeb 22\, 2036Friday        \n            \n            Founding DayFeb 22\, 2037Sunday        \n            \n            Founding DayFeb 22\, 2038Monday        \n            \n            Founding DayFeb 22\, 2039Tuesday        \n            \n            Founding DayFeb 22\, 2040Wednesday        \n            \n            Founding DayFeb 22\, 2041Friday        \n            \n            Founding DayFeb 22\, 2042Saturday        \n            \n            Founding DayFeb 22\, 2043Sunday        \n            \n            Founding DayFeb 22\, 2044Monday        \n            \n            Founding DayFeb 22\, 2045Wednesday        \n            \n            Founding DayFeb 22\, 2046Thursday        \n            \n            Founding DayFeb 22\, 2047Friday        \n            \n            Founding DayFeb 22\, 2048Saturday        \n            \n            Founding DayFeb 22\, 2049Monday        \n    \n    \n    \n    \n    \n\n\nThe History of Founding Day?\nFounding Day commemorates the establishment of the first Saudi state in 1727\, when Imam Muhammad bin Saud became ruler of Diriyah\, a small oasis town near modern-day Riyadh. \nUnder his leadership\, Diriyah became a center of unity\, stability\, and governance\, laying the foundations for what would eventually become the Kingdom of Saudi Arabia. This period marked the beginning of a new era in the Arabian Peninsula\, as the Saud family began consolidating territories based on principles of justice\, security\, and Islamic values. \nFirst Saudi State (1727–1818): Founded by Imam Muhammad bin Saud\, expanded across much of the Arabian Peninsula before being defeated by the Ottoman Empire. \nSecond Saudi State (1824–1891): Reestablished in Riyadh by Turki bin Abdullah Al Saud but later fell after internal conflicts. \nModern Saudi State (1902–1932): Founded by King Abdulaziz Al Saud\, who captured Riyadh in 1902 and eventually unified the Kingdom of Saudi Arabia in 1932. \nFor decades\, Saudi Arabia celebrated only National Day (September 23)\, which marks King Abdulaziz's unification of the Kingdom in 1932. \nIn January 2022\, King Salman bin Abdulaziz issued a royal decree establishing February 22 as Founding Day\, to commemorate the beginning of the first Saudi state in 1727. \nThis distinction was introduced to highlight that Saudi Arabia's history extends further back than 1932\, reinforcing the Kingdom's deep roots and enduring legacy.
URL:https://excelnotes.com/holiday/founding-day-saudi-arabia/
CATEGORIES:Historical Holiday
ATTACH;FMTTYPE=image/jpeg:https://excelnotes.com/wp-content/uploads/2025/09/Founding-Day-Saudi-Arabia.jpg
END:VEVENT
END:VCALENDAR