BEGIN:VCALENDAR
VERSION:2.0
PRODID:-//ExcelNotes - ECPv6.15.20//NONSGML v1.0//EN
CALSCALE:GREGORIAN
METHOD:PUBLISH
X-WR-CALNAME:ExcelNotes
X-ORIGINAL-URL:https://excelnotes.com
X-WR-CALDESC:Events for ExcelNotes
REFRESH-INTERVAL;VALUE=DURATION:PT1H
X-Robots-Tag:noindex
X-PUBLISHED-TTL:PT1H
BEGIN:VTIMEZONE
TZID:America/New_York
BEGIN:DAYLIGHT
TZOFFSETFROM:-0500
TZOFFSETTO:-0400
TZNAME:EDT
DTSTART:20250309T070000
END:DAYLIGHT
BEGIN:STANDARD
TZOFFSETFROM:-0400
TZOFFSETTO:-0500
TZNAME:EST
DTSTART:20251102T060000
END:STANDARD
BEGIN:DAYLIGHT
TZOFFSETFROM:-0500
TZOFFSETTO:-0400
TZNAME:EDT
DTSTART:20260308T070000
END:DAYLIGHT
BEGIN:STANDARD
TZOFFSETFROM:-0400
TZOFFSETTO:-0500
TZNAME:EST
DTSTART:20261101T060000
END:STANDARD
BEGIN:DAYLIGHT
TZOFFSETFROM:-0500
TZOFFSETTO:-0400
TZNAME:EDT
DTSTART:20270314T070000
END:DAYLIGHT
BEGIN:STANDARD
TZOFFSETFROM:-0400
TZOFFSETTO:-0500
TZNAME:EST
DTSTART:20271107T060000
END:STANDARD
END:VTIMEZONE
BEGIN:VEVENT
DTSTART;VALUE=DATE:20260218
DTEND;VALUE=DATE:20260219
DTSTAMP:20260419T130618
CREATED:20250709T035112Z
LAST-MODIFIED:20250710T035813Z
UID:10000372-1771372800-1771459199@excelnotes.com
SUMMARY:Independence Day The Gambia
DESCRIPTION:Independence Day in The Gambia commemorates the country's peaceful transition from British colonial rule to becoming a sovereign nation on February 18\, 1965. The day marks a key moment in Gambian history—one of freedom\, political self-determination\, and national pride. \nWhen is Independence Day?\nIndependence Day is celebrated annually on February 18. \nThe following is the list of Independence Day from 2020 to 2049. \n   \n\n                \n                \n                            \n                            \n                            \n                    \n        \n\n                                                        HolidayDateWeekday\n\n\n\n        \n            Independence DayFeb 18\, 2020Tuesday        \n            \n            Independence DayFeb 18\, 2021Thursday        \n            \n            Independence DayFeb 18\, 2022Friday        \n            \n            Independence DayFeb 18\, 2023Saturday        \n            \n            Independence DayFeb 18\, 2024Sunday        \n            \n            Independence DayFeb 18\, 2025Tuesday        \n            \n            Independence DayFeb 18\, 2026Wednesday        \n            \n            Independence DayFeb 18\, 2027Thursday        \n            \n            Independence DayFeb 18\, 2028Friday        \n            \n            Independence DayFeb 18\, 2029Sunday        \n            \n            Independence DayFeb 18\, 2030Monday        \n            \n            Independence DayFeb 18\, 2031Tuesday        \n            \n            Independence DayFeb 18\, 2032Wednesday        \n            \n            Independence DayFeb 18\, 2033Friday        \n            \n            Independence DayFeb 18\, 2034Saturday        \n            \n            Independence DayFeb 18\, 2035Sunday        \n            \n            Independence DayFeb 18\, 2036Monday        \n            \n            Independence DayFeb 18\, 2037Wednesday        \n            \n            Independence DayFeb 18\, 2038Thursday        \n            \n            Independence DayFeb 18\, 2039Friday        \n            \n            Independence DayFeb 18\, 2040Saturday        \n            \n            Independence DayFeb 18\, 2041Monday        \n            \n            Independence DayFeb 18\, 2042Tuesday        \n            \n            Independence DayFeb 18\, 2043Wednesday        \n            \n            Independence DayFeb 18\, 2044Thursday        \n            \n            Independence DayFeb 18\, 2045Saturday        \n            \n            Independence DayFeb 18\, 2046Sunday        \n            \n            Independence DayFeb 18\, 2047Monday        \n            \n            Independence DayFeb 18\, 2048Tuesday        \n            \n            Independence DayFeb 18\, 2049Thursday        \n    \n    \n    \n    \n    \n\n\nThe History of Independence Day?\nThe Gambia became a British colony in 1765. By the late 19th century\, it was part of British West Africa and governed as a Crown Colony and Protectorate. For decades\, Gambians had limited self-governance and were ruled under British administrative systems. \nIn the early 20th century\, local leaders and activists began calling for greater autonomy and national representation. \nIn 1963\, the British government granted The Gambia internal self-government. Dawda Kairaba Jawara became the country's Prime Minister. \nIn July 1964\, a constitutional conference was held at Marlborough House in London between Gambian and British representatives. \nAs a result\, the Gambia Independence Act 1964 was passed by the British Parliament\, setting February 18\, 1965 as the official independence date. On this day\, The Gambia became a constitutional monarchy\, remaining part of the Commonwealth with Queen Elizabeth II as head of state. \nIn 1970\, a national referendum was held to determine whether The Gambia should become a republic. The majority voted yes\, and The Gambia abolished the monarchy\, becoming a republic with Dawda Jawara as its first President.
URL:https://excelnotes.com/holiday/independence-day-the-gambia/
CATEGORIES:Historical Holiday
ATTACH;FMTTYPE=image/jpeg:https://excelnotes.com/wp-content/uploads/2025/07/Independence-Day-The-Gambia.jpg
END:VEVENT
BEGIN:VEVENT
DTSTART;VALUE=DATE:20260218
DTEND;VALUE=DATE:20260219
DTSTAMP:20260419T130618
CREATED:20250913T170031Z
LAST-MODIFIED:20250913T170150Z
UID:10000545-1771372800-1771459199@excelnotes.com
SUMMARY:Armed Forces Day (Sierra Leone)
DESCRIPTION:Armed Forces Day in Sierra Leone honors the Republic of Sierra Leone Armed Forces\, remembering soldiers who died in the civil war and recognizing the military's ongoing role in defending peace and stability. \nWhen is Armed Forces Day?\nArmed Forces Day in Sierra Leone is celebrated every year on February 18.  \nThe following is the list of Armed Forces Day from 2020 to 2049. \n   \n\n                \n                \n                            \n                            \n                            \n                    \n        \n\n                                                        HolidayDateWeekday\n\n\n\n        \n            Armed Forces DayFeb 18\, 2020Tuesday        \n            \n            Armed Forces DayFeb 18\, 2021Thursday        \n            \n            Armed Forces DayFeb 18\, 2022Friday        \n            \n            Armed Forces DayFeb 18\, 2023Saturday        \n            \n            Armed Forces DayFeb 18\, 2024Sunday        \n            \n            Armed Forces DayFeb 18\, 2025Tuesday        \n            \n            Armed Forces DayFeb 18\, 2026Wednesday        \n            \n            Armed Forces DayFeb 18\, 2027Thursday        \n            \n            Armed Forces DayFeb 18\, 2028Friday        \n            \n            Armed Forces DayFeb 18\, 2029Sunday        \n            \n            Armed Forces DayFeb 18\, 2030Monday        \n            \n            Armed Forces DayFeb 18\, 2031Tuesday        \n            \n            Armed Forces DayFeb 18\, 2032Wednesday        \n            \n            Armed Forces DayFeb 18\, 2033Friday        \n            \n            Armed Forces DayFeb 18\, 2034Saturday        \n            \n            Armed Forces DayFeb 18\, 2035Sunday        \n            \n            Armed Forces DayFeb 18\, 2036Monday        \n            \n            Armed Forces DayFeb 18\, 2037Wednesday        \n            \n            Armed Forces DayFeb 18\, 2038Thursday        \n            \n            Armed Forces DayFeb 18\, 2039Friday        \n            \n            Armed Forces DayFeb 18\, 2040Saturday        \n            \n            Armed Forces DayFeb 18\, 2041Monday        \n            \n            Armed Forces DayFeb 18\, 2042Tuesday        \n            \n            Armed Forces DayFeb 18\, 2043Wednesday        \n            \n            Armed Forces DayFeb 18\, 2044Thursday        \n            \n            Armed Forces DayFeb 18\, 2045Saturday        \n            \n            Armed Forces DayFeb 18\, 2046Sunday        \n            \n            Armed Forces DayFeb 18\, 2047Monday        \n            \n            Armed Forces DayFeb 18\, 2048Tuesday        \n            \n            Armed Forces DayFeb 18\, 2049Thursday        \n    \n    \n    \n    \n    \n\n\nThe History of Armed Forces Day?\nSierra Leone endured a brutal civil war from 1991 to 2002\, during which the Republic of Sierra Leone Armed Forces (RSLAF) played a central role in defending the state. \nMany soldiers lost their lives fighting against rebel groups\, particularly the Revolutionary United Front (RUF)\, which was notorious for atrocities against civilians. After the war ended in 2002\, the government sought to formally honor the sacrifices of fallen soldiers and recognize the armed forces' contribution to peace and stability. \nFebruary 18 was chosen as Armed Forces Day to serve as a national day of remembrance for soldiers who died in combat\, especially during the civil war. It also became a day to recognize the ongoing service of the armed forces in protecting Sierra Leone's sovereignty and contributing to peacekeeping missions abroad. \nThe day was officially instituted after the war as part of the country's broader effort to promote healing\, reconciliation\, and national unity. \nArmed Forces Day today has two main purposes: honoring the memory of those who died defending the nation\, and appreciating the bravery and service of current soldiers in maintaining peace and security.
URL:https://excelnotes.com/holiday/armed-forces-day-sierra-leone/
CATEGORIES:Historical Holiday
ATTACH;FMTTYPE=image/jpeg:https://excelnotes.com/wp-content/uploads/2025/09/Armed-Forces-Day-Sierra-Leone.jpg
END:VEVENT
END:VCALENDAR