BEGIN:VCALENDAR
VERSION:2.0
PRODID:-//ExcelNotes - ECPv6.15.20//NONSGML v1.0//EN
CALSCALE:GREGORIAN
METHOD:PUBLISH
X-WR-CALNAME:ExcelNotes
X-ORIGINAL-URL:https://excelnotes.com
X-WR-CALDESC:Events for ExcelNotes
REFRESH-INTERVAL;VALUE=DURATION:PT1H
X-Robots-Tag:noindex
X-PUBLISHED-TTL:PT1H
BEGIN:VTIMEZONE
TZID:America/New_York
BEGIN:DAYLIGHT
TZOFFSETFROM:-0500
TZOFFSETTO:-0400
TZNAME:EDT
DTSTART:20250309T070000
END:DAYLIGHT
BEGIN:STANDARD
TZOFFSETFROM:-0400
TZOFFSETTO:-0500
TZNAME:EST
DTSTART:20251102T060000
END:STANDARD
BEGIN:DAYLIGHT
TZOFFSETFROM:-0500
TZOFFSETTO:-0400
TZNAME:EDT
DTSTART:20260308T070000
END:DAYLIGHT
BEGIN:STANDARD
TZOFFSETFROM:-0400
TZOFFSETTO:-0500
TZNAME:EST
DTSTART:20261101T060000
END:STANDARD
BEGIN:DAYLIGHT
TZOFFSETFROM:-0500
TZOFFSETTO:-0400
TZNAME:EDT
DTSTART:20270314T070000
END:DAYLIGHT
BEGIN:STANDARD
TZOFFSETFROM:-0400
TZOFFSETTO:-0500
TZNAME:EST
DTSTART:20271107T060000
END:STANDARD
END:VTIMEZONE
BEGIN:VEVENT
DTSTART;VALUE=DATE:20260206
DTEND;VALUE=DATE:20260207
DTSTAMP:20260420T000828
CREATED:20250914T162600Z
LAST-MODIFIED:20250914T162600Z
UID:10000566-1770336000-1770422399@excelnotes.com
SUMMARY:Waitangi Day
DESCRIPTION:Waitangi Day commemorates the signing of the Treaty of Waitangi in 1840\, marking the foundation of New Zealand. It is observed with ceremonies\, cultural events\, and reflection on the nation's bicultural identity and history. \nWhen is Waitangi Day?\nWaitangi Day is observed on February 6 every year.  \nThe following is the list of Waitangi Day from 2020 to 2049. \n   \n\n                \n                \n                            \n                            \n                            \n                    \n        \n\n                                                        HolidayDateWeekday\n\n\n\n        \n            Waitangi DayFeb 06\, 2020Thursday        \n            \n            Waitangi DayFeb 06\, 2021Saturday        \n            \n            Waitangi DayFeb 06\, 2022Sunday        \n            \n            Waitangi DayFeb 06\, 2023Monday        \n            \n            Waitangi DayFeb 06\, 2024Tuesday        \n            \n            Waitangi DayFeb 06\, 2025Thursday        \n            \n            Waitangi DayFeb 06\, 2026Friday        \n            \n            Waitangi DayFeb 06\, 2027Saturday        \n            \n            Waitangi DayFeb 06\, 2028Sunday        \n            \n            Waitangi DayFeb 06\, 2029Tuesday        \n            \n            Waitangi DayFeb 06\, 2030Wednesday        \n            \n            Waitangi DayFeb 06\, 2031Thursday        \n            \n            Waitangi DayFeb 06\, 2032Friday        \n            \n            Waitangi DayFeb 06\, 2033Sunday        \n            \n            Waitangi DayFeb 06\, 2034Monday        \n            \n            Waitangi DayFeb 06\, 2035Tuesday        \n            \n            Waitangi DayFeb 06\, 2036Wednesday        \n            \n            Waitangi DayFeb 06\, 2037Friday        \n            \n            Waitangi DayFeb 06\, 2038Saturday        \n            \n            Waitangi DayFeb 06\, 2039Sunday        \n            \n            Waitangi DayFeb 06\, 2040Monday        \n            \n            Waitangi DayFeb 06\, 2041Wednesday        \n            \n            Waitangi DayFeb 06\, 2042Thursday        \n            \n            Waitangi DayFeb 06\, 2043Friday        \n            \n            Waitangi DayFeb 06\, 2044Saturday        \n            \n            Waitangi DayFeb 06\, 2045Monday        \n            \n            Waitangi DayFeb 06\, 2046Tuesday        \n            \n            Waitangi DayFeb 06\, 2047Wednesday        \n            \n            Waitangi DayFeb 06\, 2048Thursday        \n            \n            Waitangi DayFeb 06\, 2049Saturday        \n    \n    \n    \n    \n    \n\n\nThe History of Waitangi Day?\nOn February 6\, 1840\, the Treaty of Waitangi was signed at Waitangi in the Bay of Islands between representatives of the British Crown (led by Captain William Hobson) and more than 40 Māori chiefs. \nThe treaty was intended to establish British sovereignty while guaranteeing Māori ownership of their lands\, forests\, and fisheries\, and granting them the rights of British subjects. \nHowever\, the English and Māori versions differed\, leading to disputes over interpretation—especially concerning sovereignty and governance. Over the years\, breaches of the treaty fueled conflict\, land confiscations\, and mistrust between Māori and the Crown. \nFor decades\, the treaty was largely ignored by colonial authorities\, and February 6 was not widely commemorated.  \nThe first official celebration took place in 1934\, when Governor-General Lord Bledisloe gifted the Treaty House and Waitangi grounds to the nation. This act marked the beginning of formal recognition of Waitangi as a place of national significance. \nIn 1974\, Prime Minister Norman Kirk's government declared Waitangi Day a national public holiday\, recognizing it as New Zealand's founding day. Before this\, New Zealand's national day was often considered to be New Zealand Day\, but the renaming emphasized the importance of the treaty. \nFrom the 1970s onward\, Māori protest movements used Waitangi Day to highlight grievances about breaches of the treaty\, land rights\, and the need for restitution. \nAnnual commemorations at Waitangi often included demonstrations and calls for justice\, making the day both celebratory and contentious. The establishment of the Waitangi Tribunal in 1975 allowed investigation into treaty breaches and gave the treaty greater legal and political weight.
URL:https://excelnotes.com/holiday/waitangi-day/
CATEGORIES:Historical Holiday
ATTACH;FMTTYPE=image/jpeg:https://excelnotes.com/wp-content/uploads/2025/09/Waitangi-Day.jpg
END:VEVENT
END:VCALENDAR