BEGIN:VCALENDAR
VERSION:2.0
PRODID:-//ExcelNotes - ECPv6.15.20//NONSGML v1.0//EN
CALSCALE:GREGORIAN
METHOD:PUBLISH
X-WR-CALNAME:ExcelNotes
X-ORIGINAL-URL:https://excelnotes.com
X-WR-CALDESC:Events for ExcelNotes
REFRESH-INTERVAL;VALUE=DURATION:PT1H
X-Robots-Tag:noindex
X-PUBLISHED-TTL:PT1H
BEGIN:VTIMEZONE
TZID:America/New_York
BEGIN:DAYLIGHT
TZOFFSETFROM:-0500
TZOFFSETTO:-0400
TZNAME:EDT
DTSTART:20250309T070000
END:DAYLIGHT
BEGIN:STANDARD
TZOFFSETFROM:-0400
TZOFFSETTO:-0500
TZNAME:EST
DTSTART:20251102T060000
END:STANDARD
BEGIN:DAYLIGHT
TZOFFSETFROM:-0500
TZOFFSETTO:-0400
TZNAME:EDT
DTSTART:20260308T070000
END:DAYLIGHT
BEGIN:STANDARD
TZOFFSETFROM:-0400
TZOFFSETTO:-0500
TZNAME:EST
DTSTART:20261101T060000
END:STANDARD
BEGIN:DAYLIGHT
TZOFFSETFROM:-0500
TZOFFSETTO:-0400
TZNAME:EDT
DTSTART:20270314T070000
END:DAYLIGHT
BEGIN:STANDARD
TZOFFSETFROM:-0400
TZOFFSETTO:-0500
TZNAME:EST
DTSTART:20271107T060000
END:STANDARD
END:VTIMEZONE
BEGIN:VEVENT
DTSTART;VALUE=DATE:20260204
DTEND;VALUE=DATE:20260205
DTSTAMP:20260419T145027
CREATED:20250822T012236Z
LAST-MODIFIED:20250822T012752Z
UID:10000444-1770163200-1770249599@excelnotes.com
SUMMARY:Independence Day Sri Lanka
DESCRIPTION:Sri Lanka's Independence Day commemorates the island's peaceful independence from Britain in 1948. Marked by flag-raising\, parades\, religious observances\, and cultural events\, it is a celebration of sovereignty and national pride. \nWhen is Independence Day?\nIndependence Day is observed on February 4 every year. \nThe following is the list of Independence Day from 2020 to 2049. \n   \n\n                \n                \n                            \n                            \n                            \n                    \n        \n\n                                                        HolidayDateWeekday\n\n\n\n        \n            Independence DayFeb 04\, 2020Tuesday        \n            \n            Independence DayFeb 04\, 2021Thursday        \n            \n            Independence DayFeb 04\, 2022Friday        \n            \n            Independence DayFeb 04\, 2023Saturday        \n            \n            Independence DayFeb 04\, 2024Sunday        \n            \n            Independence DayFeb 04\, 2025Tuesday        \n            \n            Independence DayFeb 04\, 2026Wednesday        \n            \n            Independence DayFeb 04\, 2027Thursday        \n            \n            Independence DayFeb 04\, 2028Friday        \n            \n            Independence DayFeb 04\, 2029Sunday        \n            \n            Independence DayFeb 04\, 2030Monday        \n            \n            Independence DayFeb 04\, 2031Tuesday        \n            \n            Independence DayFeb 04\, 2032Wednesday        \n            \n            Independence DayFeb 04\, 2033Friday        \n            \n            Independence DayFeb 04\, 2034Saturday        \n            \n            Independence DayFeb 04\, 2035Sunday        \n            \n            Independence DayFeb 04\, 2036Monday        \n            \n            Independence DayFeb 04\, 2037Wednesday        \n            \n            Independence DayFeb 04\, 2038Thursday        \n            \n            Independence DayFeb 04\, 2039Friday        \n            \n            Independence DayFeb 04\, 2040Saturday        \n            \n            Independence DayFeb 04\, 2041Monday        \n            \n            Independence DayFeb 04\, 2042Tuesday        \n            \n            Independence DayFeb 04\, 2043Wednesday        \n            \n            Independence DayFeb 04\, 2044Thursday        \n            \n            Independence DayFeb 04\, 2045Saturday        \n            \n            Independence DayFeb 04\, 2046Sunday        \n            \n            Independence DayFeb 04\, 2047Monday        \n            \n            Independence DayFeb 04\, 2048Tuesday        \n            \n            Independence DayFeb 04\, 2049Thursday        \n    \n    \n    \n    \n    \n\n\nThe History of Independence Day?\nFrom 1505 to 1658\, the Portuguese first established control over coastal areas\, influencing trade and religion. \nThe Dutch replaced the Portuguese from 1658 to 1796\, ruling key coastal territories\, while the central Kandyan Kingdom remained independent. \nThe British took over in 1796. In 1815\, the Kandyan Kingdom was ceded\, bringing the entire island under British rule for the first time until 1948. Under the British\, the island was renamed Ceylon\, and plantations of tea\, coffee\, and rubber reshaped the economy. \nBy the early 20th century\, Sri Lankans (Ceylonese) began demanding reforms. Movements for greater political participation and representation gained strength. \nIn 1931\, Ceylon received universal suffrage under the Donoughmore Constitution\, one of the first Asian countries to grant this right. \nAfter World War II\, the global wave of decolonization strengthened independence movements. In 1947\, the British Parliament passed the Ceylon Independence Act. \nOn February 4\, 1948\, Ceylon officially became a self-governing Dominion within the British Commonwealth. Don Stephen Senanayake became the first Prime Minister. \nIn 1972\, Ceylon became a republic\, officially adopting the name Sri Lanka.
URL:https://excelnotes.com/holiday/independence-day-sri-lanka/
CATEGORIES:Historical Holiday
ATTACH;FMTTYPE=image/jpeg:https://excelnotes.com/wp-content/uploads/2025/08/Independence-Day-Sri-Lanka.jpg
END:VEVENT
END:VCALENDAR