BEGIN:VCALENDAR
VERSION:2.0
PRODID:-//ExcelNotes - ECPv6.15.20//NONSGML v1.0//EN
CALSCALE:GREGORIAN
METHOD:PUBLISH
X-ORIGINAL-URL:https://excelnotes.com
X-WR-CALDESC:Events for ExcelNotes
REFRESH-INTERVAL;VALUE=DURATION:PT1H
X-Robots-Tag:noindex
X-PUBLISHED-TTL:PT1H
BEGIN:VTIMEZONE
TZID:America/New_York
BEGIN:DAYLIGHT
TZOFFSETFROM:-0500
TZOFFSETTO:-0400
TZNAME:EDT
DTSTART:20250309T070000
END:DAYLIGHT
BEGIN:STANDARD
TZOFFSETFROM:-0400
TZOFFSETTO:-0500
TZNAME:EST
DTSTART:20251102T060000
END:STANDARD
BEGIN:DAYLIGHT
TZOFFSETFROM:-0500
TZOFFSETTO:-0400
TZNAME:EDT
DTSTART:20260308T070000
END:DAYLIGHT
BEGIN:STANDARD
TZOFFSETFROM:-0400
TZOFFSETTO:-0500
TZNAME:EST
DTSTART:20261101T060000
END:STANDARD
BEGIN:DAYLIGHT
TZOFFSETFROM:-0500
TZOFFSETTO:-0400
TZNAME:EDT
DTSTART:20270314T070000
END:DAYLIGHT
BEGIN:STANDARD
TZOFFSETFROM:-0400
TZOFFSETTO:-0500
TZNAME:EST
DTSTART:20271107T060000
END:STANDARD
END:VTIMEZONE
BEGIN:VEVENT
DTSTART;VALUE=DATE:20260202
DTEND;VALUE=DATE:20260203
DTSTAMP:20260420T001214
CREATED:20250915T041218Z
LAST-MODIFIED:20250915T041218Z
UID:10000575-1769990400-1770076799@excelnotes.com
SUMMARY:Nelson Anniversary Day
DESCRIPTION:Nelson Anniversary Day commemorates the arrival of the first New Zealand Company settlers on February 1\, 1842\, aboard the Fifeshire. Today\, it is used mainly for leisure and summer celebrations. \nWhen is Nelson Anniversary Day?\nNelson Anniversary Day is observed on the Monday closest to February 1.  \nThe following is the list of Nelson Anniversary Day from 2020 to 2049. \n   \n\n                \n                \n                            \n                            \n                            \n                    \n        \n\n                                                        HolidayDateWeekday\n\n\n\n        \n            Nelson Anniversary DayFeb 03\, 2020Monday        \n            \n            Nelson Anniversary DayFeb 01\, 2021Monday        \n            \n            Nelson Anniversary DayJan 31\, 2022Monday        \n            \n            Nelson Anniversary DayJan 30\, 2023Monday        \n            \n            Nelson Anniversary DayJan 29\, 2024Monday        \n            \n            Nelson Anniversary DayFeb 03\, 2025Monday        \n            \n            Nelson Anniversary DayFeb 02\, 2026Monday        \n            \n            Nelson Anniversary DayFeb 01\, 2027Monday        \n            \n            Nelson Anniversary DayJan 31\, 2028Monday        \n            \n            Nelson Anniversary DayJan 29\, 2029Monday        \n            \n            Nelson Anniversary DayFeb 04\, 2030Monday        \n            \n            Nelson Anniversary DayFeb 03\, 2031Monday        \n            \n            Nelson Anniversary DayFeb 02\, 2032Monday        \n            \n            Nelson Anniversary DayJan 31\, 2033Monday        \n            \n            Nelson Anniversary DayJan 30\, 2034Monday        \n            \n            Nelson Anniversary DayJan 29\, 2035Monday        \n            \n            Nelson Anniversary DayFeb 04\, 2036Monday        \n            \n            Nelson Anniversary DayFeb 02\, 2037Monday        \n            \n            Nelson Anniversary DayFeb 01\, 2038Monday        \n            \n            Nelson Anniversary DayJan 31\, 2039Monday        \n            \n            Nelson Anniversary DayJan 30\, 2040Monday        \n            \n            Nelson Anniversary DayFeb 04\, 2041Monday        \n            \n            Nelson Anniversary DayFeb 03\, 2042Monday        \n            \n            Nelson Anniversary DayFeb 02\, 2043Monday        \n            \n            Nelson Anniversary DayFeb 01\, 2044Monday        \n            \n            Nelson Anniversary DayJan 30\, 2045Monday        \n            \n            Nelson Anniversary DayJan 29\, 2046Monday        \n            \n            Nelson Anniversary DayFeb 04\, 2047Monday        \n            \n            Nelson Anniversary DayFeb 03\, 2048Monday        \n            \n            Nelson Anniversary DayFeb 01\, 2049Monday        \n    \n    \n    \n    \n    \n\n\nThe History of Nelson Anniversary Day?\nOn February 1\, 1842\, the immigrant ship Fifeshire arrived at Nelson Harbour (Port Nelson) carrying about 350 settlers from England. Organized by the New Zealand Company\, this was the first major wave of planned European settlement in the Nelson region. \nThe arrival of the Fifeshire marked the official beginning of the Nelson settlement\, making it one of the earliest organized European communities in New Zealand. \nUnder the New Zealand Constitution Act 1852\, Nelson became one of the original six provinces of New Zealand. Each province established an Anniversary Day to commemorate its founding or first European settlement. \nFor Nelson\, February 1 was chosen\, in honor of the Fifeshire's arrival in 1842. During the provincial period (1853–1876)\, Anniversary Days were important occasions for parades\, community events\, and civic pride. \nIn 1876\, New Zealand abolished its provincial governments\, replacing them with a centralized government and local councils. \nDespite this\, the tradition of provincial anniversary days was retained as regional public holidays\, giving areas like Nelson a continuing sense of identity and history. \nNelson Anniversary Day continues to be tied to February 1\, but the public holiday is observed on the Monday closest to that date. Today\, the day is more about leisure and community gatherings rather than large formal celebrations.
URL:https://excelnotes.com/holiday/nelson-anniversary-day/
CATEGORIES:Historical Holiday
ATTACH;FMTTYPE=image/jpeg:https://excelnotes.com/wp-content/uploads/2025/09/Nelson-Anniversary-Day.jpg
END:VEVENT
BEGIN:VEVENT
DTSTART;VALUE=DATE:20260202
DTEND;VALUE=DATE:20260203
DTSTAMP:20260420T001215
CREATED:20251006T040908Z
LAST-MODIFIED:20251006T040908Z
UID:10000666-1769990400-1770076799@excelnotes.com
SUMMARY:Constitution Day (Mexico)
DESCRIPTION:Constitution Day in Mexico is to commemorate the promulgation of the Mexican Constitution of 1917. This landmark document\, created during the Mexican Revolution\, established social\, labor and land reforms\, shaping modern Mexico's democratic and legal foundation. The holiday honors the nation's commitment to justice\, equality and sovereignty. \nWhen is Constitution Day?\nConstitution Day in Mexico is celebrated on the first Monday in February.  \nThe following is the list of Constitution Day from 2020 to 2049. \n   \n\n                \n                \n                            \n                            \n                            \n                    \n        \n\n                                                        HolidayDateWeekday\n\n\n\n        \n            Constitution DayFeb 03\, 2020Monday        \n            \n            Constitution DayFeb 01\, 2021Monday        \n            \n            Constitution DayFeb 07\, 2022Monday        \n            \n            Constitution DayFeb 06\, 2023Monday        \n            \n            Constitution DayFeb 05\, 2024Monday        \n            \n            Constitution DayFeb 03\, 2025Monday        \n            \n            Constitution DayFeb 02\, 2026Monday        \n            \n            Constitution DayFeb 01\, 2027Monday        \n            \n            Constitution DayFeb 07\, 2028Monday        \n            \n            Constitution DayFeb 05\, 2029Monday        \n            \n            Constitution DayFeb 04\, 2030Monday        \n            \n            Constitution DayFeb 03\, 2031Monday        \n            \n            Constitution DayFeb 02\, 2032Monday        \n            \n            Constitution DayFeb 07\, 2033Monday        \n            \n            Constitution DayFeb 06\, 2034Monday        \n            \n            Constitution DayFeb 05\, 2035Monday        \n            \n            Constitution DayFeb 04\, 2036Monday        \n            \n            Constitution DayFeb 02\, 2037Monday        \n            \n            Constitution DayFeb 01\, 2038Monday        \n            \n            Constitution DayFeb 07\, 2039Monday        \n            \n            Constitution DayFeb 06\, 2040Monday        \n            \n            Constitution DayFeb 04\, 2041Monday        \n            \n            Constitution DayFeb 03\, 2042Monday        \n            \n            Constitution DayFeb 02\, 2043Monday        \n            \n            Constitution DayFeb 01\, 2044Monday        \n            \n            Constitution DayFeb 06\, 2045Monday        \n            \n            Constitution DayFeb 05\, 2046Monday        \n            \n            Constitution DayFeb 04\, 2047Monday        \n            \n            Constitution DayFeb 03\, 2048Monday        \n            \n            Constitution DayFeb 01\, 2049Monday        \n    \n    \n    \n    \n    \n\n\nThe History of Constitution Day?\nIn the early 20th century\, Mexico was undergoing profound social and political upheaval. The Mexican Revolution (1910–1920) began as a struggle against the long dictatorship of Porfirio Díaz\, whose regime favored the wealthy elite and foreign investors while oppressing peasants and workers. Revolutionary leaders called for democratic change\, land reform\, and labor rights. As the revolution unfolded\, the need for a new constitution became central to uniting the country. \nA constitutional convention was convened in Querétaro in December 1916. After intense debate\, the new Mexican Constitution was promulgated on February 5\, 1917. It replaced the earlier Constitution of 1857\, which had been liberal but failed to address social inequality and workers' rights. The 1917 Constitution was groundbreaking for its time\, influencing future constitutions around the world. \nFebruary 5 was declared Constitution Day to commemorate the promulgation of the 1917 Constitution in Querétaro. It became a national public holiday\, honoring both the document and the ideals of the revolution — liberty\, equality and justice. \nIn 2006\, Mexico's federal government adjusted the observance under the Federal Labor Law\, moving the public holiday to the first Monday in February to create a long weekend. This change allowed more citizens to rest and travel while still honoring the Constitution's importance. \nToday\, the 1917 Constitution remains the foundation of Mexican law and governance\, though it has been amended over 700 times to adapt to modern challenges.
URL:https://excelnotes.com/holiday/constitution-day-mexico/
CATEGORIES:Historical Holiday
ATTACH;FMTTYPE=image/jpeg:https://excelnotes.com/wp-content/uploads/2025/10/Constitution-Day-Mexico.jpg
END:VEVENT
END:VCALENDAR