BEGIN:VCALENDAR
VERSION:2.0
PRODID:-//ExcelNotes - ECPv6.15.20//NONSGML v1.0//EN
CALSCALE:GREGORIAN
METHOD:PUBLISH
X-WR-CALNAME:ExcelNotes
X-ORIGINAL-URL:https://excelnotes.com
X-WR-CALDESC:Events for ExcelNotes
REFRESH-INTERVAL;VALUE=DURATION:PT1H
X-Robots-Tag:noindex
X-PUBLISHED-TTL:PT1H
BEGIN:VTIMEZONE
TZID:America/New_York
BEGIN:DAYLIGHT
TZOFFSETFROM:-0500
TZOFFSETTO:-0400
TZNAME:EDT
DTSTART:20250309T070000
END:DAYLIGHT
BEGIN:STANDARD
TZOFFSETFROM:-0400
TZOFFSETTO:-0500
TZNAME:EST
DTSTART:20251102T060000
END:STANDARD
BEGIN:DAYLIGHT
TZOFFSETFROM:-0500
TZOFFSETTO:-0400
TZNAME:EDT
DTSTART:20260308T070000
END:DAYLIGHT
BEGIN:STANDARD
TZOFFSETFROM:-0400
TZOFFSETTO:-0500
TZNAME:EST
DTSTART:20261101T060000
END:STANDARD
BEGIN:DAYLIGHT
TZOFFSETFROM:-0500
TZOFFSETTO:-0400
TZNAME:EDT
DTSTART:20270314T070000
END:DAYLIGHT
BEGIN:STANDARD
TZOFFSETFROM:-0400
TZOFFSETTO:-0500
TZNAME:EST
DTSTART:20271107T060000
END:STANDARD
END:VTIMEZONE
BEGIN:VEVENT
DTSTART;VALUE=DATE:20260112
DTEND;VALUE=DATE:20260113
DTSTAMP:20260419T192708
CREATED:20251014T042543Z
LAST-MODIFIED:20251014T042543Z
UID:10000714-1768176000-1768262399@excelnotes.com
SUMMARY:Coming of Age Day
DESCRIPTION:Coming of Age Day\, or Seijin no Hi\, honors young people who have reached the age of 20\, symbolizing their transition into adulthood with new rights and responsibilities. The day is marked by formal ceremonies at local government offices\, where participants celebrate with family and friends. It's a time of pride\, reflection and hope for the future. \nWhen is Coming of Age Day?\nComing of Age Day in Japan is celebrated on the second Monday of January each year. \nThe following is the list of Coming of Age Day from 2020 to 2049. \n   \n\n                \n                \n                            \n                            \n                            \n                    \n        \n\n                                                        HolidayDateWeekday\n\n\n\n        \n            Coming of Age DayJan 13\, 2020Monday        \n            \n            Coming of Age DayJan 11\, 2021Monday        \n            \n            Coming of Age DayJan 10\, 2022Monday        \n            \n            Coming of Age DayJan 09\, 2023Monday        \n            \n            Coming of Age DayJan 08\, 2024Monday        \n            \n            Coming of Age DayJan 13\, 2025Monday        \n            \n            Coming of Age DayJan 12\, 2026Monday        \n            \n            Coming of Age DayJan 11\, 2027Monday        \n            \n            Coming of Age DayJan 10\, 2028Monday        \n            \n            Coming of Age DayJan 08\, 2029Monday        \n            \n            Coming of Age DayJan 14\, 2030Monday        \n            \n            Coming of Age DayJan 13\, 2031Monday        \n            \n            Coming of Age DayJan 12\, 2032Monday        \n            \n            Coming of Age DayJan 10\, 2033Monday        \n            \n            Coming of Age DayJan 09\, 2034Monday        \n            \n            Coming of Age DayJan 08\, 2035Monday        \n            \n            Coming of Age DayJan 14\, 2036Monday        \n            \n            Coming of Age DayJan 12\, 2037Monday        \n            \n            Coming of Age DayJan 11\, 2038Monday        \n            \n            Coming of Age DayJan 10\, 2039Monday        \n            \n            Coming of Age DayJan 09\, 2040Monday        \n            \n            Coming of Age DayJan 14\, 2041Monday        \n            \n            Coming of Age DayJan 13\, 2042Monday        \n            \n            Coming of Age DayJan 12\, 2043Monday        \n            \n            Coming of Age DayJan 11\, 2044Monday        \n            \n            Coming of Age DayJan 09\, 2045Monday        \n            \n            Coming of Age DayJan 08\, 2046Monday        \n            \n            Coming of Age DayJan 14\, 2047Monday        \n            \n            Coming of Age DayJan 13\, 2048Monday        \n            \n            Coming of Age DayJan 11\, 2049Monday        \n    \n    \n    \n    \n    \n\n\nThe History of Coming of Age Day?\nComing of Age Day\, or Seijin no Hi (成人の日)\, has deep cultural roots in Japan\, celebrating the transition of young people into adulthood at the age of 20. The tradition traces back to ancient rituals of the Nara Period (710–794)\, when young nobles participated in coming-of-age ceremonies known as Genpuku (for boys) and Mogi (for girls). These ceremonies marked the individual's readiness to take on adult roles and responsibilities in society. \nThe modern Seijin no Hi was first officially celebrated in 1948\, shortly after World War II\, when the Japanese government established it as a national holiday to recognize young citizens entering adulthood. The first celebration took place in Saitama Prefecture to encourage postwar youth to embrace a sense of hope and responsibility. \nOriginally held on January 15\, the date was moved in 2000 to the second Monday of January under Japan's "Happy Monday System"\, which was designed to create more three-day weekends. \nToday\, Coming of Age Day remains one of Japan's most symbolic and picturesque holidays. Young adults gather at local government ceremonies dressed in formal attire celebrating their independence\, civic duty and new chapter in life.
URL:https://excelnotes.com/holiday/coming-of-age-day/
CATEGORIES:Historical Holiday
ATTACH;FMTTYPE=image/jpeg:https://excelnotes.com/wp-content/uploads/2025/10/Coming-of-Age-Day.jpg
END:VEVENT
END:VCALENDAR