BEGIN:VCALENDAR
VERSION:2.0
PRODID:-//ExcelNotes - ECPv6.15.20//NONSGML v1.0//EN
CALSCALE:GREGORIAN
METHOD:PUBLISH
X-WR-CALNAME:ExcelNotes
X-ORIGINAL-URL:https://excelnotes.com
X-WR-CALDESC:Events for ExcelNotes
REFRESH-INTERVAL;VALUE=DURATION:PT1H
X-Robots-Tag:noindex
X-PUBLISHED-TTL:PT1H
BEGIN:VTIMEZONE
TZID:America/New_York
BEGIN:DAYLIGHT
TZOFFSETFROM:-0500
TZOFFSETTO:-0400
TZNAME:EDT
DTSTART:20250309T070000
END:DAYLIGHT
BEGIN:STANDARD
TZOFFSETFROM:-0400
TZOFFSETTO:-0500
TZNAME:EST
DTSTART:20251102T060000
END:STANDARD
BEGIN:DAYLIGHT
TZOFFSETFROM:-0500
TZOFFSETTO:-0400
TZNAME:EDT
DTSTART:20260308T070000
END:DAYLIGHT
BEGIN:STANDARD
TZOFFSETFROM:-0400
TZOFFSETTO:-0500
TZNAME:EST
DTSTART:20261101T060000
END:STANDARD
BEGIN:DAYLIGHT
TZOFFSETFROM:-0500
TZOFFSETTO:-0400
TZNAME:EDT
DTSTART:20270314T070000
END:DAYLIGHT
BEGIN:STANDARD
TZOFFSETFROM:-0400
TZOFFSETTO:-0500
TZNAME:EST
DTSTART:20271107T060000
END:STANDARD
END:VTIMEZONE
BEGIN:VEVENT
DTSTART;VALUE=DATE:20260110
DTEND;VALUE=DATE:20260111
DTSTAMP:20260419T210155
CREATED:20250709T230432Z
LAST-MODIFIED:20250714T034127Z
UID:10000375-1768003200-1768089599@excelnotes.com
SUMMARY:Majority Rule Day
DESCRIPTION:Majority Rule Day is a national public holiday in The Bahamas\, and it marks a turning point in Bahamian history when\, for the first time\, the government reflected the will and voice of the majority Black population. \nWhen is Majority Rule Day?\nMajority Rule Day is celebrated annually on January 10. \nThe following is the list of Majority Rule Day from 2020 to 2049. \n   \n\n                \n                \n                            \n                            \n                            \n                    \n        \n\n                                                        HolidayDateWeekday\n\n\n\n        \n            Majority Rule DayJan 10\, 2020Friday        \n            \n            Majority Rule DayJan 10\, 2021Sunday        \n            \n            Majority Rule DayJan 10\, 2022Monday        \n            \n            Majority Rule DayJan 10\, 2023Tuesday        \n            \n            Majority Rule DayJan 10\, 2024Wednesday        \n            \n            Majority Rule DayJan 10\, 2025Friday        \n            \n            Majority Rule DayJan 10\, 2026Saturday        \n            \n            Majority Rule DayJan 10\, 2027Sunday        \n            \n            Majority Rule DayJan 10\, 2028Monday        \n            \n            Majority Rule DayJan 10\, 2029Wednesday        \n            \n            Majority Rule DayJan 10\, 2030Thursday        \n            \n            Majority Rule DayJan 10\, 2031Friday        \n            \n            Majority Rule DayJan 10\, 2032Saturday        \n            \n            Majority Rule DayJan 10\, 2033Monday        \n            \n            Majority Rule DayJan 10\, 2034Tuesday        \n            \n            Majority Rule DayJan 10\, 2035Wednesday        \n            \n            Majority Rule DayJan 10\, 2036Thursday        \n            \n            Majority Rule DayJan 10\, 2037Saturday        \n            \n            Majority Rule DayJan 10\, 2038Sunday        \n            \n            Majority Rule DayJan 10\, 2039Monday        \n            \n            Majority Rule DayJan 10\, 2040Tuesday        \n            \n            Majority Rule DayJan 10\, 2041Thursday        \n            \n            Majority Rule DayJan 10\, 2042Friday        \n            \n            Majority Rule DayJan 10\, 2043Saturday        \n            \n            Majority Rule DayJan 10\, 2044Sunday        \n            \n            Majority Rule DayJan 10\, 2045Tuesday        \n            \n            Majority Rule DayJan 10\, 2046Wednesday        \n            \n            Majority Rule DayJan 10\, 2047Thursday        \n            \n            Majority Rule DayJan 10\, 2048Friday        \n            \n            Majority Rule DayJan 10\, 2049Sunday        \n    \n    \n    \n    \n    \n\n\nThe History of Majority Rule Day?\nBefore 1967\, political power in The Bahamas was held almost exclusively by a wealthy white merchant class known as the "Bay Street Boys". Although Black Bahamians made up the vast majority of the population. \nIn the 1950s and early 1960s\, the rise of the Progressive Liberal Party (PLP) began to challenge the status quo. The PLP aimed to promote civil rights and full political participation for all Bahamians. \nOn January 10\, 1967\, a tightly contested general election resulted in a tie: 18 seats for the ruling United Bahamian Party (UBP) and 18 seats for the opposition Progressive Liberal Party (PLP). \nThe deadlock was broken when independent Alvin Braynen and Labour leader Randol Fawkes threw their support behind the PLP. This gave the PLP a slim majority of 20 to 18\, allowing them to form the first government led by representatives of the Black majority. \nIn 2014\, following public pressure to officially recognize the day's importance in the nation's civil rights and democratic development\, Majority Rule Day was only declared a national holiday.
URL:https://excelnotes.com/holiday/majority-rule-day/
CATEGORIES:Historical Holiday
ATTACH;FMTTYPE=image/jpeg:https://excelnotes.com/wp-content/uploads/2025/07/Majority-Rule-Day.jpg
END:VEVENT
END:VCALENDAR