BEGIN:VCALENDAR
VERSION:2.0
PRODID:-//ExcelNotes - ECPv6.15.20//NONSGML v1.0//EN
CALSCALE:GREGORIAN
METHOD:PUBLISH
X-ORIGINAL-URL:https://excelnotes.com
X-WR-CALDESC:Events for ExcelNotes
REFRESH-INTERVAL;VALUE=DURATION:PT1H
X-Robots-Tag:noindex
X-PUBLISHED-TTL:PT1H
BEGIN:VTIMEZONE
TZID:America/New_York
BEGIN:DAYLIGHT
TZOFFSETFROM:-0500
TZOFFSETTO:-0400
TZNAME:EDT
DTSTART:20250309T070000
END:DAYLIGHT
BEGIN:STANDARD
TZOFFSETFROM:-0400
TZOFFSETTO:-0500
TZNAME:EST
DTSTART:20251102T060000
END:STANDARD
BEGIN:DAYLIGHT
TZOFFSETFROM:-0500
TZOFFSETTO:-0400
TZNAME:EDT
DTSTART:20260308T070000
END:DAYLIGHT
BEGIN:STANDARD
TZOFFSETFROM:-0400
TZOFFSETTO:-0500
TZNAME:EST
DTSTART:20261101T060000
END:STANDARD
BEGIN:DAYLIGHT
TZOFFSETFROM:-0500
TZOFFSETTO:-0400
TZNAME:EDT
DTSTART:20270314T070000
END:DAYLIGHT
BEGIN:STANDARD
TZOFFSETFROM:-0400
TZOFFSETTO:-0500
TZNAME:EST
DTSTART:20271107T060000
END:STANDARD
END:VTIMEZONE
BEGIN:VEVENT
DTSTART;VALUE=DATE:20260101
DTEND;VALUE=DATE:20260102
DTSTAMP:20260420T131815
CREATED:20250717T171302Z
LAST-MODIFIED:20250801T045003Z
UID:10000408-1767225600-1767311999@excelnotes.com
SUMMARY:Republic Day Taiwan
DESCRIPTION:Even though most of the world recognizes the People's Republic of China as "China"\, Taiwan\, officially the Republic of China\, continues to celebrate January 1 as Republic Day\, marking the official founding day of the Republic of China (ROC) in 1911. \nWhen is Republic Day?\nRepublic Day is celebrated on January 1 every year. \nThe following is the list of Republic Day from 2020 to 2039. \n   \n\n                \n                \n                            \n                            \n                            \n                    \n        \n\n                                                        HolidayDateWeekday\n\n\n\n        \n            Republic DayJan 01\, 2020Wednesday        \n            \n            Republic DayJan 01\, 2021Friday        \n            \n            Republic DayJan 01\, 2022Saturday        \n            \n            Republic DayJan 01\, 2023Sunday        \n            \n            Republic DayJan 01\, 2024Monday        \n            \n            Republic DayJan 01\, 2025Wednesday        \n            \n            Republic DayJan 01\, 2026Thursday        \n            \n            Republic DayJan 01\, 2027Friday        \n            \n            Republic DayJan 01\, 2028Saturday        \n            \n            Republic DayJan 01\, 2029Monday        \n            \n            Republic DayJan 01\, 2030Tuesday        \n            \n            Republic DayJan 01\, 2031Wednesday        \n            \n            Republic DayJan 01\, 2032Thursday        \n            \n            Republic DayJan 01\, 2033Saturday        \n            \n            Republic DayJan 01\, 2034Sunday        \n            \n            Republic DayJan 01\, 2035Monday        \n            \n            Republic DayJan 01\, 2036Tuesday        \n            \n            Republic DayJan 01\, 2037Thursday        \n            \n            Republic DayJan 01\, 2038Friday        \n            \n            Republic DayJan 01\, 2039Saturday        \n            \n            Republic DayJan 01\, 2040Sunday        \n            \n            Republic DayJan 01\, 2041Tuesday        \n            \n            Republic DayJan 01\, 2042Wednesday        \n            \n            Republic DayJan 01\, 2043Thursday        \n            \n            Republic DayJan 01\, 2044Friday        \n            \n            Republic DayJan 01\, 2045Sunday        \n            \n            Republic DayJan 01\, 2046Monday        \n            \n            Republic DayJan 01\, 2047Tuesday        \n            \n            Republic DayJan 01\, 2048Wednesday        \n            \n            Republic DayJan 01\, 2049Friday        \n    \n    \n    \n    \n    \n\n\nThe History of Republic Day?\nAfter the Wuchang Uprising on October 10\, 1911\, which began the Xinhai Revolution\, the Qing Dynasty quickly lost control. \nOn January 1\, 1912\, the Republic of China (ROC) was formally proclaimed in Nanjing\, replacing over 2\,000 years of imperial rule. Dr. Sun Yat-sen was inaugurated as the provisional president of the ROC. This event marked the creation of the first democratic republic in Asia\, founded on the principles of nationalism and the people's livelihood. \nAfter the Chinese Civil War\, the ROC government retreated to Taiwan in 1949. \nWhile the ROC lost control of mainland China to the People's Republic of China (PRC)\, it continued to operate in Taiwan under its original constitution\, national symbols and calendar. The government in Taiwan still officially regards January 1\, 1912 as the founding day of the nation\, the beginning of the ROC's existence.
URL:https://excelnotes.com/holiday/republic-day-taiwan/
CATEGORIES:Historical Holiday
ATTACH;FMTTYPE=image/jpeg:https://excelnotes.com/wp-content/uploads/2025/07/Republic-Day-Taiwan.jpg
END:VEVENT
BEGIN:VEVENT
DTSTART;VALUE=DATE:20260101
DTEND;VALUE=DATE:20260102
DTSTAMP:20260420T131815
CREATED:20250821T030550Z
LAST-MODIFIED:20250821T033205Z
UID:10000441-1767225600-1767311999@excelnotes.com
SUMMARY:Independence Day Sudan
DESCRIPTION:Sudan's Independence Day commemorates the country's liberation from British-Egyptian rule in 1956. Marked by parades\, flag-raising ceremonies and cultural events\, the holiday reflects national pride and the enduring hope for unity and stability. \nWhen is Independence Day?\nIndependence Day is celebrated on January 1 each year. \nThe following is the list of Independence Day from 2020 to 2049. \n   \n\n                \n                \n                            \n                            \n                            \n                    \n        \n\n                                                        HolidayDateWeekday\n\n\n\n        \n            Independence DayJan 01\, 2020Wednesday        \n            \n            Independence DayJan 01\, 2021Friday        \n            \n            Independence DayJan 01\, 2022Saturday        \n            \n            Independence DayJan 01\, 2023Sunday        \n            \n            Independence DayJan 01\, 2024Monday        \n            \n            Independence DayJan 01\, 2025Wednesday        \n            \n            Independence DayJan 01\, 2026Thursday        \n            \n            Independence DayJan 01\, 2027Friday        \n            \n            Independence DayJan 01\, 2028Saturday        \n            \n            Independence DayJan 01\, 2029Monday        \n            \n            Independence DayJan 01\, 2030Tuesday        \n            \n            Independence DayJan 01\, 2031Wednesday        \n            \n            Independence DayJan 01\, 2032Thursday        \n            \n            Independence DayJan 01\, 2033Saturday        \n            \n            Independence DayJan 01\, 2034Sunday        \n            \n            Independence DayJan 01\, 2035Monday        \n            \n            Independence DayJan 01\, 2036Tuesday        \n            \n            Independence DayJan 01\, 2037Thursday        \n            \n            Independence DayJan 01\, 2038Friday        \n            \n            Independence DayJan 01\, 2039Saturday        \n            \n            Independence DayJan 01\, 2040Sunday        \n            \n            Independence DayJan 01\, 2041Tuesday        \n            \n            Independence DayJan 01\, 2042Wednesday        \n            \n            Independence DayJan 01\, 2043Thursday        \n            \n            Independence DayJan 01\, 2044Friday        \n            \n            Independence DayJan 01\, 2045Sunday        \n            \n            Independence DayJan 01\, 2046Monday        \n            \n            Independence DayJan 01\, 2047Tuesday        \n            \n            Independence DayJan 01\, 2048Wednesday        \n            \n            Independence DayJan 01\, 2049Friday        \n    \n    \n    \n    \n    \n\n\nThe History of Independence Day?\nIn 1899\, Sudan was placed under the Anglo-Egyptian Condominium\, a unique arrangement in which Britain and Egypt jointly ruled Sudan. In reality\, Britain dominated political authority\, while Egypt maintained symbolic involvement. \nDuring this period\, Sudanese resources and land were controlled by foreign powers\, and political participation for Sudanese people was minimal. \nBy the 1940s and 1950s\, strong Sudanese nationalist movements emerged. Two main political factions developed: the National Unionist Party (NUP)\, favoring close ties with Egypt\, and the Umma Party\, favoring full independence without union with Egypt. \nGrowing pressure from these groups\, combined with global anti-colonial movements after World War II\, pushed Britain and Egypt to negotiate Sudan's future. \nIn 1953\, an agreement was reached to allow Sudan self-government\, followed by national elections. A Sudanese parliament was established\, representing the people for the first time. \nOn December 19\, 1955\, the parliament unanimously voted for complete independence\, rejecting both continued British rule and union with Egypt. \nOn January 1\, 1956\, Sudan officially declared independence. The new Sudanese flag was raised for the first time in Khartoum.
URL:https://excelnotes.com/holiday/independence-day-sudan/
CATEGORIES:Historical Holiday
ATTACH;FMTTYPE=image/jpeg:https://excelnotes.com/wp-content/uploads/2025/08/Independence-Day-Sudan.jpg
END:VEVENT
BEGIN:VEVENT
DTSTART;VALUE=DATE:20260101
DTEND;VALUE=DATE:20260102
DTSTAMP:20260420T131815
CREATED:20250911T033153Z
LAST-MODIFIED:20250911T033153Z
UID:10000519-1767225600-1767311999@excelnotes.com
SUMMARY:Republic Day (Slovakia)
DESCRIPTION:Republic Day in Slovakia commemorates the independence of Slovakia in 1993 following the Velvet Divorce\, marking the foundation of the modern Slovak Republic. \nWhen is Republic Day?\nRepublic Day in Slovakia is observed on January 1 every year.  \nThe following is the list of Republic Day from 2020 to 2049. \n   \n\n                \n                \n                            \n                            \n                            \n                    \n        \n\n                                                        HolidayDateWeekday\n\n\n\n        \n            Republic DayJan 01\, 2020Wednesday        \n            \n            Republic DayJan 01\, 2021Friday        \n            \n            Republic DayJan 01\, 2022Saturday        \n            \n            Republic DayJan 01\, 2023Sunday        \n            \n            Republic DayJan 01\, 2024Monday        \n            \n            Republic DayJan 01\, 2025Wednesday        \n            \n            Republic DayJan 01\, 2026Thursday        \n            \n            Republic DayJan 01\, 2027Friday        \n            \n            Republic DayJan 01\, 2028Saturday        \n            \n            Republic DayJan 01\, 2029Monday        \n            \n            Republic DayJan 01\, 2030Tuesday        \n            \n            Republic DayJan 01\, 2031Wednesday        \n            \n            Republic DayJan 01\, 2032Thursday        \n            \n            Republic DayJan 01\, 2033Saturday        \n            \n            Republic DayJan 01\, 2034Sunday        \n            \n            Republic DayJan 01\, 2035Monday        \n            \n            Republic DayJan 01\, 2036Tuesday        \n            \n            Republic DayJan 01\, 2037Thursday        \n            \n            Republic DayJan 01\, 2038Friday        \n            \n            Republic DayJan 01\, 2039Saturday        \n            \n            Republic DayJan 01\, 2040Sunday        \n            \n            Republic DayJan 01\, 2041Tuesday        \n            \n            Republic DayJan 01\, 2042Wednesday        \n            \n            Republic DayJan 01\, 2043Thursday        \n            \n            Republic DayJan 01\, 2044Friday        \n            \n            Republic DayJan 01\, 2045Sunday        \n            \n            Republic DayJan 01\, 2046Monday        \n            \n            Republic DayJan 01\, 2047Tuesday        \n            \n            Republic DayJan 01\, 2048Wednesday        \n            \n            Republic DayJan 01\, 2049Friday        \n    \n    \n    \n    \n    \n\n\nThe History of Republic Day?\nAfter World War I\, the Austro-Hungarian Empire collapsed\, and on October 28\, 1918\, Czechs and Slovaks joined to form Czechoslovakia. The new state united two distinct nations with cultural and linguistic differences\, but Slovaks often felt overshadowed by the Czech majority. \nDuring World War II\, Slovakia briefly became a nominally independent state (1939–1945) under Nazi Germany\, while the Czech lands were occupied. After the war\, Czechoslovakia was reestablished\, and by 1948 it became a communist state under Soviet influence. \nThe fall of communism in Eastern Europe began with the Velvet Revolution in Czechoslovakia in 1989\, which peacefully ended one-party rule. This brought democratic reforms and opened discussions about the future of the state. \nBy the early 1990s\, tensions grew between the Czech and Slovak parts of the federation: the Czechs favored faster economic reforms\, while many Slovaks sought greater autonomy and recognition. Leaders Václav Klaus (Czech) and Vladimír Mečiar (Slovak) negotiated a peaceful split. \nOn January 1\, 1993\, Czechoslovakia peacefully dissolved into two independent states: the Czech Republic and the Slovak Republic. Bratislava became the capital of independent Slovakia. \nThe event is known as the Velvet Divorce\, mirroring the nonviolent Velvet Revolution. The holiday commemorates the foundation of the independent Slovak Republic and is celebrated alongside New Year's Day.
URL:https://excelnotes.com/holiday/republic-day-slovakia/
CATEGORIES:Historical Holiday
ATTACH;FMTTYPE=image/jpeg:https://excelnotes.com/wp-content/uploads/2025/09/Republic-Day-Slovakia.jpg
END:VEVENT
END:VCALENDAR