BEGIN:VCALENDAR
VERSION:2.0
PRODID:-//ExcelNotes - ECPv6.15.20//NONSGML v1.0//EN
CALSCALE:GREGORIAN
METHOD:PUBLISH
X-WR-CALNAME:ExcelNotes
X-ORIGINAL-URL:https://excelnotes.com
X-WR-CALDESC:Events for ExcelNotes
REFRESH-INTERVAL;VALUE=DURATION:PT1H
X-Robots-Tag:noindex
X-PUBLISHED-TTL:PT1H
BEGIN:VTIMEZONE
TZID:America/New_York
BEGIN:DAYLIGHT
TZOFFSETFROM:-0500
TZOFFSETTO:-0400
TZNAME:EDT
DTSTART:20240310T070000
END:DAYLIGHT
BEGIN:STANDARD
TZOFFSETFROM:-0400
TZOFFSETTO:-0500
TZNAME:EST
DTSTART:20241103T060000
END:STANDARD
BEGIN:DAYLIGHT
TZOFFSETFROM:-0500
TZOFFSETTO:-0400
TZNAME:EDT
DTSTART:20250309T070000
END:DAYLIGHT
BEGIN:STANDARD
TZOFFSETFROM:-0400
TZOFFSETTO:-0500
TZNAME:EST
DTSTART:20251102T060000
END:STANDARD
BEGIN:DAYLIGHT
TZOFFSETFROM:-0500
TZOFFSETTO:-0400
TZNAME:EDT
DTSTART:20260308T070000
END:DAYLIGHT
BEGIN:STANDARD
TZOFFSETFROM:-0400
TZOFFSETTO:-0500
TZNAME:EST
DTSTART:20261101T060000
END:STANDARD
END:VTIMEZONE
BEGIN:VEVENT
DTSTART;VALUE=DATE:20251231
DTEND;VALUE=DATE:20260101
DTSTAMP:20260420T170130
CREATED:20250719T054548Z
LAST-MODIFIED:20250806T042133Z
UID:10000424-1767139200-1767225599@excelnotes.com
SUMMARY:Restoration Day Switzerland
DESCRIPTION:Restoration Day in Geneva\, Switzerland commemorates the restoration of the Republic of Geneva in 1813\, after more than 15 years under French rule during the Napoleonic era. \nWhen is Restoration Day?\nRestoration Day is celebrated each year on December 31.  \nThe following is the list of Restoration Day from 2020 to 2049. \n   \n\n                \n                \n                            \n                            \n                            \n                    \n        \n\n                                                        HolidayDateWeekday\n\n\n\n        \n            Restoration DayDec 31\, 2020Thursday        \n            \n            Restoration DayDec 31\, 2021Friday        \n            \n            Restoration DayDec 31\, 2022Saturday        \n            \n            Restoration DayDec 31\, 2023Sunday        \n            \n            Restoration DayDec 31\, 2024Tuesday        \n            \n            Restoration DayDec 31\, 2025Wednesday        \n            \n            Restoration DayDec 31\, 2026Thursday        \n            \n            Restoration DayDec 31\, 2027Friday        \n            \n            Restoration DayDec 31\, 2028Sunday        \n            \n            Restoration DayDec 31\, 2029Monday        \n            \n            Restoration DayDec 31\, 2030Tuesday        \n            \n            Restoration DayDec 31\, 2031Wednesday        \n            \n            Restoration DayDec 31\, 2032Friday        \n            \n            Restoration DayDec 31\, 2033Saturday        \n            \n            Restoration DayDec 31\, 2034Sunday        \n            \n            Restoration DayDec 31\, 2035Monday        \n            \n            Restoration DayDec 31\, 2036Wednesday        \n            \n            Restoration DayDec 31\, 2037Thursday        \n            \n            Restoration DayDec 31\, 2038Friday        \n            \n            Restoration DayDec 31\, 2039Saturday        \n            \n            Restoration DayDec 31\, 2040Monday        \n            \n            Restoration DayDec 31\, 2041Tuesday        \n            \n            Restoration DayDec 31\, 2042Wednesday        \n            \n            Restoration DayDec 31\, 2043Thursday        \n            \n            Restoration DayDec 31\, 2044Saturday        \n            \n            Restoration DayDec 31\, 2045Sunday        \n            \n            Restoration DayDec 31\, 2046Monday        \n            \n            Restoration DayDec 31\, 2047Tuesday        \n            \n            Restoration DayDec 31\, 2048Thursday        \n            \n            Restoration DayDec 31\, 2049Friday        \n    \n    \n    \n    \n    \n\n\nThe History of Restoration Day?\nGeneva was an independent republic and Protestant stronghold from the 16th century. It was governed by its own council and had close economic and political ties with neighboring cantons and countries. \nIn April 1798\, French revolutionary forces annexed Geneva\, incorporating it into France as the Département du Léman. Geneva lost its independence\, political institutions\, and much of its civic identity. \nAfter Napoleon's defeat in the German campaign of 1813\, Austrian troops entered Geneva on December 30–31\, 1813\, without resistance. \nOn December 31\, Geneva's leaders proclaimed the restoration of the Republic. This day marks the return of Geneva's independence\, its own government\, and civic symbols such as the coat of arms and flag. \nGeneva remained an independent republic for two more years. In 1815\, it joined the Swiss Confederation as a full canton\, gaining military protection and economic integration while maintaining local autonomy.
URL:https://excelnotes.com/holiday/restoration-day-switzerland/
CATEGORIES:Historical Holiday
ATTACH;FMTTYPE=image/jpeg:https://excelnotes.com/wp-content/uploads/2025/07/Restoration-Day-Switzerland.jpg
END:VEVENT
END:VCALENDAR