BEGIN:VCALENDAR
VERSION:2.0
PRODID:-//ExcelNotes - ECPv6.15.20//NONSGML v1.0//EN
CALSCALE:GREGORIAN
METHOD:PUBLISH
X-ORIGINAL-URL:https://excelnotes.com
X-WR-CALDESC:Events for ExcelNotes
REFRESH-INTERVAL;VALUE=DURATION:PT1H
X-Robots-Tag:noindex
X-PUBLISHED-TTL:PT1H
BEGIN:VTIMEZONE
TZID:America/New_York
BEGIN:DAYLIGHT
TZOFFSETFROM:-0500
TZOFFSETTO:-0400
TZNAME:EDT
DTSTART:20240310T070000
END:DAYLIGHT
BEGIN:STANDARD
TZOFFSETFROM:-0400
TZOFFSETTO:-0500
TZNAME:EST
DTSTART:20241103T060000
END:STANDARD
BEGIN:DAYLIGHT
TZOFFSETFROM:-0500
TZOFFSETTO:-0400
TZNAME:EDT
DTSTART:20250309T070000
END:DAYLIGHT
BEGIN:STANDARD
TZOFFSETFROM:-0400
TZOFFSETTO:-0500
TZNAME:EST
DTSTART:20251102T060000
END:STANDARD
BEGIN:DAYLIGHT
TZOFFSETFROM:-0500
TZOFFSETTO:-0400
TZNAME:EDT
DTSTART:20260308T070000
END:DAYLIGHT
BEGIN:STANDARD
TZOFFSETFROM:-0400
TZOFFSETTO:-0500
TZNAME:EST
DTSTART:20261101T060000
END:STANDARD
END:VTIMEZONE
BEGIN:VEVENT
DTSTART;VALUE=DATE:20251222
DTEND;VALUE=DATE:20251223
DTSTAMP:20260421T075413
CREATED:20250417T054022Z
LAST-MODIFIED:20250417T054127Z
UID:10000240-1766361600-1766447999@excelnotes.com
SUMMARY:National Unity Day
DESCRIPTION:National Unity Day in Zimbabwe commemorates the signing of the Unity Accord in 1987\, a pivotal agreement that brought an end to political violence and division between the country's two major liberation parties: ZANU (Zimbabwe African National Union) and ZAPU (Zimbabwe African People's Union). \nWhen is National Unity Day?\nNational Unity Day is a national public holiday observed annually on December 22nd. \nThe following is the list of National Unity Day from 2020 to 2049. \n   \n\n                \n                \n                            \n                            \n                            \n                    \n        \n\n                                                        HolidayDateWeekday\n\n\n\n        \n            National Unity DayDec 22\, 2020Tuesday        \n            \n            National Unity DayDec 22\, 2021Wednesday        \n            \n            National Unity DayDec 22\, 2022Thursday        \n            \n            National Unity DayDec 22\, 2023Friday        \n            \n            National Unity DayDec 22\, 2024Sunday        \n            \n            National Unity DayDec 22\, 2025Monday        \n            \n            National Unity DayDec 22\, 2026Tuesday        \n            \n            National Unity DayDec 22\, 2027Wednesday        \n            \n            National Unity DayDec 22\, 2028Friday        \n            \n            National Unity DayDec 22\, 2029Saturday        \n            \n            National Unity DayDec 22\, 2030Sunday        \n            \n            National Unity DayDec 22\, 2031Monday        \n            \n            National Unity DayDec 22\, 2032Wednesday        \n            \n            National Unity DayDec 22\, 2033Thursday        \n            \n            National Unity DayDec 22\, 2034Friday        \n            \n            National Unity DayDec 22\, 2035Saturday        \n            \n            National Unity DayDec 22\, 2036Monday        \n            \n            National Unity DayDec 22\, 2037Tuesday        \n            \n            National Unity DayDec 22\, 2038Wednesday        \n            \n            National Unity DayDec 22\, 2039Thursday        \n            \n            National Unity DayDec 22\, 2040Saturday        \n            \n            National Unity DayDec 22\, 2041Sunday        \n            \n            National Unity DayDec 22\, 2042Monday        \n            \n            National Unity DayDec 22\, 2043Tuesday        \n            \n            National Unity DayDec 22\, 2044Thursday        \n            \n            National Unity DayDec 22\, 2045Friday        \n            \n            National Unity DayDec 22\, 2046Saturday        \n            \n            National Unity DayDec 22\, 2047Sunday        \n            \n            National Unity DayDec 22\, 2048Tuesday        \n            \n            National Unity DayDec 22\, 2049Wednesday        \n    \n    \n    \n    \n    \n\n\nThe History of National Unity Day?\nNational Unity Day marks a pivotal moment in Zimbabwe's post-independence history. The accord aimed to end violent political conflict and unite the country under a single party and national identity. \nAfter Zimbabwe's independence in 1980\, political rivalry between ZANU-PF\, led by Robert Mugabe\, and PF-ZAPU\, led by Joshua Nkomo\, escalated. \nThe two liberation parties had different military wings and ethnic strongholds: ZANU was predominantly Shona\, while ZAPU was predominantly Ndebele. \nAccusations of sabotage and arms stockpiling led to the Gukurahundi period (1983–1987)\, during which a military unit loyal to Mugabe was deployed to Matabeleland and Midlands\, resulting in widespread human rights violations and the deaths of an estimated 10\,000 to 20\,000 civilians. \nTo halt the violence and political instability\, Robert Mugabe and Joshua Nkomo held negotiations\, culminating in the signing of the Unity Accord on December 22\, 1987. \nThe following are the key outcomes of the accord: \n– PF-ZAPU was merged into ZANU-PF\n– Joshua Nkomo was appointed Vice President\n– Political hostilities officially ended\n– A vision of national unity and reconciliation was adopted \nNational Unity Day was established as a public holiday shortly after the signing of the Unity Accord\, and it commemorates the end of armed political conflict and recognizes the importance of peace\, and unity.
URL:https://excelnotes.com/holiday/national-unity-day/
CATEGORIES:Historical Holiday
ATTACH;FMTTYPE=image/jpeg:https://excelnotes.com/wp-content/uploads/2025/04/National-Unity-Day.jpg
END:VEVENT
END:VCALENDAR