BEGIN:VCALENDAR
VERSION:2.0
PRODID:-//ExcelNotes - ECPv6.15.20//NONSGML v1.0//EN
CALSCALE:GREGORIAN
METHOD:PUBLISH
X-ORIGINAL-URL:https://excelnotes.com
X-WR-CALDESC:Events for ExcelNotes
REFRESH-INTERVAL;VALUE=DURATION:PT1H
X-Robots-Tag:noindex
X-PUBLISHED-TTL:PT1H
BEGIN:VTIMEZONE
TZID:America/New_York
BEGIN:DAYLIGHT
TZOFFSETFROM:-0500
TZOFFSETTO:-0400
TZNAME:EDT
DTSTART:20240310T070000
END:DAYLIGHT
BEGIN:STANDARD
TZOFFSETFROM:-0400
TZOFFSETTO:-0500
TZNAME:EST
DTSTART:20241103T060000
END:STANDARD
BEGIN:DAYLIGHT
TZOFFSETFROM:-0500
TZOFFSETTO:-0400
TZNAME:EDT
DTSTART:20250309T070000
END:DAYLIGHT
BEGIN:STANDARD
TZOFFSETFROM:-0400
TZOFFSETTO:-0500
TZNAME:EST
DTSTART:20251102T060000
END:STANDARD
BEGIN:DAYLIGHT
TZOFFSETFROM:-0500
TZOFFSETTO:-0400
TZNAME:EDT
DTSTART:20260308T070000
END:DAYLIGHT
BEGIN:STANDARD
TZOFFSETFROM:-0400
TZOFFSETTO:-0500
TZNAME:EST
DTSTART:20261101T060000
END:STANDARD
END:VTIMEZONE
BEGIN:VEVENT
DTSTART;VALUE=DATE:20251221
DTEND;VALUE=DATE:20251222
DTSTAMP:20260420T043435
CREATED:20251017T051758Z
LAST-MODIFIED:20251017T051758Z
UID:10000732-1766275200-1766361599@excelnotes.com
SUMMARY:Winter Solstice (Macau)
DESCRIPTION:The Winter Solstice\, known as Dongzhi Festival\, marks the shortest day and longest night of the year. Rooted in ancient Chinese tradition\, it symbolizes balance\, renewal\, and family unity. Families gather for special meals\, often featuring tangyuan (sweet glutinous rice balls) that represent harmony and reunion. In Macau\, it is a time for both ancestral remembrance and joyful gatherings\, reflecting the city's blend of tradition and togetherness. \nWhen is the Winter Solstice?\nThe Winter Solstice is celebrated in Macau around December 21 or 22 each year. \nThe following is the list of the Winter Solstice from 2020 to 2049. \n   \n\n                \n                \n                            \n                            \n                            \n                    \n        \n\n                                                        HolidayDateWeekday\n\n\n\n        \n            Winter SolsticeDec 21\, 2020Monday        \n            \n            Winter SolsticeDec 21\, 2021Tuesday        \n            \n            Winter SolsticeDec 22\, 2022Thursday        \n            \n            Winter SolsticeDec 22\, 2023Friday        \n            \n            Winter SolsticeDec 21\, 2024Saturday        \n            \n            Winter SolsticeDec 21\, 2025Sunday        \n            \n            Winter SolsticeDec 22\, 2026Tuesday        \n            \n            Winter SolsticeDec 22\, 2027Wednesday        \n            \n            Winter SolsticeDec 21\, 2028Thursday        \n            \n            Winter SolsticeDec 21\, 2029Friday        \n            \n            Winter SolsticeDec 22\, 2030Sunday        \n            \n            Winter SolsticeDec 22\, 2031Monday        \n            \n            Winter SolsticeDec 21\, 2032Wednesday        \n            \n            Winter SolsticeDec 21\, 2033Thursday        \n            \n            Winter SolsticeDec 22\, 2034Friday        \n            \n            Winter SolsticeDec 22\, 2035Saturday        \n            \n            Winter SolsticeDec 21\, 2036Monday        \n            \n            Winter SolsticeDec 21\, 2037Tuesday        \n            \n            Winter SolsticeDec 22\, 2038Wednesday        \n            \n            Winter SolsticeDec 22\, 2039Thursday        \n            \n            Winter SolsticeDec 21\, 2040Saturday        \n            \n            Winter SolsticeDec 21\, 2041Sunday        \n            \n            Winter SolsticeDec 22\, 2042Monday        \n            \n            Winter SolsticeDec 22\, 2043Tuesday        \n            \n            Winter SolsticeDec 21\, 2044Thursday        \n            \n            Winter SolsticeDec 21\, 2045Friday        \n            \n            Winter SolsticeDec 22\, 2046Saturday        \n            \n            Winter SolsticeDec 22\, 2047Sunday        \n            \n            Winter SolsticeDec 21\, 2048Tuesday        \n            \n            Winter SolsticeDec 21\, 2049Wednesday        \n    \n    \n    \n    \n    \n\n\nThe History of the Winter Solstice?\nThe Winter Solstice Festival is one of the most ancient and culturally significant celebrations in Chinese tradition\, deeply rooted in astronomy\, philosophy\, and family values. Its observance in Macau\, as in much of the Chinese world\, reflects a blend of ancestral reverence\, seasonal transition and family unity. \nThe festival dates back more than 2\,000 years to the Han Dynasty (206 BCE – 220 CE)\, though its origins can be traced even earlier to the study of the solar calendar and yin-yang philosophy. Ancient Chinese astronomers determined the Winter Solstice to be the day when yin (darkness\, cold) reaches its peak and yang (light\, warmth) begins to grow again\, symbolizing the rebirth of sunlight and the renewal of life. This understanding made the Winter Solstice a time to celebrate the balance of nature and the cyclical rhythm of the universe. \nTraditionally\, emperors held grand Heaven Worship ceremonies to pray for prosperity and harmony in the coming year. Over time\, the festival evolved into a family-centered observance\, emphasizing reunion\, gratitude\, and respect for ancestors. \nIn Macau\, where Chinese and Portuguese cultures coexist\, the Winter Solstice remains a cherished local tradition. Families gather for ancestral offerings and reunion meals\, often featuring tangyuan (sweet glutinous rice balls) symbolizing unity and completeness. In southern China and Macau\, the festival is often regarded as "more important than the New Year"\, as it represents the turning point toward longer days and renewed hope. \nToday\, the Winter Solstice in Macau is celebrated quietly yet meaningfully\, combining ancestral remembrance\, family gatherings\, and culinary traditions\, a reflection of the city's enduring respect for balance\, togetherness\, and the natural order.
URL:https://excelnotes.com/holiday/winter-solstice-macau/
CATEGORIES:Historical Holiday
ATTACH;FMTTYPE=image/jpeg:https://excelnotes.com/wp-content/uploads/2025/10/Winter-Solstice-Macau.jpg
END:VEVENT
END:VCALENDAR