BEGIN:VCALENDAR
VERSION:2.0
PRODID:-//ExcelNotes - ECPv6.15.20//NONSGML v1.0//EN
CALSCALE:GREGORIAN
METHOD:PUBLISH
X-ORIGINAL-URL:https://excelnotes.com
X-WR-CALDESC:Events for ExcelNotes
REFRESH-INTERVAL;VALUE=DURATION:PT1H
X-Robots-Tag:noindex
X-PUBLISHED-TTL:PT1H
BEGIN:VTIMEZONE
TZID:America/New_York
BEGIN:DAYLIGHT
TZOFFSETFROM:-0500
TZOFFSETTO:-0400
TZNAME:EDT
DTSTART:20240310T070000
END:DAYLIGHT
BEGIN:STANDARD
TZOFFSETFROM:-0400
TZOFFSETTO:-0500
TZNAME:EST
DTSTART:20241103T060000
END:STANDARD
BEGIN:DAYLIGHT
TZOFFSETFROM:-0500
TZOFFSETTO:-0400
TZNAME:EDT
DTSTART:20250309T070000
END:DAYLIGHT
BEGIN:STANDARD
TZOFFSETFROM:-0400
TZOFFSETTO:-0500
TZNAME:EST
DTSTART:20251102T060000
END:STANDARD
BEGIN:DAYLIGHT
TZOFFSETFROM:-0500
TZOFFSETTO:-0400
TZNAME:EDT
DTSTART:20260308T070000
END:DAYLIGHT
BEGIN:STANDARD
TZOFFSETFROM:-0400
TZOFFSETTO:-0500
TZNAME:EST
DTSTART:20261101T060000
END:STANDARD
END:VTIMEZONE
BEGIN:VEVENT
DTSTART;VALUE=DATE:20251209
DTEND;VALUE=DATE:20251210
DTSTAMP:20260420T202145
CREATED:20250716T211405Z
LAST-MODIFIED:20250730T054126Z
UID:10000401-1765238400-1765324799@excelnotes.com
SUMMARY:Independence Day in Tanzania
DESCRIPTION:Tanzania's Independence Day marks the day when Tanganyika (now mainland Tanzania) gained independence from British colonial rule in 1961. It is a powerful symbol of freedom\, unity\, and the beginning of self-determination for the Tanzanian people. \nWhen is Independence Day?\nIndependence Day is celebrated on December 9 every year. \nThe following is the list of Independence Day from 2020 to 2049. \n   \n\n                \n                \n                            \n                            \n                            \n                    \n        \n\n                                                        HolidayDateWeekday\n\n\n\n        \n            Independence DayDec 09\, 2020Wednesday        \n            \n            Independence DayDec 09\, 2021Thursday        \n            \n            Independence DayDec 09\, 2022Friday        \n            \n            Independence DayDec 09\, 2023Saturday        \n            \n            Independence DayDec 09\, 2024Monday        \n            \n            Independence DayDec 09\, 2025Tuesday        \n            \n            Independence DayDec 09\, 2026Wednesday        \n            \n            Independence DayDec 09\, 2027Thursday        \n            \n            Independence DayDec 09\, 2028Saturday        \n            \n            Independence DayDec 09\, 2029Sunday        \n            \n            Independence DayDec 09\, 2030Monday        \n            \n            Independence DayDec 09\, 2031Tuesday        \n            \n            Independence DayDec 09\, 2032Thursday        \n            \n            Independence DayDec 09\, 2033Friday        \n            \n            Independence DayDec 09\, 2034Saturday        \n            \n            Independence DayDec 09\, 2035Sunday        \n            \n            Independence DayDec 09\, 2036Tuesday        \n            \n            Independence DayDec 09\, 2037Wednesday        \n            \n            Independence DayDec 09\, 2038Thursday        \n            \n            Independence DayDec 09\, 2039Friday        \n            \n            Independence DayDec 09\, 2040Sunday        \n            \n            Independence DayDec 09\, 2041Monday        \n            \n            Independence DayDec 09\, 2042Tuesday        \n            \n            Independence DayDec 09\, 2043Wednesday        \n            \n            Independence DayDec 09\, 2044Friday        \n            \n            Independence DayDec 09\, 2045Saturday        \n            \n            Independence DayDec 09\, 2046Sunday        \n            \n            Independence DayDec 09\, 2047Monday        \n            \n            Independence DayDec 09\, 2048Wednesday        \n            \n            Independence DayDec 09\, 2049Thursday        \n    \n    \n    \n    \n    \n\n\nThe History of Independence Day?\nTanganyika was part of German East Africa in late 1800s to World War I\, and in 1919\, after Germany's defeat in WWI\, the League of Nations mandated the territory to Britain\, which ruled it as Tanganyika Territory. \nIn 1946\, Tanganyika became a United Nations Trust Territory under British administration. \nJulius Nyerere\, a schoolteacher\, formed the Tanganyika African National Union (TANU) in 1954. TANU led the independence movement and pushed for peaceful self-rule through civic organization and political activism. \nFrom 1958 to 1960\, elections were held\, leading to increased African participation in government. \nOn December 9\, 1961\, Tanganyika gained full independence\, with Julius Nyerere as Prime Minister. \nIndependence Day in Tanzania is a tribute to the end of colonialism\, a reminder of national resilience\, and a celebration of peaceful unity.
URL:https://excelnotes.com/holiday/independence-day-tanzania/
CATEGORIES:Historical Holiday
ATTACH;FMTTYPE=image/jpeg:https://excelnotes.com/wp-content/uploads/2025/07/Independence-Day-in-Tanzania.jpg
END:VEVENT
END:VCALENDAR