BEGIN:VCALENDAR
VERSION:2.0
PRODID:-//ExcelNotes - ECPv6.15.20//NONSGML v1.0//EN
CALSCALE:GREGORIAN
METHOD:PUBLISH
X-WR-CALNAME:ExcelNotes
X-ORIGINAL-URL:https://excelnotes.com
X-WR-CALDESC:Events for ExcelNotes
REFRESH-INTERVAL;VALUE=DURATION:PT1H
X-Robots-Tag:noindex
X-PUBLISHED-TTL:PT1H
BEGIN:VTIMEZONE
TZID:America/New_York
BEGIN:DAYLIGHT
TZOFFSETFROM:-0500
TZOFFSETTO:-0400
TZNAME:EDT
DTSTART:20240310T070000
END:DAYLIGHT
BEGIN:STANDARD
TZOFFSETFROM:-0400
TZOFFSETTO:-0500
TZNAME:EST
DTSTART:20241103T060000
END:STANDARD
BEGIN:DAYLIGHT
TZOFFSETFROM:-0500
TZOFFSETTO:-0400
TZNAME:EDT
DTSTART:20250309T070000
END:DAYLIGHT
BEGIN:STANDARD
TZOFFSETFROM:-0400
TZOFFSETTO:-0500
TZNAME:EST
DTSTART:20251102T060000
END:STANDARD
BEGIN:DAYLIGHT
TZOFFSETFROM:-0500
TZOFFSETTO:-0400
TZNAME:EDT
DTSTART:20260308T070000
END:DAYLIGHT
BEGIN:STANDARD
TZOFFSETFROM:-0400
TZOFFSETTO:-0500
TZNAME:EST
DTSTART:20261101T060000
END:STANDARD
END:VTIMEZONE
BEGIN:VEVENT
DTSTART;VALUE=DATE:20251129
DTEND;VALUE=DATE:20251130
DTSTAMP:20260421T205524
CREATED:20251009T015012Z
LAST-MODIFIED:20251009T015238Z
UID:10000686-1764374400-1764460799@excelnotes.com
SUMMARY:Liberation Day (Albania)
DESCRIPTION:Liberation Day in Albania marks the end of Nazi occupation in 1944 and Albania's liberation during World War II\, honoring the bravery of the partisans who fought for freedom and the nation's sovereignty. \nWhen is Liberation Day?\nLiberation Day in Albania is celebrated on November 29 every year.  \nThe following is the list of Liberation Day from 2020 to 2049. \n   \n\n                \n                \n                            \n                            \n                            \n                    \n        \n\n                                                        HolidayDateWeekday\n\n\n\n        \n            Liberation DayNov 29\, 2020Sunday        \n            \n            Liberation DayNov 29\, 2021Monday        \n            \n            Liberation DayNov 29\, 2022Tuesday        \n            \n            Liberation DayNov 29\, 2023Wednesday        \n            \n            Liberation DayNov 29\, 2024Friday        \n            \n            Liberation DayNov 29\, 2025Saturday        \n            \n            Liberation DayNov 29\, 2026Sunday        \n            \n            Liberation DayNov 29\, 2027Monday        \n            \n            Liberation DayNov 29\, 2028Wednesday        \n            \n            Liberation DayNov 29\, 2029Thursday        \n            \n            Liberation DayNov 29\, 2030Friday        \n            \n            Liberation DayNov 29\, 2031Saturday        \n            \n            Liberation DayNov 29\, 2032Monday        \n            \n            Liberation DayNov 29\, 2033Tuesday        \n            \n            Liberation DayNov 29\, 2034Wednesday        \n            \n            Liberation DayNov 29\, 2035Thursday        \n            \n            Liberation DayNov 29\, 2036Saturday        \n            \n            Liberation DayNov 29\, 2037Sunday        \n            \n            Liberation DayNov 29\, 2038Monday        \n            \n            Liberation DayNov 29\, 2039Tuesday        \n            \n            Liberation DayNov 29\, 2040Thursday        \n            \n            Liberation DayNov 29\, 2041Friday        \n            \n            Liberation DayNov 29\, 2042Saturday        \n            \n            Liberation DayNov 29\, 2043Sunday        \n            \n            Liberation DayNov 29\, 2044Tuesday        \n            \n            Liberation DayNov 29\, 2045Wednesday        \n            \n            Liberation DayNov 29\, 2046Thursday        \n            \n            Liberation DayNov 29\, 2047Friday        \n            \n            Liberation DayNov 29\, 2048Sunday        \n            \n            Liberation DayNov 29\, 2049Monday        \n    \n    \n    \n    \n    \n\n\nThe History of Liberation Day?\nAt the outbreak of World War II\, Albania was under Italian occupation\, beginning on April 7\, 1939\, when Fascist Italy\, led by Benito Mussolini\, invaded and annexed the country. King Zog I fled into exile\, and Albania became an Italian protectorate\, with the occupiers attempting to integrate it into Mussolini's empire. Despite propaganda efforts\, the occupation faced strong resistance from Albanian patriots and nationalist movements. \nIn 1941\, inspired by the growing anti-fascist movements in Europe\, the Albanian Communist Party was founded under the leadership of Enver Hoxha. The party organized a broad National Liberation Movement\, uniting communists\, nationalists\, and civilians to fight against the occupiers. Guerrilla warfare\, sabotage\, and local uprisings became widespread throughout the country. \nWhen Italy surrendered to the Allies in September 1943\, Nazi Germany quickly moved in to occupy Albania\, fearing the spread of Allied influence in the Balkans. The German occupation was marked by harsh repression\, mass arrests\, and executions\, but the Albanian resistance grew stronger. Albanian partisans received limited support from the Allies but relied heavily on local organization and determination. \nBy late 1944\, partisan forces had liberated most of the country\, fighting fierce battles in Berat\, Tirana and Shkodër. On November 29\, 1944\, the last German troops were expelled\, marking Albania's complete liberation from foreign occupation. The same day\, the National Liberation Front proclaimed victory and took control of the government\, establishing the foundation for a new socialist regime. \nLiberation Day was officially established as a national holiday under the People's Socialist Republic of Albania\, led by Enver Hoxha. The communist government emphasized the heroism of partisan fighters\, holding military parades\, speeches\, and state ceremonies each year on November 29. After the fall of communism in 1991\, Albania's political landscape changed\, and the historical interpretation of November 29 became more nuanced.
URL:https://excelnotes.com/holiday/liberation-day-albania/
CATEGORIES:Historical Holiday
ATTACH;FMTTYPE=image/jpeg:https://excelnotes.com/wp-content/uploads/2025/10/Liberation-Day.jpg
END:VEVENT
END:VCALENDAR