BEGIN:VCALENDAR
VERSION:2.0
PRODID:-//ExcelNotes - ECPv6.15.20//NONSGML v1.0//EN
CALSCALE:GREGORIAN
METHOD:PUBLISH
X-ORIGINAL-URL:https://excelnotes.com
X-WR-CALDESC:Events for ExcelNotes
REFRESH-INTERVAL;VALUE=DURATION:PT1H
X-Robots-Tag:noindex
X-PUBLISHED-TTL:PT1H
BEGIN:VTIMEZONE
TZID:America/New_York
BEGIN:DAYLIGHT
TZOFFSETFROM:-0500
TZOFFSETTO:-0400
TZNAME:EDT
DTSTART:20240310T070000
END:DAYLIGHT
BEGIN:STANDARD
TZOFFSETFROM:-0400
TZOFFSETTO:-0500
TZNAME:EST
DTSTART:20241103T060000
END:STANDARD
BEGIN:DAYLIGHT
TZOFFSETFROM:-0500
TZOFFSETTO:-0400
TZNAME:EDT
DTSTART:20250309T070000
END:DAYLIGHT
BEGIN:STANDARD
TZOFFSETFROM:-0400
TZOFFSETTO:-0500
TZNAME:EST
DTSTART:20251102T060000
END:STANDARD
BEGIN:DAYLIGHT
TZOFFSETFROM:-0500
TZOFFSETTO:-0400
TZNAME:EDT
DTSTART:20260308T070000
END:DAYLIGHT
BEGIN:STANDARD
TZOFFSETFROM:-0400
TZOFFSETTO:-0500
TZNAME:EST
DTSTART:20261101T060000
END:STANDARD
END:VTIMEZONE
BEGIN:VEVENT
DTSTART;VALUE=DATE:20251128
DTEND;VALUE=DATE:20251129
DTSTAMP:20260421T012046
CREATED:20251008T045430Z
LAST-MODIFIED:20251008T045430Z
UID:10000685-1764288000-1764374399@excelnotes.com
SUMMARY:Independence Day (Albania)
DESCRIPTION:Independence Day in Albania marks the 1912 declaration of independence from the Ottoman Empire in Vlorë\, symbolizing national unity\, freedom and the rebirth of the Albanian state. \nWhen is Independence Day?\nIndependence Day in Albania is celebrated on November 28 every year. \nThe following is the list of Independence Day from 2020 to 2049. \n   \n\n                \n                \n                            \n                            \n                            \n                    \n        \n\n                                                        HolidayDateWeekday\n\n\n\n        \n            Independence DayNov 28\, 2020Saturday        \n            \n            Independence DayNov 28\, 2021Sunday        \n            \n            Independence DayNov 28\, 2022Monday        \n            \n            Independence DayNov 28\, 2023Tuesday        \n            \n            Independence DayNov 28\, 2024Thursday        \n            \n            Independence DayNov 28\, 2025Friday        \n            \n            Independence DayNov 28\, 2026Saturday        \n            \n            Independence DayNov 28\, 2027Sunday        \n            \n            Independence DayNov 28\, 2028Tuesday        \n            \n            Independence DayNov 28\, 2029Wednesday        \n            \n            Independence DayNov 28\, 2030Thursday        \n            \n            Independence DayNov 28\, 2031Friday        \n            \n            Independence DayNov 28\, 2032Sunday        \n            \n            Independence DayNov 28\, 2033Monday        \n            \n            Independence DayNov 28\, 2034Tuesday        \n            \n            Independence DayNov 28\, 2035Wednesday        \n            \n            Independence DayNov 28\, 2036Friday        \n            \n            Independence DayNov 28\, 2037Saturday        \n            \n            Independence DayNov 28\, 2038Sunday        \n            \n            Independence DayNov 28\, 2039Monday        \n            \n            Independence DayNov 28\, 2040Wednesday        \n            \n            Independence DayNov 28\, 2041Thursday        \n            \n            Independence DayNov 28\, 2042Friday        \n            \n            Independence DayNov 28\, 2043Saturday        \n            \n            Independence DayNov 28\, 2044Monday        \n            \n            Independence DayNov 28\, 2045Tuesday        \n            \n            Independence DayNov 28\, 2046Wednesday        \n            \n            Independence DayNov 28\, 2047Thursday        \n            \n            Independence DayNov 28\, 2048Saturday        \n            \n            Independence DayNov 28\, 2049Sunday        \n    \n    \n    \n    \n    \n\n\nThe History of Independence Day?\nFor over four centuries\, Albania was part of the Ottoman Empire (from the late 15th century until the early 20th century). During this period\, Albania's identity\, language\, and culture were often suppressed under Ottoman rule. \nIn the 19th century\, amid the broader European movements for independence\, Albanians began to develop a strong national awakening. Intellectuals\, writers\, and patriots promoted education\, cultural revival\, and the idea of a unified Albanian nation. \nThe first major step toward independence came with the League of Prizren\, established on June 10\, 1878\, following the Treaty of San Stefano. The League aimed to defend Albanian lands from being divided among neighboring countries and called for autonomy within the Ottoman Empire. Although eventually suppressed by the Ottomans\, it became a symbol of national unity and self-determination. \nBy the early 20th century\, the Ottoman Empire was in decline\, and the Balkan Wars (1912–1913) threatened to divide Albanian territories among Serbia\, Greece\, and Montenegro. Fearing partition\, Albanian leaders moved quickly to declare national independence and assert sovereignty before foreign powers could occupy the region. \nOn November 28\, 1912\, Ismail Qemali\, a respected statesman and patriot\, gathered 83 delegates from across Albanian territories in the coastal city of Vlorë. In a historic assembly\, they proclaimed Albania's independence from the Ottoman Empire\, raising the red flag with the black double-headed eagle for the first time in modern history. \nAlbania's independence faced immediate challenges\, including political instability\, foreign occupations\, and shifting borders during World War I. However\, Albanian national identity persisted\, and the flag of November 28\, 1912\, remained a symbol of freedom and unity throughout the 20th century. \nAfter the fall of communism in 1991\, Independence Day regained its full civic and patriotic significance in a democratic Albania. Independence Day represents the rebirth of the Albanian nation\, the unity of its people\, and the end of centuries of foreign domination.
URL:https://excelnotes.com/holiday/independence-day-albania/
CATEGORIES:Historical Holiday
ATTACH;FMTTYPE=image/jpeg:https://excelnotes.com/wp-content/uploads/2025/10/Independence-Day-Albania.jpg
END:VEVENT
END:VCALENDAR