BEGIN:VCALENDAR
VERSION:2.0
PRODID:-//ExcelNotes - ECPv6.15.20//NONSGML v1.0//EN
CALSCALE:GREGORIAN
METHOD:PUBLISH
X-ORIGINAL-URL:https://excelnotes.com
X-WR-CALDESC:Events for ExcelNotes
REFRESH-INTERVAL;VALUE=DURATION:PT1H
X-Robots-Tag:noindex
X-PUBLISHED-TTL:PT1H
BEGIN:VTIMEZONE
TZID:America/New_York
BEGIN:DAYLIGHT
TZOFFSETFROM:-0500
TZOFFSETTO:-0400
TZNAME:EDT
DTSTART:20240310T070000
END:DAYLIGHT
BEGIN:STANDARD
TZOFFSETFROM:-0400
TZOFFSETTO:-0500
TZNAME:EST
DTSTART:20241103T060000
END:STANDARD
BEGIN:DAYLIGHT
TZOFFSETFROM:-0500
TZOFFSETTO:-0400
TZNAME:EDT
DTSTART:20250309T070000
END:DAYLIGHT
BEGIN:STANDARD
TZOFFSETFROM:-0400
TZOFFSETTO:-0500
TZNAME:EST
DTSTART:20251102T060000
END:STANDARD
BEGIN:DAYLIGHT
TZOFFSETFROM:-0500
TZOFFSETTO:-0400
TZNAME:EDT
DTSTART:20260308T070000
END:DAYLIGHT
BEGIN:STANDARD
TZOFFSETFROM:-0400
TZOFFSETTO:-0500
TZNAME:EST
DTSTART:20261101T060000
END:STANDARD
END:VTIMEZONE
BEGIN:VEVENT
DTSTART;VALUE=DATE:20251123
DTEND;VALUE=DATE:20251124
DTSTAMP:20260421T075430
CREATED:20251017T033447Z
LAST-MODIFIED:20251017T033447Z
UID:10000728-1763856000-1763942399@excelnotes.com
SUMMARY:Labor Thanksgiving Day (Japan)
DESCRIPTION:Labor Thanksgiving Day is a national holiday dedicated to honoring workers\, expressing gratitude for their efforts\, and celebrating the fruits of labor. The day has roots in ancient harvest festivals and reflects Japan's values of diligence\, cooperation\, and appreciation. Today\, schools and communities hold ceremonies and events to recognize contributions to society and promote mutual respect among all workers. \nWhen is Labor Thanksgiving Day?\nLabor Thanksgiving Day is celebrated in Japan on November 23 each year. \nThe following is the list of Labor Thanksgiving Day from 2020 to 2049. \n   \n\n                \n                \n                            \n                            \n                            \n                    \n        \n\n                                                        HolidayDateWeekday\n\n\n\n        \n            Labor Thanksgiving DayNov 23\, 2020Monday        \n            \n            Labor Thanksgiving DayNov 23\, 2021Tuesday        \n            \n            Labor Thanksgiving DayNov 23\, 2022Wednesday        \n            \n            Labor Thanksgiving DayNov 23\, 2023Thursday        \n            \n            Labor Thanksgiving DayNov 23\, 2024Saturday        \n            \n            Labor Thanksgiving DayNov 23\, 2025Sunday        \n            \n            Labor Thanksgiving DayNov 23\, 2026Monday        \n            \n            Labor Thanksgiving DayNov 23\, 2027Tuesday        \n            \n            Labor Thanksgiving DayNov 23\, 2028Thursday        \n            \n            Labor Thanksgiving DayNov 23\, 2029Friday        \n            \n            Labor Thanksgiving DayNov 23\, 2030Saturday        \n            \n            Labor Thanksgiving DayNov 23\, 2031Sunday        \n            \n            Labor Thanksgiving DayNov 23\, 2032Tuesday        \n            \n            Labor Thanksgiving DayNov 23\, 2033Wednesday        \n            \n            Labor Thanksgiving DayNov 23\, 2034Thursday        \n            \n            Labor Thanksgiving DayNov 23\, 2035Friday        \n            \n            Labor Thanksgiving DayNov 23\, 2036Sunday        \n            \n            Labor Thanksgiving DayNov 23\, 2037Monday        \n            \n            Labor Thanksgiving DayNov 23\, 2038Tuesday        \n            \n            Labor Thanksgiving DayNov 23\, 2039Wednesday        \n            \n            Labor Thanksgiving DayNov 23\, 2040Friday        \n            \n            Labor Thanksgiving DayNov 23\, 2041Saturday        \n            \n            Labor Thanksgiving DayNov 23\, 2042Sunday        \n            \n            Labor Thanksgiving DayNov 23\, 2043Monday        \n            \n            Labor Thanksgiving DayNov 23\, 2044Wednesday        \n            \n            Labor Thanksgiving DayNov 23\, 2045Thursday        \n            \n            Labor Thanksgiving DayNov 23\, 2046Friday        \n            \n            Labor Thanksgiving DayNov 23\, 2047Saturday        \n            \n            Labor Thanksgiving DayNov 23\, 2048Monday        \n            \n            Labor Thanksgiving DayNov 23\, 2049Tuesday        \n    \n    \n    \n    \n    \n\n\nThe History of Labor Thanksgiving Day?\nLabor Thanksgiving Day is a national holiday in Japan to honor workers\, celebrate productivity and express gratitude for one another's efforts. \nThe holiday's origins go back more than a thousand years to an ancient Shinto ritual called Niiname-sai (新嘗祭)\, or the Harvest Festival\, where the emperor offered freshly harvested rice to the gods in thanks for a bountiful crop. This ceremony\, dating to at least the 7th century\, symbolized gratitude to nature and the divine for the sustenance of the people. \nDuring the Meiji era (1868–1912)\, Niiname-sai became a formal imperial event held on November 23 each year\, reinforcing Japan's agricultural heritage and its connection to the emperor. \nAfter World War II\, Japan underwent major reforms under the new constitution\, which emphasized democracy\, peace\, and equality. In 1948\, the government redefined the holiday as Labor Thanksgiving Day\, shifting its focus from imperial rituals to a secular celebration of workers' rights\, productivity and social cooperation. The date remained November 23\, preserving the link to the old harvest festival but with a new\, modern meaning. \nToday\, Labor Thanksgiving Day blends tradition and progress\, it honors both Japan's agricultural roots and the efforts of workers in all sectors. Schools and communities hold ceremonies to thank public servants and local workers\, while the imperial family still performs a private Niiname-sai ritual at the Imperial Palace\, maintaining the holiday's ancient connection to gratitude and renewal.
URL:https://excelnotes.com/holiday/labor-thanksgiving-day-japan/
CATEGORIES:Historical Holiday
ATTACH;FMTTYPE=image/jpeg:https://excelnotes.com/wp-content/uploads/2025/10/Labor-Thanksgiving-Day.jpg
END:VEVENT
END:VCALENDAR