BEGIN:VCALENDAR
VERSION:2.0
PRODID:-//ExcelNotes - ECPv6.15.20//NONSGML v1.0//EN
CALSCALE:GREGORIAN
METHOD:PUBLISH
X-ORIGINAL-URL:https://excelnotes.com
X-WR-CALDESC:Events for ExcelNotes
REFRESH-INTERVAL;VALUE=DURATION:PT1H
X-Robots-Tag:noindex
X-PUBLISHED-TTL:PT1H
BEGIN:VTIMEZONE
TZID:America/New_York
BEGIN:DAYLIGHT
TZOFFSETFROM:-0500
TZOFFSETTO:-0400
TZNAME:EDT
DTSTART:20240310T070000
END:DAYLIGHT
BEGIN:STANDARD
TZOFFSETFROM:-0400
TZOFFSETTO:-0500
TZNAME:EST
DTSTART:20241103T060000
END:STANDARD
BEGIN:DAYLIGHT
TZOFFSETFROM:-0500
TZOFFSETTO:-0400
TZNAME:EDT
DTSTART:20250309T070000
END:DAYLIGHT
BEGIN:STANDARD
TZOFFSETFROM:-0400
TZOFFSETTO:-0500
TZNAME:EST
DTSTART:20251102T060000
END:STANDARD
BEGIN:DAYLIGHT
TZOFFSETFROM:-0500
TZOFFSETTO:-0400
TZNAME:EDT
DTSTART:20260308T070000
END:DAYLIGHT
BEGIN:STANDARD
TZOFFSETFROM:-0400
TZOFFSETTO:-0500
TZNAME:EST
DTSTART:20261101T060000
END:STANDARD
END:VTIMEZONE
BEGIN:VEVENT
DTSTART;VALUE=DATE:20251120
DTEND;VALUE=DATE:20251121
DTSTAMP:20260422T091941
CREATED:20251114T045651Z
LAST-MODIFIED:20251114T045912Z
UID:10000760-1763596800-1763683199@excelnotes.com
SUMMARY:Black Consciousness Day
DESCRIPTION:Black Consciousness Day in Brazil honors the history\, culture and resilience of Afro-Brazilians. The date marks the death of Zumbi dos Palmares\, a symbol of resistance against slavery. The day celebrates Black identity\, acknowledges the struggles against racism\, and promotes equality\, pride and cultural heritage across Brazil. \nWhen is Black Consciousness Day?\nBlack Consciousness Day is observed on November 20 each year. \nThe following is the list of Black Consciousness Day from 2020 to 2049. \n   \n\n                \n                \n                            \n                            \n                            \n                    \n        \n\n                                                        HolidayDateWeekday\n\n\n\n        \n            Black Awareness DayNov 20\, 2020Friday        \n            \n            Black Awareness DayNov 20\, 2021Saturday        \n            \n            Black Awareness DayNov 20\, 2022Sunday        \n            \n            Black Awareness DayNov 20\, 2023Monday        \n            \n            Black Awareness DayNov 20\, 2024Wednesday        \n            \n            Black Awareness DayNov 20\, 2025Thursday        \n            \n            Black Awareness DayNov 20\, 2026Friday        \n            \n            Black Awareness DayNov 20\, 2027Saturday        \n            \n            Black Awareness DayNov 20\, 2028Monday        \n            \n            Black Awareness DayNov 20\, 2029Tuesday        \n            \n            Black Awareness DayNov 20\, 2030Wednesday        \n            \n            Black Awareness DayNov 20\, 2031Thursday        \n            \n            Black Awareness DayNov 20\, 2032Saturday        \n            \n            Black Awareness DayNov 20\, 2033Sunday        \n            \n            Black Awareness DayNov 20\, 2034Monday        \n            \n            Black Awareness DayNov 20\, 2035Tuesday        \n            \n            Black Awareness DayNov 20\, 2036Thursday        \n            \n            Black Awareness DayNov 20\, 2037Friday        \n            \n            Black Awareness DayNov 20\, 2038Saturday        \n            \n            Black Awareness DayNov 20\, 2039Sunday        \n            \n            Black Awareness DayNov 20\, 2040Tuesday        \n            \n            Black Awareness DayNov 20\, 2041Wednesday        \n            \n            Black Awareness DayNov 20\, 2042Thursday        \n            \n            Black Awareness DayNov 20\, 2043Friday        \n            \n            Black Awareness DayNov 20\, 2044Sunday        \n            \n            Black Awareness DayNov 20\, 2045Monday        \n            \n            Black Awareness DayNov 20\, 2046Tuesday        \n            \n            Black Awareness DayNov 20\, 2047Wednesday        \n            \n            Black Awareness DayNov 20\, 2048Friday        \n            \n            Black Awareness DayNov 20\, 2049Saturday        \n    \n    \n    \n    \n    \n\n\nThe History of Black Consciousness Day?\nThe date marks the anniversary of the death of Zumbi dos Palmares in 1695. Zumbi was the last leader of the Quilombo dos Palmares\, a large settlement of escaped enslaved Africans in northeastern Brazil. Palmares resisted Portuguese colonial forces for nearly a century and became a powerful symbol of freedom and self-determination. \nZumbi's leadership and eventual martyrdom turned him into a national symbol of Black resistance\, courage and the fight for equality. \nAlthough Afro-Brazilians had long celebrated their heritage informally\, Black Consciousness Day emerged formally during the 1970s\, led by activists of the Movimento Negro Unificado (MNU). They chose November 20 to honor a Black hero of resistance rather than dates imposed by colonial narratives \nThis movement marked a shift in how Brazil confronted its history of slavery\, the longest-lasting slavery system in the western world\, abolished only in 1888. \nStarting in the 2000s\, several Brazilian states and cities began adopting November 20 as an official holiday. In 2011\, Brazil created a national law formally recognizing Black Consciousness Day as a day of reflection on racial justice and Black cultural contributions—though it is a public holiday only in certain regions.
URL:https://excelnotes.com/holiday/black-consciousness-day/
CATEGORIES:Historical Holiday
ATTACH;FMTTYPE=image/jpeg:https://excelnotes.com/wp-content/uploads/2025/11/Black-Consciousness-Day.jpg
END:VEVENT
END:VCALENDAR