BEGIN:VCALENDAR
VERSION:2.0
PRODID:-//ExcelNotes - ECPv6.15.20//NONSGML v1.0//EN
CALSCALE:GREGORIAN
METHOD:PUBLISH
X-ORIGINAL-URL:https://excelnotes.com
X-WR-CALDESC:Events for ExcelNotes
REFRESH-INTERVAL;VALUE=DURATION:PT1H
X-Robots-Tag:noindex
X-PUBLISHED-TTL:PT1H
BEGIN:VTIMEZONE
TZID:America/New_York
BEGIN:DAYLIGHT
TZOFFSETFROM:-0500
TZOFFSETTO:-0400
TZNAME:EDT
DTSTART:20240310T070000
END:DAYLIGHT
BEGIN:STANDARD
TZOFFSETFROM:-0400
TZOFFSETTO:-0500
TZNAME:EST
DTSTART:20241103T060000
END:STANDARD
BEGIN:DAYLIGHT
TZOFFSETFROM:-0500
TZOFFSETTO:-0400
TZNAME:EDT
DTSTART:20250309T070000
END:DAYLIGHT
BEGIN:STANDARD
TZOFFSETFROM:-0400
TZOFFSETTO:-0500
TZNAME:EST
DTSTART:20251102T060000
END:STANDARD
BEGIN:DAYLIGHT
TZOFFSETFROM:-0500
TZOFFSETTO:-0400
TZNAME:EDT
DTSTART:20260308T070000
END:DAYLIGHT
BEGIN:STANDARD
TZOFFSETFROM:-0400
TZOFFSETTO:-0500
TZNAME:EST
DTSTART:20261101T060000
END:STANDARD
END:VTIMEZONE
BEGIN:VEVENT
DTSTART;VALUE=DATE:20251115
DTEND;VALUE=DATE:20251116
DTSTAMP:20260421T061629
CREATED:20251114T045117Z
LAST-MODIFIED:20251114T045117Z
UID:10000759-1763164800-1763251199@excelnotes.com
SUMMARY:Republic Day (Brazil)
DESCRIPTION:Republic Day in Brazil marks the 1889 proclamation that ended the monarchy and established the Federative Republic of Brazil. The day commemorates the peaceful military movement led by Marshal Deodoro da Fonseca\, which ushered in a new era of republican governance. It is observed with civic ceremonies\, parades\, and educational events\, honoring Brazil's transition to a modern state grounded in citizenship\, democracy\, and national identity. \nWhen is Republic Day?\nRepublic Day is celebrated on November 15 each year. \nThe following is the list of Republic Day from 2020 to 2049. \n   \n\n                \n                \n                            \n                            \n                            \n                    \n        \n\n                                                        HolidayDateWeekday\n\n\n\n        \n            Republic DayNov 15\, 2020Sunday        \n            \n            Republic DayNov 15\, 2021Monday        \n            \n            Republic DayNov 15\, 2022Tuesday        \n            \n            Republic DayNov 15\, 2023Wednesday        \n            \n            Republic DayNov 15\, 2024Friday        \n            \n            Republic DayNov 15\, 2025Saturday        \n            \n            Republic DayNov 15\, 2026Sunday        \n            \n            Republic DayNov 15\, 2027Monday        \n            \n            Republic DayNov 15\, 2028Wednesday        \n            \n            Republic DayNov 15\, 2029Thursday        \n            \n            Republic DayNov 15\, 2030Friday        \n            \n            Republic DayNov 15\, 2031Saturday        \n            \n            Republic DayNov 15\, 2032Monday        \n            \n            Republic DayNov 15\, 2033Tuesday        \n            \n            Republic DayNov 15\, 2034Wednesday        \n            \n            Republic DayNov 15\, 2035Thursday        \n            \n            Republic DayNov 15\, 2036Saturday        \n            \n            Republic DayNov 15\, 2037Sunday        \n            \n            Republic DayNov 15\, 2038Monday        \n            \n            Republic DayNov 15\, 2039Tuesday        \n            \n            Republic DayNov 15\, 2040Thursday        \n            \n            Republic DayNov 15\, 2041Friday        \n            \n            Republic DayNov 15\, 2042Saturday        \n            \n            Republic DayNov 15\, 2043Sunday        \n            \n            Republic DayNov 15\, 2044Tuesday        \n            \n            Republic DayNov 15\, 2045Wednesday        \n            \n            Republic DayNov 15\, 2046Thursday        \n            \n            Republic DayNov 15\, 2047Friday        \n            \n            Republic DayNov 15\, 2048Sunday        \n            \n            Republic DayNov 15\, 2049Monday        \n    \n    \n    \n    \n    \n\n\nThe History of Republic Day?\nBrazil had been a monarchy since its independence from Portugal in 1822. Emperor Dom Pedro II was widely respected\, but by the late 19th century\, several forces like military dissatisfaction and abolition of slavery in 1888 were pushing Brazil toward political change. \nOn the morning of November 15\, 1889\, in Rio de Janeiro (then the capital)\, Marshal Deodoro da Fonseca led a peaceful military movement that deposed the monarchy without bloodshed. Soldiers marched to the Campo de Santana\, where Deodoro declared the end of imperial rule and the creation of a provisional republican government. \nDom Pedro II\, dignified but weary of political conflict\, accepted the decision and departed quietly for Europe with the royal family\, marking a remarkably calm end to a 67-year empire. The provisional government\, led by Deodoro da Fonseca\, reorganized Brazil into the United States of Brazil (a name it kept until 1967). The monarchy was formally abolished\, and Brazil began its long and complex journey as a republic.  \nRepublic Day became an official national holiday in the early 20th century as part of efforts to strengthen national identity and civic pride in the new form of government. \nRepublic Day symbolizes Brazil's shift from imperial rule to a modern republic\, emphasizing ideals of citizenship\, democracy\, and progress. Though the transition was peaceful\, the decades that followed were politically turbulent\, reflecting the ongoing challenge of building a stable and inclusive democratic system.
URL:https://excelnotes.com/holiday/republic-day-brazil/
CATEGORIES:Historical Holiday
ATTACH;FMTTYPE=image/jpeg:https://excelnotes.com/wp-content/uploads/2025/11/Republic-Day.jpg
END:VEVENT
END:VCALENDAR