BEGIN:VCALENDAR
VERSION:2.0
PRODID:-//ExcelNotes - ECPv6.15.20//NONSGML v1.0//EN
CALSCALE:GREGORIAN
METHOD:PUBLISH
X-ORIGINAL-URL:https://excelnotes.com
X-WR-CALDESC:Events for ExcelNotes
REFRESH-INTERVAL;VALUE=DURATION:PT1H
X-Robots-Tag:noindex
X-PUBLISHED-TTL:PT1H
BEGIN:VTIMEZONE
TZID:America/New_York
BEGIN:DAYLIGHT
TZOFFSETFROM:-0500
TZOFFSETTO:-0400
TZNAME:EDT
DTSTART:20240310T070000
END:DAYLIGHT
BEGIN:STANDARD
TZOFFSETFROM:-0400
TZOFFSETTO:-0500
TZNAME:EST
DTSTART:20241103T060000
END:STANDARD
BEGIN:DAYLIGHT
TZOFFSETFROM:-0500
TZOFFSETTO:-0400
TZNAME:EDT
DTSTART:20250309T070000
END:DAYLIGHT
BEGIN:STANDARD
TZOFFSETFROM:-0400
TZOFFSETTO:-0500
TZNAME:EST
DTSTART:20251102T060000
END:STANDARD
BEGIN:DAYLIGHT
TZOFFSETFROM:-0500
TZOFFSETTO:-0400
TZNAME:EDT
DTSTART:20260308T070000
END:DAYLIGHT
BEGIN:STANDARD
TZOFFSETFROM:-0400
TZOFFSETTO:-0500
TZNAME:EST
DTSTART:20261101T060000
END:STANDARD
END:VTIMEZONE
BEGIN:VEVENT
DTSTART;VALUE=DATE:20251015
DTEND;VALUE=DATE:20251016
DTSTAMP:20260422T060347
CREATED:20250703T045740Z
LAST-MODIFIED:20250703T051140Z
UID:10000350-1760486400-1760572799@excelnotes.com
SUMMARY:Evacuation Day in Tunisia
DESCRIPTION:Evacuation Day in Tunisia commemorates the final withdrawal of French troops from Tunisian territory on October 15\, 1963\, marking the end of colonial military presence and the full realization of Tunisia's sovereignty. \nWhen is Evacuation Day?\nEvacuation Day is observed annually on October 15.  \nThe following is the list of Evacuation Day from 2020 to 2049. \n   \n\n                \n                \n                            \n                            \n                            \n                    \n        \n\n                                                        HolidayDateWeekday\n\n\n\n        \n            Evacuation DayOct 15\, 2020Thursday        \n            \n            Evacuation DayOct 15\, 2021Friday        \n            \n            Evacuation DayOct 15\, 2022Saturday        \n            \n            Evacuation DayOct 15\, 2023Sunday        \n            \n            Evacuation DayOct 15\, 2024Tuesday        \n            \n            Evacuation DayOct 15\, 2025Wednesday        \n            \n            Evacuation DayOct 15\, 2026Thursday        \n            \n            Evacuation DayOct 15\, 2027Friday        \n            \n            Evacuation DayOct 15\, 2028Sunday        \n            \n            Evacuation DayOct 15\, 2029Monday        \n            \n            Evacuation DayOct 15\, 2030Tuesday        \n            \n            Evacuation DayOct 15\, 2031Wednesday        \n            \n            Evacuation DayOct 15\, 2032Friday        \n            \n            Evacuation DayOct 15\, 2033Saturday        \n            \n            Evacuation DayOct 15\, 2034Sunday        \n            \n            Evacuation DayOct 15\, 2035Monday        \n            \n            Evacuation DayOct 15\, 2036Wednesday        \n            \n            Evacuation DayOct 15\, 2037Thursday        \n            \n            Evacuation DayOct 15\, 2038Friday        \n            \n            Evacuation DayOct 15\, 2039Saturday        \n            \n            Evacuation DayOct 15\, 2040Monday        \n            \n            Evacuation DayOct 15\, 2041Tuesday        \n            \n            Evacuation DayOct 15\, 2042Wednesday        \n            \n            Evacuation DayOct 15\, 2043Thursday        \n            \n            Evacuation DayOct 15\, 2044Saturday        \n            \n            Evacuation DayOct 15\, 2045Sunday        \n            \n            Evacuation DayOct 15\, 2046Monday        \n            \n            Evacuation DayOct 15\, 2047Tuesday        \n            \n            Evacuation DayOct 15\, 2048Thursday        \n            \n            Evacuation DayOct 15\, 2049Friday        \n    \n    \n    \n    \n    \n\n\nThe History of Evacuation Day?\n1881\, Tunisia becomes a French protectorate. Under the Treaty of Bardo\, France gained control over Tunisia\, making it a protectorate for over 75 years. \nOn March 20\, 1956\, Tunisia officially becomes independent\, led by Habib Bourguiba. However\, France retained control of the Bizerte naval base\, citing its strategic importance in the Mediterranean. \nIn July 1961\, Tunisia demanded that France evacuate the Bizerte base. Tensions escalated into a military conflict and France responded with force. Over 600 Tunisians were killed\, and many were injured. This tragic episode intensified national and international pressure on France. \nOn October 15\, 1963\, after diplomatic negotiations and sustained protests\, France agreed to evacuate Bizerte. On this date\, the last French soldier left Tunisia\, and the Tunisian flag was raised over the former base. \nIn 1964\, the Tunisian government declared October 15 a national public holiday to honor this critical moment in Tunisian history.
URL:https://excelnotes.com/holiday/evacuation-day-tunisia/
CATEGORIES:Historical Holiday
ATTACH;FMTTYPE=image/jpeg:https://excelnotes.com/wp-content/uploads/2025/07/Evacuation-Day-in-Tunisia.jpg
END:VEVENT
END:VCALENDAR