BEGIN:VCALENDAR
VERSION:2.0
PRODID:-//ExcelNotes - ECPv6.15.20//NONSGML v1.0//EN
CALSCALE:GREGORIAN
METHOD:PUBLISH
X-WR-CALNAME:ExcelNotes
X-ORIGINAL-URL:https://excelnotes.com
X-WR-CALDESC:Events for ExcelNotes
REFRESH-INTERVAL;VALUE=DURATION:PT1H
X-Robots-Tag:noindex
X-PUBLISHED-TTL:PT1H
BEGIN:VTIMEZONE
TZID:America/New_York
BEGIN:DAYLIGHT
TZOFFSETFROM:-0500
TZOFFSETTO:-0400
TZNAME:EDT
DTSTART:20240310T070000
END:DAYLIGHT
BEGIN:STANDARD
TZOFFSETFROM:-0400
TZOFFSETTO:-0500
TZNAME:EST
DTSTART:20241103T060000
END:STANDARD
BEGIN:DAYLIGHT
TZOFFSETFROM:-0500
TZOFFSETTO:-0400
TZNAME:EDT
DTSTART:20250309T070000
END:DAYLIGHT
BEGIN:STANDARD
TZOFFSETFROM:-0400
TZOFFSETTO:-0500
TZNAME:EST
DTSTART:20251102T060000
END:STANDARD
BEGIN:DAYLIGHT
TZOFFSETFROM:-0500
TZOFFSETTO:-0400
TZNAME:EDT
DTSTART:20260308T070000
END:DAYLIGHT
BEGIN:STANDARD
TZOFFSETFROM:-0400
TZOFFSETTO:-0500
TZNAME:EST
DTSTART:20261101T060000
END:STANDARD
END:VTIMEZONE
BEGIN:VEVENT
DTSTART;VALUE=DATE:20251011
DTEND;VALUE=DATE:20251012
DTSTAMP:20260421T235837
CREATED:20250830T030034Z
LAST-MODIFIED:20250830T030034Z
UID:10000471-1760140800-1760227199@excelnotes.com
SUMMARY:Day of Catalonia
DESCRIPTION:The Day of Catalonia originated as a remembrance of the 1714 defeat but has evolved into a powerful expression of Catalonia's culture\, history\, and political struggle for autonomy or independence. \nWhen is Day of Catalonia?\nDay of Catalonia is celebrated every year on September 11.  \nThe following is the list of Day of Catalonia from 2020 to 2049. \n   \n\n                \n                \n                            \n                            \n                            \n                    \n        \n\n                                                        HolidayDateWeekday\n\n\n\n        \n            Day of CataloniaSep 11\, 2020Friday        \n            \n            Day of CataloniaSep 11\, 2021Saturday        \n            \n            Day of CataloniaSep 11\, 2022Sunday        \n            \n            Day of CataloniaSep 11\, 2023Monday        \n            \n            Day of CataloniaSep 11\, 2024Wednesday        \n            \n            Day of CataloniaSep 11\, 2025Thursday        \n            \n            Day of CataloniaSep 11\, 2026Friday        \n            \n            Day of CataloniaSep 11\, 2027Saturday        \n            \n            Day of CataloniaSep 11\, 2028Monday        \n            \n            Day of CataloniaSep 11\, 2029Tuesday        \n            \n            Day of CataloniaSep 11\, 2030Wednesday        \n            \n            Day of CataloniaSep 11\, 2031Thursday        \n            \n            Day of CataloniaSep 11\, 2032Saturday        \n            \n            Day of CataloniaSep 11\, 2033Sunday        \n            \n            Day of CataloniaSep 11\, 2034Monday        \n            \n            Day of CataloniaSep 11\, 2035Tuesday        \n            \n            Day of CataloniaSep 11\, 2036Thursday        \n            \n            Day of CataloniaSep 11\, 2037Friday        \n            \n            Day of CataloniaSep 11\, 2038Saturday        \n            \n            Day of CataloniaSep 11\, 2039Sunday        \n            \n            Day of CataloniaSep 11\, 2040Tuesday        \n            \n            Day of CataloniaSep 11\, 2041Wednesday        \n            \n            Day of CataloniaSep 11\, 2042Thursday        \n            \n            Day of CataloniaSep 11\, 2043Friday        \n            \n            Day of CataloniaSep 11\, 2044Sunday        \n            \n            Day of CataloniaSep 11\, 2045Monday        \n            \n            Day of CataloniaSep 11\, 2046Tuesday        \n            \n            Day of CataloniaSep 11\, 2047Wednesday        \n            \n            Day of CataloniaSep 11\, 2048Friday        \n            \n            Day of CataloniaSep 11\, 2049Saturday        \n            \n                    \n    \n    \n    \n    \n    \n\n\nThe History of Day of Catalonia?\nThe Day of Catalonia commemorates September 11\, 1714\, when Barcelona fell to the Bourbon forces of King Philip V after a 14-month siege during the War of the Spanish Succession. \nThe first public remembrance took place in 1886 at the tomb of Rafael Casanova\, one of the city's military leaders in 1714. \nBy the late 19th century\, September 11 had become a patriotic and cultural day for Catalans\, tied to the Renaixença movement that revived Catalan language and culture. \nUnder dictatorships (such as Primo de Rivera in the 1920s and Francisco Franco from 1939–1975)\, public observance of La Diada was banned\, though Catalans continued to honor it privately. \nIn 1977\, after Franco's death\, a massive demonstration in Barcelona on September 11 drew over one million people demanding autonomy. \nIn 1980\, after the restoration of democracy and Catalan self-government\, the Parliament of Catalonia officially declared September 11 the National Day of Catalonia. \nToday\, Day of Catalonia is both a commemoration of the 1714 defeat and a symbol of Catalan identity and political aspirations.
URL:https://excelnotes.com/holiday/day-of-catalonia/
CATEGORIES:Historical Holiday
ATTACH;FMTTYPE=image/jpeg:https://excelnotes.com/wp-content/uploads/2025/08/Day-of-Catalonia.jpg
END:VEVENT
END:VCALENDAR