BEGIN:VCALENDAR
VERSION:2.0
PRODID:-//ExcelNotes - ECPv6.15.20//NONSGML v1.0//EN
CALSCALE:GREGORIAN
METHOD:PUBLISH
X-WR-CALNAME:ExcelNotes
X-ORIGINAL-URL:https://excelnotes.com
X-WR-CALDESC:Events for ExcelNotes
REFRESH-INTERVAL;VALUE=DURATION:PT1H
X-Robots-Tag:noindex
X-PUBLISHED-TTL:PT1H
BEGIN:VTIMEZONE
TZID:America/New_York
BEGIN:DAYLIGHT
TZOFFSETFROM:-0500
TZOFFSETTO:-0400
TZNAME:EDT
DTSTART:20240310T070000
END:DAYLIGHT
BEGIN:STANDARD
TZOFFSETFROM:-0400
TZOFFSETTO:-0500
TZNAME:EST
DTSTART:20241103T060000
END:STANDARD
BEGIN:DAYLIGHT
TZOFFSETFROM:-0500
TZOFFSETTO:-0400
TZNAME:EDT
DTSTART:20250309T070000
END:DAYLIGHT
BEGIN:STANDARD
TZOFFSETFROM:-0400
TZOFFSETTO:-0500
TZNAME:EST
DTSTART:20251102T060000
END:STANDARD
BEGIN:DAYLIGHT
TZOFFSETFROM:-0500
TZOFFSETTO:-0400
TZNAME:EDT
DTSTART:20260308T070000
END:DAYLIGHT
BEGIN:STANDARD
TZOFFSETFROM:-0400
TZOFFSETTO:-0500
TZNAME:EST
DTSTART:20261101T060000
END:STANDARD
END:VTIMEZONE
BEGIN:VEVENT
DTSTART;VALUE=DATE:20251009
DTEND;VALUE=DATE:20251010
DTSTAMP:20260421T173326
CREATED:20250422T020113Z
LAST-MODIFIED:20250422T020113Z
UID:10000293-1759968000-1760054399@excelnotes.com
SUMMARY:Independence Day (Uganda)
DESCRIPTION:Independence Day in Uganda marks the day in 1962 when Uganda gained independence from British colonial rule\, becoming a sovereign nation after nearly 70 years under British administration. \nWhen is Independence Day?\nIndependence Day is celebrated every year on October 9.  \nThe following is the list of Independence Day from 2020 to 2049. \n   \n\n                \n                \n                            \n                            \n                            \n                    \n        \n\n                                                        HolidayDateWeekday\n\n\n\n        \n            Independence DayOct 09\, 2020Friday        \n            \n            Independence DayOct 09\, 2021Saturday        \n            \n            Independence DayOct 09\, 2022Sunday        \n            \n            Independence DayOct 09\, 2023Monday        \n            \n            Independence DayOct 09\, 2024Wednesday        \n            \n            Independence DayOct 09\, 2025Thursday        \n            \n            Independence DayOct 09\, 2026Friday        \n            \n            Independence DayOct 09\, 2027Saturday        \n            \n            Independence DayOct 09\, 2028Monday        \n            \n            Independence DayOct 09\, 2029Tuesday        \n            \n            Independence DayOct 09\, 2030Wednesday        \n            \n            Independence DayOct 09\, 2031Thursday        \n            \n            Independence DayOct 09\, 2032Saturday        \n            \n            Independence DayOct 09\, 2033Sunday        \n            \n            Independence DayOct 09\, 2034Monday        \n            \n            Independence DayOct 09\, 2035Tuesday        \n            \n            Independence DayOct 09\, 2036Thursday        \n            \n            Independence DayOct 09\, 2037Friday        \n            \n            Independence DayOct 09\, 2038Saturday        \n            \n            Independence DayOct 09\, 2039Sunday        \n            \n            Independence DayOct 09\, 2040Tuesday        \n            \n            Independence DayOct 09\, 2041Wednesday        \n            \n            Independence DayOct 09\, 2042Thursday        \n            \n            Independence DayOct 09\, 2043Friday        \n            \n            Independence DayOct 09\, 2044Sunday        \n            \n            Independence DayOct 09\, 2045Monday        \n            \n            Independence DayOct 09\, 2046Tuesday        \n            \n            Independence DayOct 09\, 2047Wednesday        \n            \n            Independence DayOct 09\, 2048Friday        \n            \n            Independence DayOct 09\, 2049Saturday        \n    \n    \n    \n    \n    \n\n\nThe History of Independence Day?\nIndependence Day in Uganda is a cornerstone of Ugandan national identity\, symbolizing the country's emergence as a sovereign nation after decades of foreign domination. \nUganda became a British protectorate in 1894\, following a series of treaties and military interventions. The colonial administration reorganized traditional kingdoms\, introduced cash crop agriculture (especially cotton and coffee)\, and established Western-style education and bureaucracy—often without the consent of local populations. \nOver time\, this system eroded traditional structures and created ethnic and regional tensions that would influence the post-independence era. \nAfter World War II\, a wave of decolonization swept through Africa. Ugandans began organizing politically to demand self-rule. Political parties such as the Democratic Party (DP) and Uganda People's Congress (UPC) were formed\, advocating for independence and greater representation. \nNegotiations between Ugandan leaders and British authorities resulted in a peaceful transition of power. \nOn October 9\, 1962\, Uganda officially gained independence from Britain. Milton Obote\, leader of the UPC\, became Uganda's first Prime Minister. Sir Edward Muteesa II\, the King of Buganda\, served as the first ceremonial President in 1963. \nThe Ugandan flag\, with its black\, yellow\, and red stripes and crested crane\, was raised for the first time\, symbolizing unity\, sunshine and brotherhood. \nWhile independence was initially peaceful\, the country soon experienced political instability\, a 1966 crisis between Obote and Muteesa led to the abolition of monarchies\, and in 1971\, General Idi Amin seized power\, beginning a brutal dictatorship that lasted until 1979. \nUganda's Independence Day is a reminder of the country's hard-earned freedom\, and the importance of self-determination.
URL:https://excelnotes.com/holiday/independence-day-uganda/
CATEGORIES:Historical Holiday
ATTACH;FMTTYPE=image/jpeg:https://excelnotes.com/wp-content/uploads/2025/04/Independence-Day-Uganda.jpg
END:VEVENT
BEGIN:VEVENT
DTSTART;VALUE=DATE:20251009
DTEND;VALUE=DATE:20251010
DTSTAMP:20260421T173326
CREATED:20250901T030642Z
LAST-MODIFIED:20250901T030642Z
UID:10000481-1759968000-1760054399@excelnotes.com
SUMMARY:Day of Valencian Community
DESCRIPTION:The Day of the Valencian Community commemorates both the 1238 conquest of Valencia by James I of Aragon and the region's modern Statute of Autonomy (1982). It blends solemn civic traditions with festive customs such as the Mocadorà\, making it both a patriotic and popular holiday. \nWhen is the Day of Valencian Community?\nThe Day of Valencian Community celebrated every year on October 9.  \nThe following is the list of the Day of Valencian Community from 2020 to 2049. \n   \n\n                \n                \n                            \n                            \n                            \n                    \n        \n\n                                                        HolidayDateWeekday\n\n\n\n        \n            Day of Valencian CommunityOct 09\, 2020Friday        \n            \n            Day of Valencian CommunityOct 09\, 2021Saturday        \n            \n            Day of Valencian CommunityOct 09\, 2022Sunday        \n            \n            Day of Valencian CommunityOct 09\, 2023Monday        \n            \n            Day of Valencian CommunityOct 09\, 2024Wednesday        \n            \n            Day of Valencian CommunityOct 09\, 2025Thursday        \n            \n            Day of Valencian CommunityOct 09\, 2026Friday        \n            \n            Day of Valencian CommunityOct 09\, 2027Saturday        \n            \n            Day of Valencian CommunityOct 09\, 2028Monday        \n            \n            Day of Valencian CommunityOct 09\, 2029Tuesday        \n            \n            Day of Valencian CommunityOct 09\, 2030Wednesday        \n            \n            Day of Valencian CommunityOct 09\, 2031Thursday        \n            \n            Day of Valencian CommunityOct 09\, 2032Saturday        \n            \n            Day of Valencian CommunityOct 09\, 2033Sunday        \n            \n            Day of Valencian CommunityOct 09\, 2034Monday        \n            \n            Day of Valencian CommunityOct 09\, 2035Tuesday        \n            \n            Day of Valencian CommunityOct 09\, 2036Thursday        \n            \n            Day of Valencian CommunityOct 09\, 2037Friday        \n            \n            Day of Valencian CommunityOct 09\, 2038Saturday        \n            \n            Day of Valencian CommunityOct 09\, 2039Sunday        \n            \n            Day of Valencian CommunityOct 09\, 2040Tuesday        \n            \n            Day of Valencian CommunityOct 09\, 2041Wednesday        \n            \n            Day of Valencian CommunityOct 09\, 2042Thursday        \n            \n            Day of Valencian CommunityOct 09\, 2043Friday        \n            \n            Day of Valencian CommunityOct 09\, 2044Sunday        \n            \n            Day of Valencian CommunityOct 09\, 2045Monday        \n            \n            Day of Valencian CommunityOct 09\, 2046Tuesday        \n            \n            Day of Valencian CommunityOct 09\, 2047Wednesday        \n            \n            Day of Valencian CommunityOct 09\, 2048Friday        \n            \n            Day of Valencian CommunityOct 09\, 2049Saturday        \n            \n                    \n    \n    \n    \n    \n    \n\n\nThe History of the Day of Valencian Community?\nOn October 9\, 1238\, King James I of Aragon (Jaume I el Conqueridor) entered the city of Valencia after forcing its Muslim ruler\, Zayyan ibn Mardanis\, to surrender. \nThis conquest established the Kingdom of Valencia\, one of the territories of the Crown of Aragon. The date became remembered as the foundation of Valencia as a Christian kingdom\, with its own institutions and identity. \nFor centuries\, October 9 was commemorated in Valencia City with processions of the Senyera (the Valencian flag) and religious acts. \nA unique tradition developed: the Senyera is carried horizontally (never lowered to anyone\, not even the king)\, symbolizing sovereignty and dignity. Over time\, the date gained symbolic value as a day of regional pride and identity. \nAfter Spain's 1978 Constitution\, regions were allowed to seek autonomy. In 1982\, the Statute of Autonomy of the Valencian Community was approved\, granting self-government. \nOctober 9 was officially declared the Day of the Valencian Community\, linking the medieval conquest with the modern affirmation of regional autonomy.
URL:https://excelnotes.com/holiday/day-of-valencian-community/
CATEGORIES:Historical Holiday
ATTACH;FMTTYPE=image/jpeg:https://excelnotes.com/wp-content/uploads/2025/08/Day-of-the-Valencian-Community.jpg
END:VEVENT
END:VCALENDAR