BEGIN:VCALENDAR
VERSION:2.0
PRODID:-//ExcelNotes - ECPv6.15.20//NONSGML v1.0//EN
CALSCALE:GREGORIAN
METHOD:PUBLISH
X-ORIGINAL-URL:https://excelnotes.com
X-WR-CALDESC:Events for ExcelNotes
REFRESH-INTERVAL;VALUE=DURATION:PT1H
X-Robots-Tag:noindex
X-PUBLISHED-TTL:PT1H
BEGIN:VTIMEZONE
TZID:America/New_York
BEGIN:DAYLIGHT
TZOFFSETFROM:-0500
TZOFFSETTO:-0400
TZNAME:EDT
DTSTART:20240310T070000
END:DAYLIGHT
BEGIN:STANDARD
TZOFFSETFROM:-0400
TZOFFSETTO:-0500
TZNAME:EST
DTSTART:20241103T060000
END:STANDARD
BEGIN:DAYLIGHT
TZOFFSETFROM:-0500
TZOFFSETTO:-0400
TZNAME:EDT
DTSTART:20250309T070000
END:DAYLIGHT
BEGIN:STANDARD
TZOFFSETFROM:-0400
TZOFFSETTO:-0500
TZNAME:EST
DTSTART:20251102T060000
END:STANDARD
BEGIN:DAYLIGHT
TZOFFSETFROM:-0500
TZOFFSETTO:-0400
TZNAME:EDT
DTSTART:20260308T070000
END:DAYLIGHT
BEGIN:STANDARD
TZOFFSETFROM:-0400
TZOFFSETTO:-0500
TZNAME:EST
DTSTART:20261101T060000
END:STANDARD
END:VTIMEZONE
BEGIN:VEVENT
DTSTART;VALUE=DATE:20251001
DTEND;VALUE=DATE:20251003
DTSTAMP:20260421T130157
CREATED:20250423T053345Z
LAST-MODIFIED:20250423T053445Z
UID:10000302-1759276800-1759449599@excelnotes.com
SUMMARY:Tuvalu Day
DESCRIPTION:Tuvalu Day is the national day of Tuvalu that commemorates Tuvalu's independence from the United Kingdom in 1978 and marks the country's emergence as a sovereign nation and member of the Commonwealth. It is the most important public holiday in Tuvalu and a proud celebration of nationhood\, culture and unity. \nWhen is Tuvalu Day?\nTuvalu Day is celebrated annually on October 1 and 2.  \nThe following is the list of Tuvalu Day from 2020 to 2049. \n   \n\n                \n                \n                            \n                            \n                            \n                    \n        \n\n                                                        HolidayDate OneDate Two\n\n\n\n        \n            Tuvalu DayOct 01\, 2020Oct 02\, 2020        \n            \n            Tuvalu DayOct 01\, 2021Oct 02\, 2021        \n            \n            Tuvalu DayOct 01\, 2022Oct 02\, 2022        \n            \n            Tuvalu DayOct 01\, 2023Oct 02\, 2023        \n            \n            Tuvalu DayOct 01\, 2024Oct 02\, 2024        \n            \n            Tuvalu DayOct 01\, 2025Oct 02\, 2025        \n            \n            Tuvalu DayOct 01\, 2026Oct 02\, 2026        \n            \n            Tuvalu DayOct 01\, 2027Oct 02\, 2027        \n            \n            Tuvalu DayOct 01\, 2028Oct 02\, 2028        \n            \n            Tuvalu DayOct 01\, 2029Oct 02\, 2029        \n            \n            Tuvalu DayOct 01\, 2030Oct 02\, 2030        \n            \n            Tuvalu DayOct 01\, 2031Oct 02\, 2031        \n            \n            Tuvalu DayOct 01\, 2032Oct 02\, 2032        \n            \n            Tuvalu DayOct 01\, 2033Oct 02\, 2033        \n            \n            Tuvalu DayOct 01\, 2034Oct 02\, 2034        \n            \n            Tuvalu DayOct 01\, 2035Oct 02\, 2035        \n            \n            Tuvalu DayOct 01\, 2036Oct 02\, 2036        \n            \n            Tuvalu DayOct 01\, 2037Oct 02\, 2037        \n            \n            Tuvalu DayOct 01\, 2038Oct 02\, 2038        \n            \n            Tuvalu DayOct 01\, 2039Oct 02\, 2039        \n            \n            Tuvalu DayOct 01\, 2040Oct 02\, 2040        \n            \n            Tuvalu DayOct 01\, 2041Oct 02\, 2041        \n            \n            Tuvalu DayOct 01\, 2042Oct 02\, 2042        \n            \n            Tuvalu DayOct 01\, 2043Oct 02\, 2043        \n            \n            Tuvalu DayOct 01\, 2044Oct 02\, 2044        \n            \n            Tuvalu DayOct 01\, 2045Oct 02\, 2045        \n            \n            Tuvalu DayOct 01\, 2046Oct 02\, 2046        \n            \n            Tuvalu DayOct 01\, 2047Oct 02\, 2047        \n            \n            Tuvalu DayOct 01\, 2048Oct 02\, 2048        \n            \n            Tuvalu DayOct 01\, 2049Oct 02\, 2049        \n    \n    \n    \n    \n    \n\n\nThe History of Tuvalu Day?\nIn the late 1800s\, the islands of Tuvalu (then known as the Ellice Islands) were incorporated into the British protectorate of the Gilbert and Ellice Islands.  \nAlthough the Ellice and Gilbert Islands were administered together\, they were culturally and linguistically distinct: the Gilbert Islands were Micronesian (now part of Kiribati)\, and the Ellice Islands (Tuvalu) were Polynesian. \nIn 1974\, amid rising calls for autonomy\, a referendum was held. The people of the Ellice Islands voted overwhelmingly to separate from the Gilbert Islands and form their own administration. \nThis led to the formal creation of Tuvalu as a separate British dependency in 1975. \nOn October 1\, 1978\, Tuvalu became an independent constitutional monarchy\, with the British monarch as Head of State. Tuvalu joined the Commonwealth of Nations and began managing its own internal and external affairs. \nThe move was peaceful and diplomatic\, supported by the UK and recognized internationally. \nTuvalu joined the United Nations in 2000\, becoming one of the world's smallest and most vulnerable member states. \nOver the years\, Tuvalu has become a global voice on climate change\, using its independence to advocate for the protection of small island nations.
URL:https://excelnotes.com/holiday/tuvalu-day/
CATEGORIES:Historical Holiday
ATTACH;FMTTYPE=image/jpeg:https://excelnotes.com/wp-content/uploads/2025/04/Tuvalu-Day.jpg
END:VEVENT
BEGIN:VEVENT
DTSTART;VALUE=DATE:20251001
DTEND;VALUE=DATE:20251008
DTSTAMP:20260421T130157
CREATED:20250129T061727Z
LAST-MODIFIED:20250929T190651Z
UID:10000217-1759276800-1759881599@excelnotes.com
SUMMARY:National Day in China
DESCRIPTION:China's National Day is to commemorate the founding of the People's Republic of China (PRC) on October 1\, 1949. It is one of the most significant national holidays in China. \nTable of Contents\n\nWhen is National Day?\nThe History of National Day\nWhat Do People Do on This Day?\nMore about Mao Zedong\n\nWhen is National Day?\nChina's National Day (国庆节) is celebrated on October 1st every year. \nThe following is the list of China's National Day from 2020 to 2049. \n   \n\n                \n                \n                            \n                            \n                            \n                    \n        \n\n                                                        HolidayDateWeekday\n\n\n\n        \n            National DayOctober 01\, 2020Thursday        \n            \n            National DayOctober 01\, 2021Friday        \n            \n            National DayOctober 01\, 2022Saturday        \n            \n            National DayOctober 01\, 2023Sunday        \n            \n            National DayOctober 01\, 2024Tuesday        \n            \n            National DayOctober 01\, 2025Wednesday        \n            \n            National DayOctober 01\, 2026Thursday        \n            \n            National DayOctober 01\, 2027Friday        \n            \n            National DayOctober 01\, 2028Sunday        \n            \n            National DayOctober 01\, 2029Monday        \n            \n            National DayOctober 01\, 2030Tuesday        \n            \n            National DayOctober 01\, 2031Wednesday        \n            \n            National DayOctober 01\, 2032Friday        \n            \n            National DayOctober 01\, 2033Saturday        \n            \n            National DayOctober 01\, 2034Sunday        \n            \n            National DayOctober 01\, 2035Monday        \n            \n            National DayOctober 01\, 2036Wednesday        \n            \n            National DayOctober 01\, 2037Thursday        \n            \n            National DayOctober 01\, 2038Friday        \n            \n            National DayOctober 01\, 2039Saturday        \n            \n            National DayOctober 01\, 2040Monday        \n            \n            National DayOctober 01\, 2041Tuesday        \n            \n            National DayOctober 01\, 2042Wednesday        \n            \n            National DayOctober 01\, 2043Thursday        \n            \n            National DayOctober 01\, 2044Saturday        \n            \n            National DayOctober 01\, 2045Sunday        \n            \n            National DayOctober 01\, 2046Monday        \n            \n            National DayOctober 01\, 2047Tuesday        \n            \n            National DayOctober 01\, 2048Thursday        \n            \n            National DayOctober 01\, 2049Friday        \n    \n    \n    \n    \n    \n\n\nThe History of China's National Day\nAfter years of internal conflict between the Communist Party of China (CPC) and the Nationalist Kuomintang (KMT)\, the CPC\, led by Mao Zedong (毛泽东)\, emerged victorious. The KMT\, led by Chiang Kai-shek (蒋介石)\, retreated to Taiwan in 1949. \nOn October 1\, 1949\, Chairman Mao Zedong stood on Tiananmen Gate (天安门) in Beijing and declared the official establishment of the People's Republic of China (中华人民共和国). \nOn December 2\, 1949\, the Chinese Central Government officially designated October 1st as National Day. In 1950\, the first National Day parade and public celebrations were held in Beijing. \nIn early years (1950–1959)\, National Day was a highly political event\, promoting Communist ideals. The government organized mass parades and public rallies. \nDuring Mao's Cultural Revolution (1966–1976)\, National Day celebrations became simpler and more ideological. The focus was on political loyalty and revolutionary propaganda rather than grand celebrations. \nAfter Deng Xiaoping launched China's economic reforms in 1978\, National Day celebrations became more focused on economic achievements and modernization. In 1984\, the government held its first large-scale military parade since 1959. \nIn 1999\, the government introduced the National Day Golden Week (国庆黄金周)\, a seven-day holiday to boost tourism and economic activity. National Day became one of China's longest public holidays\, encouraging domestic travel\, shopping\, and celebrations. \n   \nWhat Do People Do on This Day?\nFlag-raising ceremony held at sunrise at Tiananmen Square\, Beijing. Thousands of people gather to watch the national flag being raised by People's Liberation Army (PLA) honor guards. This is one of the most solemn and patriotic moments of the day. \nA massive military parade is held in Beijing's Tiananmen Square every 5 or 10 years (e.g.\, 1999\, 2009\, 2019). Government leaders\, including the President of China\, oversee the parade and give a speech. Spectacular fireworks displays take place in major cities. \nNational Day is part of China's Golden Week (October 1-7)\, a seven-day public holiday. Millions of people travel across the country or visit family\, and it is one of the busiest travel periods of the year. \nStreets and buildings are decorated with Chinese national flags. Tiananmen Square and major landmarks display large floral arrangements with patriotic themes. \nMany businesses offer major discounts\, similar to Black Friday in the United States. Hong Kong and Macau also celebrate China's National Day. \nMore about Mao Zedong\nMao Zedong (1893–1976) was the founding leader of the People's Republic of China (PRC) and served as the Chairman of the Communist Party of China (CPC) from 1943 until his death in 1976. He was a revolutionary and political leader who shaped modern China through his ideology and policies. \nHe was born on December 26\, 1893\, in Shaoshan\, Hunan Province\, China. Raised in a peasant family but received an education. \nIn 1919\, he moved to Beijing and Shanghai\, working at Peking University and engaging in communist activities. In 1921\, he co-founded the Communist Party of China (CPC) in Shanghai. In 1927\, he led the Autumn Harvest Uprising but the uprising failed\, which resulted in the CPC retreating to rural areas. \nIn 1934\, after CPC defeats by the Nationalist Party (Kuomintang\, KMT)\, Mao led the Red Army on a 9\,000 km retreat known as The Long March\, and gained supreme leadership of the CPC during this time. \nIn 1949\, Mao's forces defeated the KMT\, leading to the KMT's retreat to Taiwan. \nOn October 1\, 1949\, Mao Zedong proclaimed the founding of the PRC at Tiananmen Square\, Beijing\, and he became the first Chairman of the PRC. \nIn 1976\, Mao died on September 9\, 1976\, in Beijing. After his death\, China began economic reforms under Deng Xiaoping\, moving away from Maoist policies. \nMao Zedong was a complex and controversial figure\, shaping modern China's identity through revolution. While he is credited with founding the PRC and unifying China\, his policies also led to economic failures and human suffering.
URL:https://excelnotes.com/holiday/national-day-in-china/
CATEGORIES:Historical Holiday
ATTACH;FMTTYPE=image/jpeg:https://excelnotes.com/wp-content/uploads/2025/01/National-Day-in-China.jpg
END:VEVENT
END:VCALENDAR