BEGIN:VCALENDAR
VERSION:2.0
PRODID:-//ExcelNotes - ECPv6.15.20//NONSGML v1.0//EN
CALSCALE:GREGORIAN
METHOD:PUBLISH
X-ORIGINAL-URL:https://excelnotes.com
X-WR-CALDESC:Events for ExcelNotes
REFRESH-INTERVAL;VALUE=DURATION:PT1H
X-Robots-Tag:noindex
X-PUBLISHED-TTL:PT1H
BEGIN:VTIMEZONE
TZID:America/New_York
BEGIN:DAYLIGHT
TZOFFSETFROM:-0500
TZOFFSETTO:-0400
TZNAME:EDT
DTSTART:20240310T070000
END:DAYLIGHT
BEGIN:STANDARD
TZOFFSETFROM:-0400
TZOFFSETTO:-0500
TZNAME:EST
DTSTART:20241103T060000
END:STANDARD
BEGIN:DAYLIGHT
TZOFFSETFROM:-0500
TZOFFSETTO:-0400
TZNAME:EDT
DTSTART:20250309T070000
END:DAYLIGHT
BEGIN:STANDARD
TZOFFSETFROM:-0400
TZOFFSETTO:-0500
TZNAME:EST
DTSTART:20251102T060000
END:STANDARD
BEGIN:DAYLIGHT
TZOFFSETFROM:-0500
TZOFFSETTO:-0400
TZNAME:EDT
DTSTART:20260308T070000
END:DAYLIGHT
BEGIN:STANDARD
TZOFFSETFROM:-0400
TZOFFSETTO:-0500
TZNAME:EST
DTSTART:20261101T060000
END:STANDARD
END:VTIMEZONE
BEGIN:VEVENT
DTSTART;VALUE=DATE:20250901
DTEND;VALUE=DATE:20250902
DTSTAMP:20260419T114106
CREATED:20241213T065149Z
LAST-MODIFIED:20241228T063547Z
UID:10000049-1756684800-1756771199@excelnotes.com
SUMMARY:Labour Day in USA
DESCRIPTION:Labour Day\, also known as International Workers' Day or May Day\, is a day dedicated to celebrating the contributions of workers and the Labour movement. It is observed in many countries around the world on different days. The day has its origins in the Labour union movement\, specifically the eight-hour workday movement\, which advocated for better working conditions\, fair wages\, and other Labour rights. \nTable of Contents\n\nWhen is Labour Day?\nThe History of Labour Day?\nWhat Do People Do on This Day?\nWhat was the Haymarket Affair?\n\nWhen is Labour Day (USA)?\nWhile Labour Day is celebrated on May 1 in many countries\, the first Monday in September was chosen in the United States as a way to disassociate it from the radical associations of the Haymarket affair\, which took place on May 1st\, 1886. \nThe following is the list of Labour Day in the United States. \n   \n\n                \n                \n                            \n                            \n                            \n                    \n        \n\n                                                        HolidayDateWeekday\n\n\n\n        \n            Labour DaySeptember 07\, 2020Monday        \n            \n            Labour DaySeptember 06\, 2021Monday        \n            \n            Labour DaySeptember 05\, 2022Monday        \n            \n            Labour DaySeptember 04\, 2023Monday        \n            \n            Labour DaySeptember 02\, 2024Monday        \n            \n            Labour DaySeptember 01\, 2025Monday        \n            \n            Labour DaySeptember 07\, 2026Monday        \n            \n            Labour DaySeptember 06\, 2027Monday        \n            \n            Labour DaySeptember 04\, 2028Monday        \n            \n            Labour DaySeptember 03\, 2029Monday        \n            \n            Labour DaySeptember 02\, 2030Monday        \n            \n            Labour DaySeptember 01\, 2031Monday        \n            \n            Labour DaySeptember 06\, 2032Monday        \n            \n            Labour DaySeptember 05\, 2033Monday        \n            \n            Labour DaySeptember 04\, 2034Monday        \n            \n            Labour DaySeptember 03\, 2035Monday        \n            \n            Labour DaySeptember 01\, 2036Monday        \n            \n            Labour DaySeptember 07\, 2037Monday        \n            \n            Labour DaySeptember 06\, 2038Monday        \n            \n            Labour DaySeptember 05\, 2039Monday        \n            \n            Labour DaySeptember 03\, 2040Monday        \n            \n            Labour DaySeptember 02\, 2041Monday        \n            \n            Labour DaySeptember 01\, 2042Monday        \n            \n            Labour DaySeptember 07\, 2043Monday        \n            \n            Labour DaySeptember 05\, 2044Monday        \n            \n            Labour DaySeptember 04\, 2045Monday        \n            \n            Labour DaySeptember 03\, 2046Monday        \n            \n            Labour DaySeptember 02\, 2047Monday        \n            \n            Labour DaySeptember 07\, 2048Monday        \n            \n            Labour DaySeptember 06\, 2049Monday        \n    \n    \n    \n    \n    \n\n\nThe History of Labour Day (USA)?\nThe history of Labour Day can be traced back to the labour union movement of the 19th century\, particularly the struggle for better working conditions\, fair wages\, and the demand for an eight-hour workday. The movement gained momentum in the United States and other industrialized countries\, where workers faced long hours\, unsafe working conditions\, and inadequate pay. \nOne of the pivotal events in the history of Labour Day was the Haymarket Affair in Chicago in 1886\, a peaceful rally supporting workers striking for an eight-hour day that turned violent. Following the events in the U.S.\, Labour Day was adopted by various countries worldwide as a day to celebrate the achievements and contributions of the working class. It became associated with the broader struggle for workers' rights and social justice. \nIn many countries\, Labour Day is celebrated on May 1st and is known as May Day. This date was chosen to commemorate the Haymarket Affair. May Day has since become a significant date for demonstrations and protests by various labour and socialist groups. \nIn the United States\, Labour Day was designated as a federal holiday in 1894\, and it is observed on the first Monday in September\, which is considered the unofficial end of summer\, also a way to disassociate it from the radical associations of May 1st. \n   \nWhat Do People Do on This Day?\nCelebrating Labour Day in the United States typically involves a mix of leisure activities\, community events\, and recognition of the contributions of workers. Here are five common ways to celebrate. \nMany communities host events that focus on the history and achievements of the labour movement. These might include parades\, speeches\, rallies\, and educational events. Labour unions often organize these gatherings to highlight the importance of workers' rights. \nLabour Day is often seen as the unofficial end of summer in the U.S.\, so many people take the opportunity to have family gatherings. It's a time for relaxation and spending time with loved ones. \nSince LabourDay falls at the beginning of September\, it's an ideal time for outdoor activities like picnics\, camping trips\, beach outings\, or hikes. People take advantage of the long weekend to enjoy the outdoors. \nSome people choose to mark Labour Day by giving back to their communities through volunteering or participating in community service projects. \nSome cities host music and cultural festivals over Labour Day weekend. These events can include concerts\, art exhibitions\, craft fairs\, and food festivals\, providing entertainment and celebrating local culture and communities. \nWhat was the Haymarket Affair?\nThe Haymarket Affair\, also known as the Haymarket Riot\, was a significant event in the history of labour movements\, occurring on May 4\, 1886\, in Chicago\, Illinois\, USA. It became a pivotal moment for labour rights across the world and played a key role in the establishment of Labour Day on May 1st. \nWorkers often faced long hours\, low pay\, and dangerous working conditions in the late 19th century. Labour  unions were fighting for an eight-hour workday\, among other rights. On May 4\, 1886\, a peaceful rally was held at Haymarket Square in Chicago to support workers striking for an eight-hour day and to protest the killing and wounding of several workers by the police during a strike the previous day. \nAs the rally was winding down\, and after a heavy police presence arrived\, an unknown person threw a bomb at the police. The bomb blast and ensuing gunfire resulted in the death of several police officers and civilians. The events that followed were marked by a sensationalized trial. Eight anarchists were arrested and charged with conspiracy connected to the bombing. Despite a lack of direct evidence linking them to the bomb\, seven were sentenced to death and one to a long prison term. Four were executed\, one committed suicide\, and the remaining three were eventually pardoned. \nThe Haymarket Affair became a symbol of the struggle for workers' rights. It highlighted the growing tensions between labour and capital in the industrializing United States. The affair remains an important historical event\, symbolizing the struggle for workers' rights and contributing to the development of labuor movement globally.
URL:https://excelnotes.com/holiday/labour-day-usa/
CATEGORIES:Historical Holiday
ATTACH;FMTTYPE=image/jpeg:https://excelnotes.com/wp-content/uploads/2023/12/Labour-Day-USA.jpg
END:VEVENT
BEGIN:VEVENT
DTSTART;VALUE=DATE:20250901
DTEND;VALUE=DATE:20250902
DTSTAMP:20260419T114106
CREATED:20250103T045853Z
LAST-MODIFIED:20250103T045853Z
UID:10000150-1756684800-1756771199@excelnotes.com
SUMMARY:Labour Day in Canada
DESCRIPTION:Labour Day is a statutory holiday across Canada\, dedicated to honoring the contributions of workers and the labor movement. The day also marks the unofficial end of summer and is a time for rest\, reflection and community events. \nTable of Contents\n\nWhen is Labour Day?\nThe History of Labour Day?\nWhat Do People Do on This Day?\nMore about the Haymarket Affair?\n\nWhen is Labour Day (CA)?\nWhile Labour Day is celebrated on May 1 in many countries\, the first Monday in September was chosen in Canada as a way to disassociate it from the radical associations of the Haymarket affair\, which took place on May 1st\, 1886. \nThe following is the list of Labour Day in Canada. \n   \n\n                \n                \n                            \n                            \n                            \n                    \n        \n\n                                                        HolidayDateWeekday\n\n\n\n        \n            Labour DaySeptember 07\, 2020Monday        \n            \n            Labour DaySeptember 06\, 2021Monday        \n            \n            Labour DaySeptember 05\, 2022Monday        \n            \n            Labour DaySeptember 04\, 2023Monday        \n            \n            Labour DaySeptember 02\, 2024Monday        \n            \n            Labour DaySeptember 01\, 2025Monday        \n            \n            Labour DaySeptember 07\, 2026Monday        \n            \n            Labour DaySeptember 06\, 2027Monday        \n            \n            Labour DaySeptember 04\, 2028Monday        \n            \n            Labour DaySeptember 03\, 2029Monday        \n            \n            Labour DaySeptember 02\, 2030Monday        \n            \n            Labour DaySeptember 01\, 2031Monday        \n            \n            Labour DaySeptember 06\, 2032Monday        \n            \n            Labour DaySeptember 05\, 2033Monday        \n            \n            Labour DaySeptember 04\, 2034Monday        \n            \n            Labour DaySeptember 03\, 2035Monday        \n            \n            Labour DaySeptember 01\, 2036Monday        \n            \n            Labour DaySeptember 07\, 2037Monday        \n            \n            Labour DaySeptember 06\, 2038Monday        \n            \n            Labour DaySeptember 05\, 2039Monday        \n            \n            Labour DaySeptember 03\, 2040Monday        \n            \n            Labour DaySeptember 02\, 2041Monday        \n            \n            Labour DaySeptember 01\, 2042Monday        \n            \n            Labour DaySeptember 07\, 2043Monday        \n            \n            Labour DaySeptember 05\, 2044Monday        \n            \n            Labour DaySeptember 04\, 2045Monday        \n            \n            Labour DaySeptember 03\, 2046Monday        \n            \n            Labour DaySeptember 02\, 2047Monday        \n            \n            Labour DaySeptember 07\, 2048Monday        \n            \n            Labour DaySeptember 06\, 2049Monday        \n    \n    \n    \n    \n    \n\n\nThe History of Labour Day (CA)?\nThe history of Labour Day can be traced back to the labour union movement of the 19th century\, particularly the struggle for better working conditions\, fair wages\, and the demand for an eight-hour workday. The movement gained momentum in the United States and other industrialized countries\, where workers faced long hours\, unsafe working conditions\, and inadequate pay. \nOne of the pivotal events in the history of Labour Day was the Haymarket Affair in Chicago in 1886\, a peaceful rally supporting workers striking for an eight-hour day that turned violent. Following the events in the U.S.\, Labour Day was adopted by various countries worldwide as a day to celebrate the achievements and contributions of the working class. It became associated with the broader struggle for workers' rights and social justice. \nIn many countries\, Labour Day is celebrated on May 1st and is known as May Day. This date was chosen to commemorate the Haymarket Affair. May Day has since become a significant date for demonstrations and protests by various labour and socialist groups. \nLabour Day in Canada traces its roots to the Toronto Typographical Union strike of 1872\, which sought a nine-hour workday. In 1894\, the Canadian government officially declared the first Monday of September as Labour Day\, aligning with the United States\, which had established the same date earlier that year. \n   \nWhat Do People Do on This Day?\nOn Labour Day in Canada\, people engage in a variety of activities. The day is a mix of relaxation\, community events\, and reflection on the contributions of the labor movement. \nMany communities host events that focus on the history and achievements of the labour movement. These might include parades\, speeches\, rallies\, and educational events. Labour unions often organize these gatherings to highlight the importance of workers' rights. \nLabour Day is often seen as the unofficial end of summer in the Canada\, so many people take the opportunity to have family gatherings. It's a time for relaxation and spending time with loved ones. \nSince Labour Day falls at the beginning of September\, it's an ideal time for outdoor activities like picnics\, camping trips\, beach outings\, or hikes. People take advantage of the long weekend to enjoy the outdoors. \nSome people choose to mark Labour Day by giving back to their communities through volunteering or participating in community service projects. \nSome cities host music and cultural festivals over Labour Day weekend. These events can include concerts\, art exhibitions\, craft fairs\, and food festivals\, providing entertainment and celebrating local culture and communities. \nSome Canadians use the day to learn about labor history\, reflecting on the struggles and achievements that shaped modern workplace protections. \nMore about the Haymarket Affair?\nThe Haymarket Affair\, also known as the Haymarket Riot\, was a significant event in the history of labour movements\, occurring on May 4\, 1886\, in Chicago\, Illinois\, USA. It became a pivotal moment for labour rights across the world and played a key role in the establishment of Labour Day on May 1st. \nWorkers often faced long hours\, low pay\, and dangerous working conditions in the late 19th century. Labour  unions were fighting for an eight-hour workday\, among other rights. On May 4\, 1886\, a peaceful rally was held at Haymarket Square in Chicago to support workers striking for an eight-hour day and to protest the killing and wounding of several workers by the police during a strike the previous day. \nAs the rally was winding down\, and after a heavy police presence arrived\, an unknown person threw a bomb at the police. The bomb blast and ensuing gunfire resulted in the death of several police officers and civilians. The events that followed were marked by a sensationalized trial. Eight anarchists were arrested and charged with conspiracy connected to the bombing. Despite a lack of direct evidence linking them to the bomb\, seven were sentenced to death and one to a long prison term. Four were executed\, one committed suicide\, and the remaining three were eventually pardoned. \nThe Haymarket Affair became a symbol of the struggle for workers' rights. It highlighted the growing tensions between labour and capital in the industrializing United States. The affair remains an important historical event\, symbolizing the struggle for workers' rights and contributing to the development of labuor movement globally.
URL:https://excelnotes.com/holiday/labour-day-canada/
CATEGORIES:Historical Holiday
ATTACH;FMTTYPE=image/jpeg:https://excelnotes.com/wp-content/uploads/2025/01/Labour-Day-Canada.jpg
END:VEVENT
BEGIN:VEVENT
DTSTART;VALUE=DATE:20250901
DTEND;VALUE=DATE:20250902
DTSTAMP:20260419T114106
CREATED:20250420T202704Z
LAST-MODIFIED:20250420T202758Z
UID:10000273-1756684800-1756771199@excelnotes.com
SUMMARY:Independence Day (Uzbekistan)
DESCRIPTION:Independence Day is the most important national holiday in Uzbekistan. It marks the country's declaration of independence from the Soviet Union in 1991\, a pivotal moment that ushered in a new era of sovereignty\, identity\, and development for the Uzbek people. \nWhen is Independence Day?\nIndependence Day is celebrated on September 1 every year. \nThe following is the list of Independence Day from 2020 to 2049. \n   \n\n                \n                \n                            \n                            \n                            \n                    \n        \n\n                                                        HolidayDateWeekday\n\n\n\n        \n            Independence DaySep 01\, 2020Tuesday        \n            \n            Independence DaySep 01\, 2021Wednesday        \n            \n            Independence DaySep 01\, 2022Thursday        \n            \n            Independence DaySep 01\, 2023Friday        \n            \n            Independence DaySep 01\, 2024Sunday        \n            \n            Independence DaySep 01\, 2025Monday        \n            \n            Independence DaySep 01\, 2026Tuesday        \n            \n            Independence DaySep 01\, 2027Wednesday        \n            \n            Independence DaySep 01\, 2028Friday        \n            \n            Independence DaySep 01\, 2029Saturday        \n            \n            Independence DaySep 01\, 2030Sunday        \n            \n            Independence DaySep 01\, 2031Monday        \n            \n            Independence DaySep 01\, 2032Wednesday        \n            \n            Independence DaySep 01\, 2033Thursday        \n            \n            Independence DaySep 01\, 2034Friday        \n            \n            Independence DaySep 01\, 2035Saturday        \n            \n            Independence DaySep 01\, 2036Monday        \n            \n            Independence DaySep 01\, 2037Tuesday        \n            \n            Independence DaySep 01\, 2038Wednesday        \n            \n            Independence DaySep 01\, 2039Thursday        \n            \n            Independence DaySep 01\, 2040Saturday        \n            \n            Independence DaySep 01\, 2041Sunday        \n            \n            Independence DaySep 01\, 2042Monday        \n            \n            Independence DaySep 01\, 2043Tuesday        \n            \n            Independence DaySep 01\, 2044Thursday        \n            \n            Independence DaySep 01\, 2045Friday        \n            \n            Independence DaySep 01\, 2046Saturday        \n            \n            Independence DaySep 01\, 2047Sunday        \n            \n            Independence DaySep 01\, 2048Tuesday        \n            \n            Independence DaySep 01\, 2049Wednesday        \n    \n    \n    \n    \n    \n\n\nThe History of Independence Day?\nUzbekistan became part of the Soviet Union in 1924 as the Uzbek Soviet Socialist Republic. Under Soviet rule\, the country underwent rapid industrialization and social transformation but had limited political autonomy. Despite some development\, many aspects of Uzbek culture\, religion\, and governance were suppressed. \nThe late 1980s saw growing unrest across the USSR due to economic decline\, political stagnation\, and increasing demands for national rights. In August 1991\, a failed coup by Soviet hardliners in Moscow created a power vacuum and accelerated independence movements throughout the Soviet republics. \nOn August 31\, 1991\, the Supreme Council of the Uzbek SSR adopted a resolution declaring Uzbekistan an independent\, sovereign state. The next day\, September 1\, was declared a national holiday – Independence Day. \nIslam Karimov\, the former First Secretary of the Communist Party of Uzbekistan\, became the first President of independent Uzbekistan. The country adopted its own Constitution in 1992\, followed by the introduction of the national currency and other state symbols like the flag\, coat of arms\, and anthem. \nUzbekistan began forming its own foreign policy\, establishing diplomatic relations worldwide while focusing on economic and cultural revival. \nIndependence Day is not only a celebration of freedom\, but also a reminder of the resilience\, cultural richness\, and aspirations of the Uzbek people.
URL:https://excelnotes.com/holiday/independence-day-uzbekistan/
CATEGORIES:Historical Holiday
ATTACH;FMTTYPE=image/jpeg:https://excelnotes.com/wp-content/uploads/2025/04/Independence-Day-Uzbekistan.jpg
END:VEVENT
END:VCALENDAR