BEGIN:VCALENDAR
VERSION:2.0
PRODID:-//ExcelNotes - ECPv6.15.20//NONSGML v1.0//EN
CALSCALE:GREGORIAN
METHOD:PUBLISH
X-ORIGINAL-URL:https://excelnotes.com
X-WR-CALDESC:Events for ExcelNotes
REFRESH-INTERVAL;VALUE=DURATION:PT1H
X-Robots-Tag:noindex
X-PUBLISHED-TTL:PT1H
BEGIN:VTIMEZONE
TZID:America/New_York
BEGIN:DAYLIGHT
TZOFFSETFROM:-0500
TZOFFSETTO:-0400
TZNAME:EDT
DTSTART:20250309T070000
END:DAYLIGHT
BEGIN:STANDARD
TZOFFSETFROM:-0400
TZOFFSETTO:-0500
TZNAME:EST
DTSTART:20251102T060000
END:STANDARD
BEGIN:DAYLIGHT
TZOFFSETFROM:-0500
TZOFFSETTO:-0400
TZNAME:EDT
DTSTART:20260308T070000
END:DAYLIGHT
BEGIN:STANDARD
TZOFFSETFROM:-0400
TZOFFSETTO:-0500
TZNAME:EST
DTSTART:20261101T060000
END:STANDARD
BEGIN:DAYLIGHT
TZOFFSETFROM:-0500
TZOFFSETTO:-0400
TZNAME:EDT
DTSTART:20270314T070000
END:DAYLIGHT
BEGIN:STANDARD
TZOFFSETFROM:-0400
TZOFFSETTO:-0500
TZNAME:EST
DTSTART:20271107T060000
END:STANDARD
END:VTIMEZONE
BEGIN:VEVENT
DTSTART;VALUE=DATE:20260216
DTEND;VALUE=DATE:20260217
DTSTAMP:20260422T152040
CREATED:20250102T003344Z
LAST-MODIFIED:20250225T175449Z
UID:10000143-1771200000-1771286399@excelnotes.com
SUMMARY:Family Day in Canada
DESCRIPTION:Family Day is a public holiday celebrated in several provinces across Canada  to promote the importance of family and work-life balance. It provides an opportunity for Canadians to spend quality time with their loved ones through activities and events. \nTable of Contents\n\nWhen is Family Day?\nThe History of Family Day?\nWhat Do People Do on This Day?\nSimilar Holiday in Canada\n\nWhen is Family Day?\nFamily Day is observed on the third Monday of February in the following five provinces: Alberta\, British Columbia\, New Brunswick\, Ontario and Saskatchewan. \nThe following is the list of Family Day from 2020 to 2049. \n   \n\n                \n                \n                            \n                            \n                            \n                    \n        \n\n                                                        HolidayDateWeekday\n\n\n\n        \n            Family DayFebruary 17\, 2020Monday        \n            \n            Family DayFebruary 15\, 2021Monday        \n            \n            Family DayFebruary 21\, 2022Monday        \n            \n            Family DayFebruary 20\, 2023Monday        \n            \n            Family DayFebruary 19\, 2024Monday        \n            \n            Family DayFebruary 17\, 2025Monday        \n            \n            Family DayFebruary 16\, 2026Monday        \n            \n            Family DayFebruary 15\, 2027Monday        \n            \n            Family DayFebruary 21\, 2028Monday        \n            \n            Family DayFebruary 19\, 2029Monday        \n            \n            Family DayFebruary 18\, 2030Monday        \n            \n            Family DayFebruary 17\, 2031Monday        \n            \n            Family DayFebruary 16\, 2032Monday        \n            \n            Family DayFebruary 21\, 2033Monday        \n            \n            Family DayFebruary 20\, 2034Monday        \n            \n            Family DayFebruary 19\, 2035Monday        \n            \n            Family DayFebruary 18\, 2036Monday        \n            \n            Family DayFebruary 16\, 2037Monday        \n            \n            Family DayFebruary 15\, 2038Monday        \n            \n            Family DayFebruary 21\, 2039Monday        \n            \n            Family DayFebruary 20\, 2040Monday        \n            \n            Family DayFebruary 18\, 2041Monday        \n            \n            Family DayFebruary 17\, 2042Monday        \n            \n            Family DayFebruary 16\, 2043Monday        \n            \n            Family DayFebruary 15\, 2044Monday        \n            \n            Family DayFebruary 20\, 2045Monday        \n            \n            Family DayFebruary 19\, 2046Monday        \n            \n            Family DayFebruary 18\, 2047Monday        \n            \n            Family DayFebruary 17\, 2048Monday        \n            \n            Family DayFebruary 15\, 2049Monday        \n    \n    \n    \n    \n    \n\n\nThe History of Family Day? \nFamily Day is a relatively modern holiday in Canada\, created to emphasize the importance of family values\, provide a break during the long winter months\, and encourage Canadians to spend quality time with their loved ones. Its history varies across provinces\, with some adopting it earlier than others. \nFamily Day was first introduced in Alberta province in 1990. At the time\, Premier Don Getty of Alberta proposed the holiday to promote family values\, and he highlighted the need for work-life balance and a day dedicated to spending time with family. The holiday was officially established in 1990\, making Alberta the first province to observe Family Day. \nThe idea stemmed partly from Getty's personal experiences and a broader push to prioritize family life amid modern challenges. Over the next two decades\, Family Day gained popularity and was gradually adopted by other provinces: \nSaskatchewan was the second province to implement Family Day\, starting in 2007. Like Alberta\, the holiday was introduced to emphasize family values and provide a break during February. \nOntario adopted Family Day in 2008 under Premier Dalton McGuinty. It was introduced to give Ontarians a much-needed holiday in February\, a month without other statutory holidays. \nBritish Columbia followed suit in 2013\, initially celebrating Family Day on the second Monday of February to avoid overlap with holidays in other provinces\, and then moved to the third Monday of February since 2019. \nNew Brunswick introduced Family Day in 2018 to align with other provinces celebrating Family Day\, and observed the holiday on third Monday in February. \n   \nWhat Do People Do on This Day?\nFamily Day in Canada is a time for people to relax and connect with loved ones. While specific activities may vary by province\, here are some common ways people spend the day: \nPeople spend quality time with families in outdoor activities such as ice skating\, sledding\, skiing or snowboarding at local parks or ski resorts\, and many indoor activities such as hosting family game nights or watching movies together\, crafting or baking treats as a family project. Poeple may also gather together enjoying home-cooked meals or visiting a favorite restaurant. \nMany towns and cities host winter festivals with activities like snow sculpting\, fireworks and live music. Many museums\, zoos and cultural centers often offer free or reduced admission for families. At the same time\, it is very popular watching or participating in hockey games or other local sporting events. \nSome families use Family Day as an opportunity to give back to their communities by volunteering at shelters\, food banks or other community organizations. \nFor many\, Family Day is a welcome break to unwind staying at home to rest\, read or catch up on personal projects\, and reflecting on family values and reconnecting with distant relatives via calls or virtual meetings. \nWhile many Canadians have the day off\, some essential services and some businesses remain open. These workers often celebrate on an alternative day with their families. \nSimilar Holiday in Canada\nManitoba: Louis Riel Day is observed on the same day\, the third Monday in February\, and it is a holiday to celebrate the legacy and contributions of Métis leader Louis Riel. \nPrince Edward Island: Islander Day is observed on the third Monday in February\, and it was established in 2009\, focusing on PEI's local culture and community. \nNova Scotia: Heritage Day is observed on the third Monday in February. It was introduced in 2015 to celebrate Nova Scotia's heritage and history\, focusing on a different theme each year.
URL:https://excelnotes.com/holiday/family-day-canada/
CATEGORIES:Cultural Holiday
ATTACH;FMTTYPE=image/jpeg:https://excelnotes.com/wp-content/uploads/2025/01/Family-Day-Canada.jpg
END:VEVENT
BEGIN:VEVENT
DTSTART;VALUE=DATE:20260216
DTEND;VALUE=DATE:20260217
DTSTAMP:20260422T152040
CREATED:20250102T005758Z
LAST-MODIFIED:20250225T175523Z
UID:10000144-1771200000-1771286399@excelnotes.com
SUMMARY:Islander Day
DESCRIPTION:Islander Day is a provincial holiday celebrated in Prince Edward Island (PEI)\, Canada. It provides Islanders with a mid-winter break to spend time with family\, friends and their community. \nTable of Contents\n\nWhen is Islander Day?\nThe History of Islander Day?\nWhat Do People Do on This Day?\nSimilar Holiday in Canada\n\nWhen is Islander Day?\nIslander Day is observed on the third Monday of February in Prince Edward Island (PEI)\, Canada. \nThe following is the list of Islander Day from 2020 to 2049. \n   \n\n                \n                \n                            \n                            \n                            \n                    \n        \n\n                                                        HolidayDateWeekday\n\n\n\n        \n            Islander DayFebruary 17\, 2020Monday        \n            \n            Islander DayFebruary 15\, 2021Monday        \n            \n            Islander DayFebruary 21\, 2022Monday        \n            \n            Islander DayFebruary 20\, 2023Monday        \n            \n            Islander DayFebruary 19\, 2024Monday        \n            \n            Islander DayFebruary 17\, 2025Monday        \n            \n            Islander DayFebruary 16\, 2026Monday        \n            \n            Islander DayFebruary 15\, 2027Monday        \n            \n            Islander DayFebruary 21\, 2028Monday        \n            \n            Islander DayFebruary 19\, 2029Monday        \n            \n            Islander DayFebruary 18\, 2030Monday        \n            \n            Islander DayFebruary 17\, 2031Monday        \n            \n            Islander DayFebruary 16\, 2032Monday        \n            \n            Islander DayFebruary 21\, 2033Monday        \n            \n            Islander DayFebruary 20\, 2034Monday        \n            \n            Islander DayFebruary 19\, 2035Monday        \n            \n            Islander DayFebruary 18\, 2036Monday        \n            \n            Islander DayFebruary 16\, 2037Monday        \n            \n            Islander DayFebruary 15\, 2038Monday        \n            \n            Islander DayFebruary 21\, 2039Monday        \n            \n            Islander DayFebruary 20\, 2040Monday        \n            \n            Islander DayFebruary 18\, 2041Monday        \n            \n            Islander DayFebruary 17\, 2042Monday        \n            \n            Islander DayFebruary 16\, 2043Monday        \n            \n            Islander DayFebruary 15\, 2044Monday        \n            \n            Islander DayFebruary 20\, 2045Monday        \n            \n            Islander DayFebruary 19\, 2046Monday        \n            \n            Islander DayFebruary 18\, 2047Monday        \n            \n            Islander DayFebruary 17\, 2048Monday        \n            \n            Islander DayFebruary 15\, 2049Monday        \n    \n    \n    \n    \n    \n\n\nThe History of Islander Day? \nIslander Day in Prince Edward Island (PEI) has a relatively recent history compared to some other Canadian holidays.  \nIslander Day was established by the provincial government of PEI under Premier Robert Ghiz. The holiday was created to provide residents with a much-needed break during the long winter months\, similar to the Family Day holiday already observed in other provinces. It aimed to encourage Islanders to spend quality time with family\, friends\, and their communities. \nUnlike other provinces that called their holiday "Family Day"\, PEI chose the name Islander Day to reflect the province's unique identity and pride in its culture. The name emphasizes inclusivity for all residents of the island\, celebrating their connection to PEI. \nThe inaugural Islander Day took place on February 16\, 2009. It was well-received as a chance for families and friends to enjoy the day off and participate in local events. \nOver time\, Islander Day has become a cherished tradition in PEI. The holiday now includes various community-driven events\, such as winter festivals\, recreational activities\, and family-oriented programs. It has grown to represent more than just family – it also celebrates the shared heritage and culture of Islanders. \n   \nWhat Do People Do on This Day?\nOn Islander Day\, residents of Prince Edward Island (PEI) take the opportunity to relax\, connect with loved ones\, and participate in activities that celebrate their community and culture.  \nMany Islanders use the day to gather with family and friends\, sharing meals\, playing board games or watching movies together. At the same time\, many families often engage in winter activities like sledding\, skating\, snowshoeing\, or building snowmen. \nCommunities organize festivals featuring outdoor activities\, music and crafts. Common features include horse-drawn sleigh rides\, snow sculpting and fireworks. Islanders participate in or attend hockey games\, curling matches or other winter sports. \nCommunity centers\, recreational facilities and skating rinks often offer free or reduced admission for families. Many museums and cultural centers host special events or exhibitions focused on PEI's history and traditions. \nSome Islanders use the day to give back by volunteering at shelters\, food banks or community events. \nSimilar Holiday in Canada\nManitoba: Louis Riel Day is observed on the same day\, the third Monday in February\, and it is a holiday to celebrate the legacy and contributions of Métis leader Louis Riel. \nNova Scotia: Heritage Day is observed on the third Monday in February. It was introduced in 2015 to celebrate Nova Scotia's heritage and history\, focusing on a different theme each year. \nFamily Day: Family Day is observed on the third Monday in February in five different provincies: Alberta\, British Columbia\, New Brunswick\, Ontario and Saskatchewan\, which provides an opportunity for Canadians to spend quality time with their loved ones through activities and events.
URL:https://excelnotes.com/holiday/islander-day/
CATEGORIES:Cultural Holiday
ATTACH;FMTTYPE=image/jpeg:https://excelnotes.com/wp-content/uploads/2025/01/Islander-Day.jpg
END:VEVENT
END:VCALENDAR