BEGIN:VCALENDAR
VERSION:2.0
PRODID:-//ExcelNotes - ECPv6.15.20//NONSGML v1.0//EN
CALSCALE:GREGORIAN
METHOD:PUBLISH
X-WR-CALNAME:ExcelNotes
X-ORIGINAL-URL:https://excelnotes.com
X-WR-CALDESC:Events for ExcelNotes
REFRESH-INTERVAL;VALUE=DURATION:PT1H
X-Robots-Tag:noindex
X-PUBLISHED-TTL:PT1H
BEGIN:VTIMEZONE
TZID:America/New_York
BEGIN:DAYLIGHT
TZOFFSETFROM:-0500
TZOFFSETTO:-0400
TZNAME:EDT
DTSTART:20250309T070000
END:DAYLIGHT
BEGIN:STANDARD
TZOFFSETFROM:-0400
TZOFFSETTO:-0500
TZNAME:EST
DTSTART:20251102T060000
END:STANDARD
BEGIN:DAYLIGHT
TZOFFSETFROM:-0500
TZOFFSETTO:-0400
TZNAME:EDT
DTSTART:20260308T070000
END:DAYLIGHT
BEGIN:STANDARD
TZOFFSETFROM:-0400
TZOFFSETTO:-0500
TZNAME:EST
DTSTART:20261101T060000
END:STANDARD
BEGIN:DAYLIGHT
TZOFFSETFROM:-0500
TZOFFSETTO:-0400
TZNAME:EDT
DTSTART:20270314T070000
END:DAYLIGHT
BEGIN:STANDARD
TZOFFSETFROM:-0400
TZOFFSETTO:-0500
TZNAME:EST
DTSTART:20271107T060000
END:STANDARD
END:VTIMEZONE
BEGIN:VEVENT
DTSTART;VALUE=DATE:20260114
DTEND;VALUE=DATE:20260115
DTSTAMP:20260423T001544
CREATED:20251007T215020Z
LAST-MODIFIED:20251007T215020Z
UID:10000673-1768348800-1768435199@excelnotes.com
SUMMARY:Amazigh New Year (Morocco)
DESCRIPTION:Amazigh New Year\, also known as Yennayer\, in Morocco marks the start of the Amazigh calendar year\, honoring North Africa's ancient heritage with traditional foods\, music\, and festivities symbolizing renewal and cultural pride. \nWhen is Amazigh New Year?\nAmazigh New Year in Morocco is observed on January 14 every year.  \nThe following is the list of Amazigh New Year from 2020 to 2049. \n   \n\n                \n                \n                            \n                            \n                            \n                    \n        \n\n                                                        HolidayDateWeekday\n\n\n\n        \n            Amazigh New YearJan 14\, 2020Tuesday        \n            \n            Amazigh New YearJan 14\, 2021Thursday        \n            \n            Amazigh New YearJan 14\, 2022Friday        \n            \n            Amazigh New YearJan 14\, 2023Saturday        \n            \n            Amazigh New YearJan 14\, 2024Sunday        \n            \n            Amazigh New YearJan 14\, 2025Tuesday        \n            \n            Amazigh New YearJan 14\, 2026Wednesday        \n            \n            Amazigh New YearJan 14\, 2027Thursday        \n            \n            Amazigh New YearJan 14\, 2028Friday        \n            \n            Amazigh New YearJan 14\, 2029Sunday        \n            \n            Amazigh New YearJan 14\, 2030Monday        \n            \n            Amazigh New YearJan 14\, 2031Tuesday        \n            \n            Amazigh New YearJan 14\, 2032Wednesday        \n            \n            Amazigh New YearJan 14\, 2033Friday        \n            \n            Amazigh New YearJan 14\, 2034Saturday        \n            \n            Amazigh New YearJan 14\, 2035Sunday        \n            \n            Amazigh New YearJan 14\, 2036Monday        \n            \n            Amazigh New YearJan 14\, 2037Wednesday        \n            \n            Amazigh New YearJan 14\, 2038Thursday        \n            \n            Amazigh New YearJan 14\, 2039Friday        \n            \n            Amazigh New YearJan 14\, 2040Saturday        \n            \n            Amazigh New YearJan 14\, 2041Monday        \n            \n            Amazigh New YearJan 14\, 2042Tuesday        \n            \n            Amazigh New YearJan 14\, 2043Wednesday        \n            \n            Amazigh New YearJan 14\, 2044Thursday        \n            \n            Amazigh New YearJan 14\, 2045Saturday        \n            \n            Amazigh New YearJan 14\, 2046Sunday        \n            \n            Amazigh New YearJan 14\, 2047Monday        \n            \n            Amazigh New YearJan 14\, 2048Tuesday        \n            \n            Amazigh New YearJan 14\, 2049Thursday        \n    \n    \n    \n    \n    \n\n\nThe History of Amazigh New Year?\nThe Amazigh New Year\, known as Yennayer\, has been celebrated for nearly 3\,000 years\, long before the Arab and Islamic influences in North Africa. It marks the beginning of the Amazigh agricultural year and the renewal of the earth\, symbolizing hope\, abundance\, and harmony with nature. \nThe Amazigh calendar begins in 950 BCE\, the year when the Amazigh King Shoshenq I ascended the throne of Egypt and founded the 22nd Pharaonic Dynasty. This event was so significant that it became the starting point of the Amazigh calendar\, making Yennayer not only an agricultural festival but also a historical and cultural milestone. \nIn Morocco\, Yennayer has been kept alive for centuries\, especially in Amazigh (Berber) communities across the Atlas Mountains\, Sous region\, and southern provinces. Traditionally\, it marks the start of the planting season\, and families celebrate it as a festival of renewal and prosperity. \nFor much of modern history\, Yennayer was celebrated informally by Amazigh communities\, often without official acknowledgment. With the rise of Amazigh cultural movements in the late 20th century\, there were increasing calls for Yennayer to be recognized nationally. \nIn 2023\, the Moroccan government officially declared Yennayer a national public holiday\, recognizing it as a cornerstone of the country's cultural diversity. This decision followed decades of advocacy by Amazigh cultural organizations and was seen as a major step toward cultural inclusion and national unity. \nMorocco thus joined Algeria (which had recognized it in 2018) in officially honoring the Amazigh New Year.
URL:https://excelnotes.com/holiday/amazigh-new-year-morocco/
CATEGORIES:Cultural Holiday
ATTACH;FMTTYPE=image/jpeg:https://excelnotes.com/wp-content/uploads/2025/10/Amazigh-New-Year.jpg
END:VEVENT
END:VCALENDAR