BEGIN:VCALENDAR
VERSION:2.0
PRODID:-//ExcelNotes - ECPv6.15.20//NONSGML v1.0//EN
CALSCALE:GREGORIAN
METHOD:PUBLISH
X-WR-CALNAME:ExcelNotes
X-ORIGINAL-URL:https://excelnotes.com
X-WR-CALDESC:Events for ExcelNotes
REFRESH-INTERVAL;VALUE=DURATION:PT1H
X-Robots-Tag:noindex
X-PUBLISHED-TTL:PT1H
BEGIN:VTIMEZONE
TZID:America/New_York
BEGIN:DAYLIGHT
TZOFFSETFROM:-0500
TZOFFSETTO:-0400
TZNAME:EDT
DTSTART:20250309T070000
END:DAYLIGHT
BEGIN:STANDARD
TZOFFSETFROM:-0400
TZOFFSETTO:-0500
TZNAME:EST
DTSTART:20251102T060000
END:STANDARD
BEGIN:DAYLIGHT
TZOFFSETFROM:-0500
TZOFFSETTO:-0400
TZNAME:EDT
DTSTART:20260308T070000
END:DAYLIGHT
BEGIN:STANDARD
TZOFFSETFROM:-0400
TZOFFSETTO:-0500
TZNAME:EST
DTSTART:20261101T060000
END:STANDARD
BEGIN:DAYLIGHT
TZOFFSETFROM:-0500
TZOFFSETTO:-0400
TZNAME:EDT
DTSTART:20270314T070000
END:DAYLIGHT
BEGIN:STANDARD
TZOFFSETFROM:-0400
TZOFFSETTO:-0500
TZNAME:EST
DTSTART:20271107T060000
END:STANDARD
END:VTIMEZONE
BEGIN:VEVENT
DTSTART;VALUE=DATE:20260620
DTEND;VALUE=DATE:20260621
DTSTAMP:20260420T212833
CREATED:20250819T050356Z
LAST-MODIFIED:20250819T050557Z
UID:10000432-1781913600-1781999999@excelnotes.com
SUMMARY:Midsummer Day Sweden
DESCRIPTION:Midsummer Day in Sweden is rooted in solstice traditions. It is one of Sweden's most cherished holidays\, marking the arrival of summer. The highlight is Midsummer Eve\, with maypole dancing\, flower wreaths\, traditional foods like herring and strawberries\, and folklore rituals.  \nWhen is Midsummer Day?\nMidsummer Day in Sweden is celebrated on the Saturday between June 20–26.  \nThe following is the list of Midsummer Day from 2020 to 2049. \n   \n\n                \n                \n                            \n                            \n                            \n                    \n        \n\n                                                        HolidayDateWeekday\n\n\n\n        \n            Midsummer DayJun 20\, 2020Saturday        \n            \n            Midsummer DayJun 26\, 2021Saturday        \n            \n            Midsummer DayJun 25\, 2022Saturday        \n            \n            Midsummer DayJun 24\, 2023Saturday        \n            \n            Midsummer DayJun 22\, 2024Saturday        \n            \n            Midsummer DayJun 21\, 2025Saturday        \n            \n            Midsummer DayJun 20\, 2026Saturday        \n            \n            Midsummer DayJun 26\, 2027Saturday        \n            \n            Midsummer DayJun 24\, 2028Saturday        \n            \n            Midsummer DayJun 23\, 2029Saturday        \n            \n            Midsummer DayJun 22\, 2030Saturday        \n            \n            Midsummer DayJun 21\, 2031Saturday        \n            \n            Midsummer DayJun 26\, 2032Saturday        \n            \n            Midsummer DayJun 25\, 2033Saturday        \n            \n            Midsummer DayJun 24\, 2034Saturday        \n            \n            Midsummer DayJun 23\, 2035Saturday        \n            \n            Midsummer DayJun 21\, 2036Saturday        \n            \n            Midsummer DayJun 20\, 2037Saturday        \n            \n            Midsummer DayJun 26\, 2038Saturday        \n            \n            Midsummer DayJun 25\, 2039Saturday        \n            \n            Midsummer DayJun 23\, 2040Saturday        \n            \n            Midsummer DayJun 22\, 2041Saturday        \n            \n            Midsummer DayJun 21\, 2042Saturday        \n            \n            Midsummer DayJun 20\, 2043Saturday        \n            \n            Midsummer DayJun 25\, 2044Saturday        \n            \n            Midsummer DayJun 24\, 2045Saturday        \n            \n            Midsummer DayJun 23\, 2046Saturday        \n            \n            Midsummer DayJun 22\, 2047Saturday        \n            \n            Midsummer DayJun 20\, 2048Saturday        \n            \n            Midsummer DayJun 26\, 2049Saturday        \n    \n    \n    \n    \n    \n\n\nThe History of Midsummer Day?\nMidsummer in Sweden began as ancient fertility and solstice rituals\, later blended with Christian traditions. Over centuries\, it evolved into a uniquely Swedish holiday with maypole dancing\, flower wreaths\, folklore\, and festive meals.  \nMidsummer celebrations date back to pagan times\, connected to the summer solstice and fertility rituals. People believed that nature was at its most powerful during the longest day of the year. Plants and herbs gathered on Midsummer Eve were thought to have strong healing and magical properties. \nWith Christianity\, Midsummer was associated with the Nativity of St. John the Baptist (June 24). The church tried to Christianize the existing solstice festivities by linking them to a religious feast day. \nBy the 16th century\, Midsummer was one of the most important popular festivals in Sweden. The maypole became a central tradition (likely introduced from Germany in the late Middle Ages). \nIn 1900s\, Midsummer became increasingly tied to national identity and rural heritage\, celebrated as a symbol of Swedish culture. \nIn 1953\, Sweden standardized Midsummer celebrations by moving Midsummer Day to the Saturday between June 20–26\, instead of June 24. This allowed for a consistent long holiday weekend. \nToday\, it is second only to Christmas in importance and marks the start of the summer holiday season.
URL:https://excelnotes.com/holiday/midsummer-day-sweden/
CATEGORIES:Celebration
ATTACH;FMTTYPE=image/jpeg:https://excelnotes.com/wp-content/uploads/2025/08/Midsummer-Day-Sweden.jpg
END:VEVENT
END:VCALENDAR