BEGIN:VCALENDAR
VERSION:2.0
PRODID:-//ExcelNotes - ECPv6.15.20//NONSGML v1.0//EN
CALSCALE:GREGORIAN
METHOD:PUBLISH
X-WR-CALNAME:ExcelNotes
X-ORIGINAL-URL:https://excelnotes.com
X-WR-CALDESC:Events for ExcelNotes
REFRESH-INTERVAL;VALUE=DURATION:PT1H
X-Robots-Tag:noindex
X-PUBLISHED-TTL:PT1H
BEGIN:VTIMEZONE
TZID:America/New_York
BEGIN:DAYLIGHT
TZOFFSETFROM:-0500
TZOFFSETTO:-0400
TZNAME:EDT
DTSTART:20250309T070000
END:DAYLIGHT
BEGIN:STANDARD
TZOFFSETFROM:-0400
TZOFFSETTO:-0500
TZNAME:EST
DTSTART:20251102T060000
END:STANDARD
BEGIN:DAYLIGHT
TZOFFSETFROM:-0500
TZOFFSETTO:-0400
TZNAME:EDT
DTSTART:20260308T070000
END:DAYLIGHT
BEGIN:STANDARD
TZOFFSETFROM:-0400
TZOFFSETTO:-0500
TZNAME:EST
DTSTART:20261101T060000
END:STANDARD
BEGIN:DAYLIGHT
TZOFFSETFROM:-0500
TZOFFSETTO:-0400
TZNAME:EDT
DTSTART:20270314T070000
END:DAYLIGHT
BEGIN:STANDARD
TZOFFSETFROM:-0400
TZOFFSETTO:-0500
TZNAME:EST
DTSTART:20271107T060000
END:STANDARD
END:VTIMEZONE
BEGIN:VEVENT
DTSTART;VALUE=DATE:20260525
DTEND;VALUE=DATE:20260526
DTSTAMP:20260419T144130
CREATED:20251002T021032Z
LAST-MODIFIED:20251002T025104Z
UID:10000618-1779667200-1779753599@excelnotes.com
SUMMARY:Spring Bank Holiday (IOM)
DESCRIPTION:The Spring Bank Holiday in the Isle of Man (IOM) is offering a seasonal long weekend. Introduced to replace Whit Monday\, it is a public holiday marked by leisure\, family activities\, and often coincides with preparations for the world-famous TT Races. \nWhen is the Spring Bank Holiday?\nThe Spring Bank Holiday in the Isle of Man is observed on the last Monday in May.  \nThe following is the list of the Spring Bank Holiday from 2020 to 2049. \n   \n\n                \n                \n                            \n                            \n                            \n                    \n        \n\n                                                        HolidayDateWeekday\n\n\n\n        \n            Spring Bank HolidayMay 25\, 2020Monday        \n            \n            Spring Bank HolidayMay 31\, 2021Monday        \n            \n            Spring Bank HolidayMay 30\, 2022Monday        \n            \n            Spring Bank HolidayMay 29\, 2023Monday        \n            \n            Spring Bank HolidayMay 27\, 2024Monday        \n            \n            Spring Bank HolidayMay 26\, 2025Monday        \n            \n            Spring Bank HolidayMay 25\, 2026Monday        \n            \n            Spring Bank HolidayMay 31\, 2027Monday        \n            \n            Spring Bank HolidayMay 29\, 2028Monday        \n            \n            Spring Bank HolidayMay 28\, 2029Monday        \n            \n            Spring Bank HolidayMay 27\, 2030Monday        \n            \n            Spring Bank HolidayMay 26\, 2031Monday        \n            \n            Spring Bank HolidayMay 31\, 2032Monday        \n            \n            Spring Bank HolidayMay 30\, 2033Monday        \n            \n            Spring Bank HolidayMay 29\, 2034Monday        \n            \n            Spring Bank HolidayMay 28\, 2035Monday        \n            \n            Spring Bank HolidayMay 26\, 2036Monday        \n            \n            Spring Bank HolidayMay 25\, 2037Monday        \n            \n            Spring Bank HolidayMay 31\, 2038Monday        \n            \n            Spring Bank HolidayMay 30\, 2039Monday        \n            \n            Spring Bank HolidayMay 28\, 2040Monday        \n            \n            Spring Bank HolidayMay 27\, 2041Monday        \n            \n            Spring Bank HolidayMay 26\, 2042Monday        \n            \n            Spring Bank HolidayMay 25\, 2043Monday        \n            \n            Spring Bank HolidayMay 30\, 2044Monday        \n            \n            Spring Bank HolidayMay 29\, 2045Monday        \n            \n            Spring Bank HolidayMay 28\, 2046Monday        \n            \n            Spring Bank HolidayMay 27\, 2047Monday        \n            \n            Spring Bank HolidayMay 25\, 2048Monday        \n            \n            Spring Bank HolidayMay 31\, 2049Monday        \n    \n    \n    \n    \n    \n\n\nThe History of the Spring Bank Holiday?\nTraditionally\, the late spring holiday in the Isle of Man\, as in the UK\, was Whit Monday (the day after Pentecost)\, which varied each year according to the church calendar. Whit Monday was a long-standing Christian holiday observed for centuries across the British Isles. \nIn the 1960s\, the UK sought to modernize its holiday system by fixing dates to provide predictable long weekends rather than relying on movable feasts. \nIn 1967\, the UK officially replaced Whit Monday with the Spring Bank Holiday\, celebrated on the last Monday in May. The Isle of Man\, though self-governing\, mirrored this change to keep its bank holiday calendar broadly aligned with the UK. \nThe Spring Bank Holiday became an established public holiday on the island in the late 1960s/early 1970s. It did not carry specific Manx traditions like Tynwald Day or the TT Bank Holiday\, but it quickly became an important seasonal break. \nToday\, the Spring Bank Holiday continues to serve as a modern holiday of convenience rather than a traditional festival\, offering a pause at the start of summer.
URL:https://excelnotes.com/holiday/spring-bank-holiday-iom/
CATEGORIES:Celebration
ATTACH;FMTTYPE=image/jpeg:https://excelnotes.com/wp-content/uploads/2025/10/Spring-Bank-Holiday-IOM.jpg
END:VEVENT
END:VCALENDAR