BEGIN:VCALENDAR
VERSION:2.0
PRODID:-//ExcelNotes - ECPv6.15.20//NONSGML v1.0//EN
CALSCALE:GREGORIAN
METHOD:PUBLISH
X-ORIGINAL-URL:https://excelnotes.com
X-WR-CALDESC:Events for ExcelNotes
REFRESH-INTERVAL;VALUE=DURATION:PT1H
X-Robots-Tag:noindex
X-PUBLISHED-TTL:PT1H
BEGIN:VTIMEZONE
TZID:America/New_York
BEGIN:DAYLIGHT
TZOFFSETFROM:-0500
TZOFFSETTO:-0400
TZNAME:EDT
DTSTART:20250309T070000
END:DAYLIGHT
BEGIN:STANDARD
TZOFFSETFROM:-0400
TZOFFSETTO:-0500
TZNAME:EST
DTSTART:20251102T060000
END:STANDARD
BEGIN:DAYLIGHT
TZOFFSETFROM:-0500
TZOFFSETTO:-0400
TZNAME:EDT
DTSTART:20260308T070000
END:DAYLIGHT
BEGIN:STANDARD
TZOFFSETFROM:-0400
TZOFFSETTO:-0500
TZNAME:EST
DTSTART:20261101T060000
END:STANDARD
BEGIN:DAYLIGHT
TZOFFSETFROM:-0500
TZOFFSETTO:-0400
TZNAME:EDT
DTSTART:20270314T070000
END:DAYLIGHT
BEGIN:STANDARD
TZOFFSETFROM:-0400
TZOFFSETTO:-0500
TZNAME:EST
DTSTART:20271107T060000
END:STANDARD
END:VTIMEZONE
BEGIN:VEVENT
DTSTART;VALUE=DATE:20260518
DTEND;VALUE=DATE:20260519
DTSTAMP:20260419T145009
CREATED:20250702T040154Z
LAST-MODIFIED:20250702T041142Z
UID:10000338-1779062400-1779148799@excelnotes.com
SUMMARY:Constitution and Flag Day
DESCRIPTION:Constitution and Flag Day is a national public holiday in Turkmenistan\, and it marks two significant events in Turkmenistan's national identity: the adoption of the Constitution of Turkmenistan and the celebration of the national flag. \nWhen is Constitution and Flag Day?\nConstitution and Flag Day is celebrated every year on May 18.  \nThe following is the list of Constitution and Flag Day from 2020 to 2049. \n   \n\n                \n                \n                            \n                            \n                            \n                    \n        \n\n                                                        HolidayDateWeekday\n\n\n\n        \n            Constitution and Flag DayMay 18\, 2020Monday        \n            \n            Constitution and Flag DayMay 18\, 2021Tuesday        \n            \n            Constitution and Flag DayMay 18\, 2022Wednesday        \n            \n            Constitution and Flag DayMay 18\, 2023Thursday        \n            \n            Constitution and Flag DayMay 18\, 2024Saturday        \n            \n            Constitution and Flag DayMay 18\, 2025Sunday        \n            \n            Constitution and Flag DayMay 18\, 2026Monday        \n            \n            Constitution and Flag DayMay 18\, 2027Tuesday        \n            \n            Constitution and Flag DayMay 18\, 2028Thursday        \n            \n            Constitution and Flag DayMay 18\, 2029Friday        \n            \n            Constitution and Flag DayMay 18\, 2030Saturday        \n            \n            Constitution and Flag DayMay 18\, 2031Sunday        \n            \n            Constitution and Flag DayMay 18\, 2032Tuesday        \n            \n            Constitution and Flag DayMay 18\, 2033Wednesday        \n            \n            Constitution and Flag DayMay 18\, 2034Thursday        \n            \n            Constitution and Flag DayMay 18\, 2035Friday        \n            \n            Constitution and Flag DayMay 18\, 2036Sunday        \n            \n            Constitution and Flag DayMay 18\, 2037Monday        \n            \n            Constitution and Flag DayMay 18\, 2038Tuesday        \n            \n            Constitution and Flag DayMay 18\, 2039Wednesday        \n            \n            Constitution and Flag DayMay 18\, 2040Friday        \n            \n            Constitution and Flag DayMay 18\, 2041Saturday        \n            \n            Constitution and Flag DayMay 18\, 2042Sunday        \n            \n            Constitution and Flag DayMay 18\, 2043Monday        \n            \n            Constitution and Flag DayMay 18\, 2044Wednesday        \n            \n            Constitution and Flag DayMay 18\, 2045Thursday        \n            \n            Constitution and Flag DayMay 18\, 2046Friday        \n            \n            Constitution and Flag DayMay 18\, 2047Saturday        \n            \n            Constitution and Flag DayMay 18\, 2048Monday        \n            \n            Constitution and Flag DayMay 18\, 2049Tuesday        \n    \n    \n    \n    \n    \n\n\nThe History of Constitution and Flag Day?\nConstitution Day: \nAfter gaining independence from the Soviet Union in 1991\, Turkmenistan needed to establish its own legal and political framework as a sovereign state. \nOn May 18\, 1992\, Turkmenistan adopted its first independent Constitution. This constitution defined the structure of government\, citizens' rights and freedoms\, and the principles of neutrality and sovereignty. \nThe 1992 Constitution marked Turkmenistan's official transition from Soviet rule to an independent republic\, affirming the country's political and legal identity. \nSince then\, May 18 has been observed as Constitution Day\, celebrating statehood and the rule of law. \nFlag Day: \nTurkmenistan adopted its national flag on February 19\, 1992\, soon after independence. For several years\, February 19 was celebrated as National Flag Day. \nIn 2018\, the Turkmen government decided to combine Constitution Day (May 18) and Flag Day (February 19) into a single national holiday celebrated on May 18.
URL:https://excelnotes.com/holiday/constitution-and-flag-day/
CATEGORIES:Celebration
ATTACH;FMTTYPE=image/jpeg:https://excelnotes.com/wp-content/uploads/2025/07/Constitution-and-Flag-Day.jpg
END:VEVENT
END:VCALENDAR