BEGIN:VCALENDAR
VERSION:2.0
PRODID:-//ExcelNotes - ECPv6.15.20//NONSGML v1.0//EN
CALSCALE:GREGORIAN
METHOD:PUBLISH
X-WR-CALNAME:ExcelNotes
X-ORIGINAL-URL:https://excelnotes.com
X-WR-CALDESC:Events for ExcelNotes
REFRESH-INTERVAL;VALUE=DURATION:PT1H
X-Robots-Tag:noindex
X-PUBLISHED-TTL:PT1H
BEGIN:VTIMEZONE
TZID:America/New_York
BEGIN:DAYLIGHT
TZOFFSETFROM:-0500
TZOFFSETTO:-0400
TZNAME:EDT
DTSTART:20250309T070000
END:DAYLIGHT
BEGIN:STANDARD
TZOFFSETFROM:-0400
TZOFFSETTO:-0500
TZNAME:EST
DTSTART:20251102T060000
END:STANDARD
BEGIN:DAYLIGHT
TZOFFSETFROM:-0500
TZOFFSETTO:-0400
TZNAME:EDT
DTSTART:20260308T070000
END:DAYLIGHT
BEGIN:STANDARD
TZOFFSETFROM:-0400
TZOFFSETTO:-0500
TZNAME:EST
DTSTART:20261101T060000
END:STANDARD
BEGIN:DAYLIGHT
TZOFFSETFROM:-0500
TZOFFSETTO:-0400
TZNAME:EDT
DTSTART:20270314T070000
END:DAYLIGHT
BEGIN:STANDARD
TZOFFSETFROM:-0400
TZOFFSETTO:-0500
TZNAME:EST
DTSTART:20271107T060000
END:STANDARD
END:VTIMEZONE
BEGIN:VEVENT
DTSTART;VALUE=DATE:20260504
DTEND;VALUE=DATE:20260505
DTSTAMP:20260419T113844
CREATED:20250712T034834Z
LAST-MODIFIED:20250730T043501Z
UID:10000383-1777852800-1777939199@excelnotes.com
SUMMARY:Coronation Day in Thailand
DESCRIPTION:Coronation Day in Thailand was also known as Wan Chatramongkhon. It commemorates the formal coronation of the reigning monarch and highlights the sacred and historical traditions of the Thai monarchy. \nWhen is Coronation Day?\nCoronation Day is observed annually on May 4. \nThe following is the list of Coronation Day from 2020 to 2049. \n   \n\n                \n                \n                            \n                            \n                            \n                    \n        \n\n                                                        HolidayDateWeekday\n\n\n\n        \n            Coronation DayMay 04\, 2020Monday        \n            \n            Coronation DayMay 04\, 2021Tuesday        \n            \n            Coronation DayMay 04\, 2022Wednesday        \n            \n            Coronation DayMay 04\, 2023Thursday        \n            \n            Coronation DayMay 04\, 2024Saturday        \n            \n            Coronation DayMay 04\, 2025Sunday        \n            \n            Coronation DayMay 04\, 2026Monday        \n            \n            Coronation DayMay 04\, 2027Tuesday        \n            \n            Coronation DayMay 04\, 2028Thursday        \n            \n            Coronation DayMay 04\, 2029Friday        \n            \n            Coronation DayMay 04\, 2030Saturday        \n            \n            Coronation DayMay 04\, 2031Sunday        \n            \n            Coronation DayMay 04\, 2032Tuesday        \n            \n            Coronation DayMay 04\, 2033Wednesday        \n            \n            Coronation DayMay 04\, 2034Thursday        \n            \n            Coronation DayMay 04\, 2035Friday        \n            \n            Coronation DayMay 04\, 2036Sunday        \n            \n            Coronation DayMay 04\, 2037Monday        \n            \n            Coronation DayMay 04\, 2038Tuesday        \n            \n            Coronation DayMay 04\, 2039Wednesday        \n            \n            Coronation DayMay 04\, 2040Friday        \n            \n            Coronation DayMay 04\, 2041Saturday        \n            \n            Coronation DayMay 04\, 2042Sunday        \n            \n            Coronation DayMay 04\, 2043Monday        \n            \n            Coronation DayMay 04\, 2044Wednesday        \n            \n            Coronation DayMay 04\, 2045Thursday        \n            \n            Coronation DayMay 04\, 2046Friday        \n            \n            Coronation DayMay 04\, 2047Saturday        \n            \n            Coronation DayMay 04\, 2048Monday        \n            \n            Coronation DayMay 04\, 2049Tuesday        \n    \n    \n    \n    \n    \n\n\nThe History of Coronation Day?\nThe tradition of royal coronation in Thailand traces back to the Ayutthaya Kingdom (1350–1767) and was refined during the Rattanakosin era\, starting in 1782 with the founding of the Chakri Dynasty by King Rama I. \nThai coronations incorporate Hindu-Brahmin rituals\, Theravāda Buddhist practices\, and ancient Siamese royal customs\, symbolizing the king's spiritual role as a Dhammaraja (righteous ruler) and protector of the kingdom. \nKing Rama IX (Bhumibol Adulyadej) was officially crowned on May 5\, 1950\, and reigned for 70 years\, from 1946 until his passing in 2016. His coronation was conducted in a grand ceremony rich in Hindu-Buddhist rituals\, symbolizing both spiritual and temporal authority. During his reign\, May 5 was observed annually as Coronation Day in Thailand. \nKing Rama X (Maha Vajiralongkorn) ascended the throne on December 1\, 2016\, and was officially crowned on May 4\, 2019. Beginning in 2020\, the Thai government rescheduled Coronation Day to May 4 to commemorate the date of his formal anointment as king.
URL:https://excelnotes.com/holiday/coronation-day-thailand/
CATEGORIES:Celebration
ATTACH;FMTTYPE=image/jpeg:https://excelnotes.com/wp-content/uploads/2025/07/Coronation-Day-in-Thailand.jpg
END:VEVENT
BEGIN:VEVENT
DTSTART;VALUE=DATE:20260504
DTEND;VALUE=DATE:20260505
DTSTAMP:20260419T113844
CREATED:20251002T021146Z
LAST-MODIFIED:20251002T025102Z
UID:10000617-1777852800-1777939199@excelnotes.com
SUMMARY:Early May Bank Holiday (IOM)
DESCRIPTION:The Early May Bank Holiday in the Isle of Man (IOM) is providing a springtime long weekend. It reflects wider British and European traditions linked to May Day and International Workers' Day\, and is marked locally with community fairs\, family activities\, and a seasonal break. \nWhen is the Early May Bank Holiday?\nThe Early May Bank Holiday in the Isle of Man is observed on the first Monday in May.  \nThe following is the list of  the Early May Bank Holiday from 2020 to 2049. \n   \n\n                \n                \n                            \n                            \n                            \n                    \n        \n\n                                                        HolidayDateWeekday\n\n\n\n        \n            Early May Bank HolidayMay 04\, 2020Monday        \n            \n            Early May Bank HolidayMay 03\, 2021Monday        \n            \n            Early May Bank HolidayMay 02\, 2022Monday        \n            \n            Early May Bank HolidayMay 01\, 2023Monday        \n            \n            Early May Bank HolidayMay 06\, 2024Monday        \n            \n            Early May Bank HolidayMay 05\, 2025Monday        \n            \n            Early May Bank HolidayMay 04\, 2026Monday        \n            \n            Early May Bank HolidayMay 03\, 2027Monday        \n            \n            Early May Bank HolidayMay 01\, 2028Monday        \n            \n            Early May Bank HolidayMay 07\, 2029Monday        \n            \n            Early May Bank HolidayMay 06\, 2030Monday        \n            \n            Early May Bank HolidayMay 05\, 2031Monday        \n            \n            Early May Bank HolidayMay 03\, 2032Monday        \n            \n            Early May Bank HolidayMay 02\, 2033Monday        \n            \n            Early May Bank HolidayMay 01\, 2034Monday        \n            \n            Early May Bank HolidayMay 07\, 2035Monday        \n            \n            Early May Bank HolidayMay 05\, 2036Monday        \n            \n            Early May Bank HolidayMay 04\, 2037Monday        \n            \n            Early May Bank HolidayMay 03\, 2038Monday        \n            \n            Early May Bank HolidayMay 02\, 2039Monday        \n            \n            Early May Bank HolidayMay 07\, 2040Monday        \n            \n            Early May Bank HolidayMay 06\, 2041Monday        \n            \n            Early May Bank HolidayMay 05\, 2042Monday        \n            \n            Early May Bank HolidayMay 04\, 2043Monday        \n            \n            Early May Bank HolidayMay 02\, 2044Monday        \n            \n            Early May Bank HolidayMay 01\, 2045Monday        \n            \n            Early May Bank HolidayMay 07\, 2046Monday        \n            \n            Early May Bank HolidayMay 06\, 2047Monday        \n            \n            Early May Bank HolidayMay 04\, 2048Monday        \n            \n            Early May Bank HolidayMay 03\, 2049Monday        \n    \n    \n    \n    \n    \n\n\nThe History of the Early May Bank Holiday?\nThe holiday has its roots in the ancient May Day festivals\, celebrated across Europe to mark the arrival of summer. These festivals included dancing\, fairs and community gatherings. \nMay Day also became associated with workers' rights in the late 19th and early 20th centuries\, particularly after the labor movements of the 1880s and the recognition of International Workers' Day on May 1. \nIn 1978\, the UK government introduced the Early May Bank Holiday\, fixed to the first Monday in May\, giving workers a guaranteed long weekend. \nThe Isle of Man\, while self-governing\, aligned many of its bank holidays with the UK\, and the Early May Bank Holiday was adopted on the island around the same time. \nUnlike distinctly Manx holidays such as Tynwald Day or the TT Bank Holiday\, the Early May Bank Holiday does not have unique Isle of Man traditions. \nInstead\, it reflects broader seasonal and labor-related observances\, often marked by spring fairs\, leisure activities and family time. \nToday\, the Early May Bank Holiday remains a modern addition to the Isle of Man's calendar\, offering a spring break and connecting the island to wider British and European traditions of celebrating the start of summer and honoring workers.
URL:https://excelnotes.com/holiday/may-bank-holiday-iom/
CATEGORIES:Celebration
ATTACH;FMTTYPE=image/jpeg:https://excelnotes.com/wp-content/uploads/2025/10/Early-May-Bank-Holiday-IOM.jpg
END:VEVENT
END:VCALENDAR