BEGIN:VCALENDAR
VERSION:2.0
PRODID:-//ExcelNotes - ECPv6.15.20//NONSGML v1.0//EN
CALSCALE:GREGORIAN
METHOD:PUBLISH
X-ORIGINAL-URL:https://excelnotes.com
X-WR-CALDESC:Events for ExcelNotes
REFRESH-INTERVAL;VALUE=DURATION:PT1H
X-Robots-Tag:noindex
X-PUBLISHED-TTL:PT1H
BEGIN:VTIMEZONE
TZID:America/New_York
BEGIN:DAYLIGHT
TZOFFSETFROM:-0500
TZOFFSETTO:-0400
TZNAME:EDT
DTSTART:20250309T070000
END:DAYLIGHT
BEGIN:STANDARD
TZOFFSETFROM:-0400
TZOFFSETTO:-0500
TZNAME:EST
DTSTART:20251102T060000
END:STANDARD
BEGIN:DAYLIGHT
TZOFFSETFROM:-0500
TZOFFSETTO:-0400
TZNAME:EDT
DTSTART:20260308T070000
END:DAYLIGHT
BEGIN:STANDARD
TZOFFSETFROM:-0400
TZOFFSETTO:-0500
TZNAME:EST
DTSTART:20261101T060000
END:STANDARD
BEGIN:DAYLIGHT
TZOFFSETFROM:-0500
TZOFFSETTO:-0400
TZNAME:EDT
DTSTART:20270314T070000
END:DAYLIGHT
BEGIN:STANDARD
TZOFFSETFROM:-0400
TZOFFSETTO:-0500
TZNAME:EST
DTSTART:20271107T060000
END:STANDARD
END:VTIMEZONE
BEGIN:VEVENT
DTSTART;VALUE=DATE:20260413
DTEND;VALUE=DATE:20260416
DTSTAMP:20260419T190515
CREATED:20250712T032839Z
LAST-MODIFIED:20250730T044232Z
UID:10000382-1776038400-1776297599@excelnotes.com
SUMMARY:Songkran
DESCRIPTION:Songkran is the traditional Thai New Year festival. It is one of the most important and joyful festivals in Thailand\, famous worldwide for its water-splashing celebrations\, but deeply rooted in Buddhist customs\, family rituals and cultural renewal. \nWhen is Songkran?\nSongkran is celebrated annually from April 13 to 15\, though festivities often extend longer in different regions. \nThe following is the list of Songkran from 2020 to 2049. \n   \n\n                \n                \n                            \n                            \n                            \n                    \n        \n\n                                                        HolidayStart DateEnd Date\n\n\n\n        \n            SongkranApr 13\, 2020Apr 15\, 2020        \n            \n            SongkranApr 13\, 2021Apr 15\, 2021        \n            \n            SongkranApr 13\, 2022Apr 15\, 2022        \n            \n            SongkranApr 13\, 2023Apr 15\, 2023        \n            \n            SongkranApr 13\, 2024Apr 15\, 2024        \n            \n            SongkranApr 13\, 2025Apr 15\, 2025        \n            \n            SongkranApr 13\, 2026Apr 15\, 2026        \n            \n            SongkranApr 13\, 2027Apr 15\, 2027        \n            \n            SongkranApr 13\, 2028Apr 15\, 2028        \n            \n            SongkranApr 13\, 2029Apr 15\, 2029        \n            \n            SongkranApr 13\, 2030Apr 15\, 2030        \n            \n            SongkranApr 13\, 2031Apr 15\, 2031        \n            \n            SongkranApr 13\, 2032Apr 15\, 2032        \n            \n            SongkranApr 13\, 2033Apr 15\, 2033        \n            \n            SongkranApr 13\, 2034Apr 15\, 2034        \n            \n            SongkranApr 13\, 2035Apr 15\, 2035        \n            \n            SongkranApr 13\, 2036Apr 15\, 2036        \n            \n            SongkranApr 13\, 2037Apr 15\, 2037        \n            \n            SongkranApr 13\, 2038Apr 15\, 2038        \n            \n            SongkranApr 13\, 2039Apr 15\, 2039        \n            \n            SongkranApr 13\, 2040Apr 15\, 2040        \n            \n            SongkranApr 13\, 2041Apr 15\, 2041        \n            \n            SongkranApr 13\, 2042Apr 15\, 2042        \n            \n            SongkranApr 13\, 2043Apr 15\, 2043        \n            \n            SongkranApr 13\, 2044Apr 15\, 2044        \n            \n            SongkranApr 13\, 2045Apr 15\, 2045        \n            \n            SongkranApr 13\, 2046Apr 15\, 2046        \n            \n            SongkranApr 13\, 2047Apr 15\, 2047        \n            \n            SongkranApr 13\, 2048Apr 15\, 2048        \n            \n            SongkranApr 13\, 2049Apr 15\, 2049        \n    \n    \n    \n    \n    \n\n\nThe History of Songkran?\nThe term "Songkran" is derived from the Sanskrit word Saṅkrānti\, meaning "astrological transition"\, specifically\, the sun's entry into a new zodiac sign. In this case\, Songkran marks the sun's movement into Aries\, signaling the solar new year in many South and Southeast Asian cultures. \nSongkran has been celebrated in Thailand for centuries\, likely beginning during the Sukhothai or early Ayutthaya periods (13th–15th centuries). The festival originated as a seasonal and spiritual observance: a time to honor ancestors\, clean homes\, wash Buddha images\, and visit temples. \nIt reflected a combination of Hindu solar calendar traditions\, Buddhist merit-making practices\, and agricultural cycles tied to the end of the dry season. \nStarting in the 20th century\, especially post-1950s\, Songkran evolved into a nationwide festival\, with playful water fights emerging as the most recognizable symbol. \nSongkran bridges past and present\, maintaining its deep historical and cultural roots while embracing joyful\, inclusive celebration.
URL:https://excelnotes.com/holiday/songkran/
CATEGORIES:Celebration
ATTACH;FMTTYPE=image/jpeg:https://excelnotes.com/wp-content/uploads/2025/07/Songkran.jpg
END:VEVENT
END:VCALENDAR