BEGIN:VCALENDAR
VERSION:2.0
PRODID:-//ExcelNotes - ECPv6.15.20//NONSGML v1.0//EN
CALSCALE:GREGORIAN
METHOD:PUBLISH
X-WR-CALNAME:ExcelNotes
X-ORIGINAL-URL:https://excelnotes.com
X-WR-CALDESC:Events for ExcelNotes
REFRESH-INTERVAL;VALUE=DURATION:PT1H
X-Robots-Tag:noindex
X-PUBLISHED-TTL:PT1H
BEGIN:VTIMEZONE
TZID:America/New_York
BEGIN:DAYLIGHT
TZOFFSETFROM:-0500
TZOFFSETTO:-0400
TZNAME:EDT
DTSTART:20250309T070000
END:DAYLIGHT
BEGIN:STANDARD
TZOFFSETFROM:-0400
TZOFFSETTO:-0500
TZNAME:EST
DTSTART:20251102T060000
END:STANDARD
BEGIN:DAYLIGHT
TZOFFSETFROM:-0500
TZOFFSETTO:-0400
TZNAME:EDT
DTSTART:20260308T070000
END:DAYLIGHT
BEGIN:STANDARD
TZOFFSETFROM:-0400
TZOFFSETTO:-0500
TZNAME:EST
DTSTART:20261101T060000
END:STANDARD
BEGIN:DAYLIGHT
TZOFFSETFROM:-0500
TZOFFSETTO:-0400
TZNAME:EDT
DTSTART:20270314T070000
END:DAYLIGHT
BEGIN:STANDARD
TZOFFSETFROM:-0400
TZOFFSETTO:-0500
TZNAME:EST
DTSTART:20271107T060000
END:STANDARD
END:VTIMEZONE
BEGIN:VEVENT
DTSTART;VALUE=DATE:20260312
DTEND;VALUE=DATE:20260313
DTSTAMP:20260419T234742
CREATED:20250417T055308Z
LAST-MODIFIED:20250417T055308Z
UID:10000241-1773273600-1773359999@excelnotes.com
SUMMARY:Youth Day Zambia
DESCRIPTION:Youth Day in Zambia is a public holiday dedicated to honoring the achievements and role of young people in national development. \nWhen is Youth Day?\nYouth Day in Zambia is a national public holiday observed annually on March 12th. \nThe following is the list of Youth Day from 2020 to 2049. \n   \n\n                \n                \n                            \n                            \n                            \n                    \n        \n\n                                                        HolidayDateWeekday\n\n\n\n        \n            Youth DayMar 12\, 2020Thursday        \n            \n            Youth DayMar 12\, 2021Friday        \n            \n            Youth DayMar 12\, 2022Saturday        \n            \n            Youth DayMar 12\, 2023Sunday        \n            \n            Youth DayMar 12\, 2024Tuesday        \n            \n            Youth DayMar 12\, 2025Wednesday        \n            \n            Youth DayMar 12\, 2026Thursday        \n            \n            Youth DayMar 12\, 2027Friday        \n            \n            Youth DayMar 12\, 2028Sunday        \n            \n            Youth DayMar 12\, 2029Monday        \n            \n            Youth DayMar 12\, 2030Tuesday        \n            \n            Youth DayMar 12\, 2031Wednesday        \n            \n            Youth DayMar 12\, 2032Friday        \n            \n            Youth DayMar 12\, 2033Saturday        \n            \n            Youth DayMar 12\, 2034Sunday        \n            \n            Youth DayMar 12\, 2035Monday        \n            \n            Youth DayMar 12\, 2036Wednesday        \n            \n            Youth DayMar 12\, 2037Thursday        \n            \n            Youth DayMar 12\, 2038Friday        \n            \n            Youth DayMar 12\, 2039Saturday        \n            \n            Youth DayMar 12\, 2040Monday        \n            \n            Youth DayMar 12\, 2041Tuesday        \n            \n            Youth DayMar 12\, 2042Wednesday        \n            \n            Youth DayMar 12\, 2043Thursday        \n            \n            Youth DayMar 12\, 2044Saturday        \n            \n            Youth DayMar 12\, 2045Sunday        \n            \n            Youth DayMar 12\, 2046Monday        \n            \n            Youth DayMar 12\, 2047Tuesday        \n            \n            Youth DayMar 12\, 2048Thursday        \n            \n            Youth DayMar 12\, 2049Friday        \n    \n    \n    \n    \n    \n\n\nThe History of Youth Day?\nYouth Day in Zambia is a national public holiday that honors the role of young people in shaping the country's past\, present\, and future. It recognizes youth contributions in national development and promotes engagement in social\, political and economic spheres. \nThe roots of Youth Day in Zambia go back to the struggle for independence\, which culminated in 1964. Many young people participated in protests and political mobilization against British colonial rule in the 1950s and early 1960s. \nAfter gaining independence\, the Zambian government sought to recognize youth efforts in achieving freedom and continue encouraging them to take part in nation-building. \nMarch 12th was designated as Youth Day to commemorate the contributions of young freedom fighters. \nWhile not tied to a single event or uprising\, the day symbolizes the youth's involvement in political activism and transformation. \nOver time\, the day has evolved from a remembrance of the past to a celebration of youth empowerment and civic participation. Since the 1970s and 1980s\, Youth Day has taken on greater national significance.
URL:https://excelnotes.com/holiday/youth-day-zambia/
CATEGORIES:Celebration
ATTACH;FMTTYPE=image/jpeg:https://excelnotes.com/wp-content/uploads/2025/04/Youth-Day-Zambia.jpg
END:VEVENT
END:VCALENDAR