BEGIN:VCALENDAR
VERSION:2.0
PRODID:-//ExcelNotes - ECPv6.15.20//NONSGML v1.0//EN
CALSCALE:GREGORIAN
METHOD:PUBLISH
X-WR-CALNAME:ExcelNotes
X-ORIGINAL-URL:https://excelnotes.com
X-WR-CALDESC:Events for ExcelNotes
REFRESH-INTERVAL;VALUE=DURATION:PT1H
X-Robots-Tag:noindex
X-PUBLISHED-TTL:PT1H
BEGIN:VTIMEZONE
TZID:America/New_York
BEGIN:DAYLIGHT
TZOFFSETFROM:-0500
TZOFFSETTO:-0400
TZNAME:EDT
DTSTART:20250309T070000
END:DAYLIGHT
BEGIN:STANDARD
TZOFFSETFROM:-0400
TZOFFSETTO:-0500
TZNAME:EST
DTSTART:20251102T060000
END:STANDARD
BEGIN:DAYLIGHT
TZOFFSETFROM:-0500
TZOFFSETTO:-0400
TZNAME:EDT
DTSTART:20260308T070000
END:DAYLIGHT
BEGIN:STANDARD
TZOFFSETFROM:-0400
TZOFFSETTO:-0500
TZNAME:EST
DTSTART:20261101T060000
END:STANDARD
BEGIN:DAYLIGHT
TZOFFSETFROM:-0500
TZOFFSETTO:-0400
TZNAME:EDT
DTSTART:20270314T070000
END:DAYLIGHT
BEGIN:STANDARD
TZOFFSETFROM:-0400
TZOFFSETTO:-0500
TZNAME:EST
DTSTART:20271107T060000
END:STANDARD
END:VTIMEZONE
BEGIN:VEVENT
DTSTART;VALUE=DATE:20260308
DTEND;VALUE=DATE:20260309
DTSTAMP:20260421T191441
CREATED:20250630T014838Z
LAST-MODIFIED:20250630T022636Z
UID:10000317-1772928000-1773014399@excelnotes.com
SUMMARY:International Women's Day Uzbekistan
DESCRIPTION:International Women's Day (IWD)\, celebrated annually on March 8\, holds significant historical and cultural importance in Uzbekistan. Its observance reflects a blend of Soviet-era influences and contemporary efforts to recognize and empower women in Uzbek society. \nWhen is International Women's Day?\nInternational Women's Day in Uzbekistan is celebrated every year on March 8.  \nThe following is the list of International Women's Day from 2020 to 2049. \n   \n\n                \n                \n                            \n                            \n                            \n                    \n        \n\n                                                        HolidayDateWeekday\n\n\n\n        \n            International Women's DayMar 08\, 2020Sunday        \n            \n            International Women's DayMar 08\, 2021Monday        \n            \n            International Women's DayMar 08\, 2022Tuesday        \n            \n            International Women's DayMar 08\, 2023Wednesday        \n            \n            International Women's DayMar 08\, 2024Friday        \n            \n            International Women's DayMar 08\, 2025Saturday        \n            \n            International Women's DayMar 08\, 2026Sunday        \n            \n            International Women's DayMar 08\, 2027Monday        \n            \n            International Women's DayMar 08\, 2028Wednesday        \n            \n            International Women's DayMar 08\, 2029Thursday        \n            \n            International Women's DayMar 08\, 2030Friday        \n            \n            International Women's DayMar 08\, 2031Saturday        \n            \n            International Women's DayMar 08\, 2032Monday        \n            \n            International Women's DayMar 08\, 2033Tuesday        \n            \n            International Women's DayMar 08\, 2034Wednesday        \n            \n            International Women's DayMar 08\, 2035Thursday        \n            \n            International Women's DayMar 08\, 2036Saturday        \n            \n            International Women's DayMar 08\, 2037Sunday        \n            \n            International Women's DayMar 08\, 2038Monday        \n            \n            International Women's DayMar 08\, 2039Tuesday        \n            \n            International Women's DayMar 08\, 2040Thursday        \n            \n            International Women's DayMar 08\, 2041Friday        \n            \n            International Women's DayMar 08\, 2042Saturday        \n            \n            International Women's DayMar 08\, 2043Sunday        \n            \n            International Women's DayMar 08\, 2044Tuesday        \n            \n            International Women's DayMar 08\, 2045Wednesday        \n            \n            International Women's DayMar 08\, 2046Thursday        \n            \n            International Women's DayMar 08\, 2047Friday        \n            \n            International Women's DayMar 08\, 2048Sunday        \n            \n            International Women's DayMar 08\, 2049Monday        \n    \n    \n    \n    \n    \n\n\nThe History of International Women's Day?\nThe origins of International Women's Day trace back to early 20th-century socialist movements advocating for women's rights and labor equality. In 1922\, following the Bolshevik Revolution\, the Soviet Union officially recognized March 8 as International Women's Day\, a practice adopted by Uzbekistan as part of the USSR . \nUzbekistan\, as part of the Soviet Union\, first began officially celebrating International Women's Day in the 1920s. The day was introduced as part of broader Soviet campaigns for women's emancipation and inclusion in the workforce. \nA pivotal event in Uzbekistan's Women's Day history was the Hujum\, launched on March 8\, 1927. The Soviet government initiated this campaign to encourage Muslim women in Central Asia (including Uzbekistan) to unveil\, become literate\, and participate in public life. \nA famous moment linked to IWD in Uzbekistan's history was when Nurkhon Yuldashkhojayeva\, a young Uzbek dancer\, publicly removed her veil during an International Women's Day performance in 1928\, symbolizing women's liberation in Soviet Central Asia. \nAfter gaining independence in 1991\, Uzbekistan retained March 8 as a public holiday\, though the focus shifted from its Soviet political roots to a more cultural and family-centered celebration. \nThe day is now widely celebrated as both International Women's Day and Mother's Day\, honoring women's roles in family\, society\, education\, and the economy.
URL:https://excelnotes.com/holiday/international-womens-day-uzbekistan/
CATEGORIES:Celebration
ATTACH;FMTTYPE=image/jpeg:https://excelnotes.com/wp-content/uploads/2025/06/International-Womens-Day-Uzbekistan.jpg
END:VEVENT
END:VCALENDAR