BEGIN:VCALENDAR
VERSION:2.0
PRODID:-//ExcelNotes - ECPv6.15.20//NONSGML v1.0//EN
CALSCALE:GREGORIAN
METHOD:PUBLISH
X-ORIGINAL-URL:https://excelnotes.com
X-WR-CALDESC:Events for ExcelNotes
REFRESH-INTERVAL;VALUE=DURATION:PT1H
X-Robots-Tag:noindex
X-PUBLISHED-TTL:PT1H
BEGIN:VTIMEZONE
TZID:America/New_York
BEGIN:DAYLIGHT
TZOFFSETFROM:-0500
TZOFFSETTO:-0400
TZNAME:EDT
DTSTART:20240310T070000
END:DAYLIGHT
BEGIN:STANDARD
TZOFFSETFROM:-0400
TZOFFSETTO:-0500
TZNAME:EST
DTSTART:20241103T060000
END:STANDARD
BEGIN:DAYLIGHT
TZOFFSETFROM:-0500
TZOFFSETTO:-0400
TZNAME:EDT
DTSTART:20250309T070000
END:DAYLIGHT
BEGIN:STANDARD
TZOFFSETFROM:-0400
TZOFFSETTO:-0500
TZNAME:EST
DTSTART:20251102T060000
END:STANDARD
BEGIN:DAYLIGHT
TZOFFSETFROM:-0500
TZOFFSETTO:-0400
TZNAME:EDT
DTSTART:20260308T070000
END:DAYLIGHT
BEGIN:STANDARD
TZOFFSETFROM:-0400
TZOFFSETTO:-0500
TZNAME:EST
DTSTART:20261101T060000
END:STANDARD
END:VTIMEZONE
BEGIN:VEVENT
DTSTART;VALUE=DATE:20251216
DTEND;VALUE=DATE:20251217
DTSTAMP:20260421T080331
CREATED:20250909T061051Z
LAST-MODIFIED:20250909T061339Z
UID:10000504-1765843200-1765929599@excelnotes.com
SUMMARY:Day of Reconciliation
DESCRIPTION:The Day of Reconciliation was created in 1994 to promote national unity and reconciliation after apartheid. The date holds historical significance for both Afrikaners (Battle of Blood River\, 1838) and the liberation struggle (launch of Umkhonto we Sizwe\, 1961). \nWhen is the Day of Reconciliation?\nThe Day of Reconciliation in South Africa is celebrated every year on December 16.  \nThe following is the list of the Day of Reconciliation from 2020 to 2049. \n   \n\n                \n                \n                            \n                            \n                            \n                    \n        \n\n                                                        HolidayDateWeekday\n\n\n\n        \n            Day of ReconciliationDec 16\, 2020Wednesday        \n            \n            Day of ReconciliationDec 16\, 2021Thursday        \n            \n            Day of ReconciliationDec 16\, 2022Friday        \n            \n            Day of ReconciliationDec 16\, 2023Saturday        \n            \n            Day of ReconciliationDec 16\, 2024Monday        \n            \n            Day of ReconciliationDec 16\, 2025Tuesday        \n            \n            Day of ReconciliationDec 16\, 2026Wednesday        \n            \n            Day of ReconciliationDec 16\, 2027Thursday        \n            \n            Day of ReconciliationDec 16\, 2028Saturday        \n            \n            Day of ReconciliationDec 16\, 2029Sunday        \n            \n            Day of ReconciliationDec 16\, 2030Monday        \n            \n            Day of ReconciliationDec 16\, 2031Tuesday        \n            \n            Day of ReconciliationDec 16\, 2032Thursday        \n            \n            Day of ReconciliationDec 16\, 2033Friday        \n            \n            Day of ReconciliationDec 16\, 2034Saturday        \n            \n            Day of ReconciliationDec 16\, 2035Sunday        \n            \n            Day of ReconciliationDec 16\, 2036Tuesday        \n            \n            Day of ReconciliationDec 16\, 2037Wednesday        \n            \n            Day of ReconciliationDec 16\, 2038Thursday        \n            \n            Day of ReconciliationDec 16\, 2039Friday        \n            \n            Day of ReconciliationDec 16\, 2040Sunday        \n            \n            Day of ReconciliationDec 16\, 2041Monday        \n            \n            Day of ReconciliationDec 16\, 2042Tuesday        \n            \n            Day of ReconciliationDec 16\, 2043Wednesday        \n            \n            Day of ReconciliationDec 16\, 2044Friday        \n            \n            Day of ReconciliationDec 16\, 2045Saturday        \n            \n            Day of ReconciliationDec 16\, 2046Sunday        \n            \n            Day of ReconciliationDec 16\, 2047Monday        \n            \n            Day of ReconciliationDec 16\, 2048Wednesday        \n            \n            Day of ReconciliationDec 16\, 2049Thursday        \n    \n    \n    \n    \n    \n\n\nThe History of the Day of Reconciliation?\nThe choice of December 16 comes from two significant but very different historical events: \nThe Battle of Blood River (1838): On December 16\, 1838\, the Voortrekkers (Afrikaner pioneers) fought the Battle of Blood River against the Zulu kingdom. The Voortrekkers\, numbering about 470\, defeated thousands of Zulu warriors\, which they believed was due to a vow they had made to God. This event was commemorated by Afrikaners as the Day of the Vow (later called Dingane's Day) and became an important part of Afrikaner nationalism. \nUmkhonto we Sizwe (1961): On December 16\, 1961\, the African National Congress (ANC) launched its armed wing\, Umkhonto we Sizwe ("Spear of the Nation")\, to fight apartheid through sabotage and armed resistance. This marked a turning point in the struggle against racial segregation and oppression in South Africa. \nAfter the end of apartheid in 1994\, the new democratic government sought to unify the country. December 16 was chosen as the Day of Reconciliation to recognize its significance to both Afrikaner and liberation struggle histories. \nThe holiday officially came into effect in 1995 and was intended to heal divisions and promote national unity among South Africa's diverse communities.
URL:https://excelnotes.com/holiday/day-of-reconciliation/
CATEGORIES:Celebration
ATTACH;FMTTYPE=image/jpeg:https://excelnotes.com/wp-content/uploads/2025/09/Day-of-Reconciliation.jpg
END:VEVENT
END:VCALENDAR