BEGIN:VCALENDAR
VERSION:2.0
PRODID:-//ExcelNotes - ECPv6.15.20//NONSGML v1.0//EN
CALSCALE:GREGORIAN
METHOD:PUBLISH
X-ORIGINAL-URL:https://excelnotes.com
X-WR-CALDESC:Events for ExcelNotes
REFRESH-INTERVAL;VALUE=DURATION:PT1H
X-Robots-Tag:noindex
X-PUBLISHED-TTL:PT1H
BEGIN:VTIMEZONE
TZID:America/New_York
BEGIN:DAYLIGHT
TZOFFSETFROM:-0500
TZOFFSETTO:-0400
TZNAME:EDT
DTSTART:20240310T070000
END:DAYLIGHT
BEGIN:STANDARD
TZOFFSETFROM:-0400
TZOFFSETTO:-0500
TZNAME:EST
DTSTART:20241103T060000
END:STANDARD
BEGIN:DAYLIGHT
TZOFFSETFROM:-0500
TZOFFSETTO:-0400
TZNAME:EDT
DTSTART:20250309T070000
END:DAYLIGHT
BEGIN:STANDARD
TZOFFSETFROM:-0400
TZOFFSETTO:-0500
TZNAME:EST
DTSTART:20251102T060000
END:STANDARD
BEGIN:DAYLIGHT
TZOFFSETFROM:-0500
TZOFFSETTO:-0400
TZNAME:EDT
DTSTART:20260308T070000
END:DAYLIGHT
BEGIN:STANDARD
TZOFFSETFROM:-0400
TZOFFSETTO:-0500
TZNAME:EST
DTSTART:20261101T060000
END:STANDARD
END:VTIMEZONE
BEGIN:VEVENT
DTSTART;VALUE=DATE:20251027
DTEND;VALUE=DATE:20251028
DTSTAMP:20260421T155742
CREATED:20250918T021653Z
LAST-MODIFIED:20250918T021902Z
UID:10000587-1761523200-1761609599@excelnotes.com
SUMMARY:October Bank Holiday
DESCRIPTION:The October Bank Holiday in Ireland\, introduced in 1977\, provides a civic long weekend but also ties into Ireland's ancient Samhain festival and modern Halloween celebrations\, making it both a practical and culturally significant holiday. \nWhen is October Bank Holiday?\nOctober Bank Holiday is celebrated on the last Monday in October.  \nThe following is the list of October Bank Holiday from 2020 to 2049. \n   \n\n                \n                \n                            \n                            \n                            \n                    \n        \n\n                                                        HolidayDateWeekday\n\n\n\n        \n            October Bank HolidayOct 26\, 2020Monday        \n            \n            October Bank HolidayOct 25\, 2021Monday        \n            \n            October Bank HolidayOct 31\, 2022Monday        \n            \n            October Bank HolidayOct 30\, 2023Monday        \n            \n            October Bank HolidayOct 28\, 2024Monday        \n            \n            October Bank HolidayOct 27\, 2025Monday        \n            \n            October Bank HolidayOct 26\, 2026Monday        \n            \n            October Bank HolidayOct 25\, 2027Monday        \n            \n            October Bank HolidayOct 30\, 2028Monday        \n            \n            October Bank HolidayOct 29\, 2029Monday        \n            \n            October Bank HolidayOct 28\, 2030Monday        \n            \n            October Bank HolidayOct 27\, 2031Monday        \n            \n            October Bank HolidayOct 25\, 2032Monday        \n            \n            October Bank HolidayOct 31\, 2033Monday        \n            \n            October Bank HolidayOct 30\, 2034Monday        \n            \n            October Bank HolidayOct 29\, 2035Monday        \n            \n            October Bank HolidayOct 27\, 2036Monday        \n            \n            October Bank HolidayOct 26\, 2037Monday        \n            \n            October Bank HolidayOct 25\, 2038Monday        \n            \n            October Bank HolidayOct 31\, 2039Monday        \n            \n            October Bank HolidayOct 29\, 2040Monday        \n            \n            October Bank HolidayOct 28\, 2041Monday        \n            \n            October Bank HolidayOct 27\, 2042Monday        \n            \n            October Bank HolidayOct 26\, 2043Monday        \n            \n            October Bank HolidayOct 31\, 2044Monday        \n            \n            October Bank HolidayOct 30\, 2045Monday        \n            \n            October Bank HolidayOct 29\, 2046Monday        \n            \n            October Bank HolidayOct 28\, 2047Monday        \n            \n            October Bank HolidayOct 26\, 2048Monday        \n            \n            October Bank HolidayOct 25\, 2049Monday        \n    \n    \n    \n    \n    \n\n\nThe History of October Bank Holiday?\nThe October Bank Holiday is the most recent addition to Ireland's calendar of public holidays. It was established by the Holidays (Employees) Act\, 1977\, and first observed in 1977. \nThe government created it to provide workers with an extra holiday during the long stretch between August and Christmas\, when no other statutory holiday existed. \nLawmakers placed the holiday on the last Monday in October to ensure a consistent long weekend each year. This gave the holiday a seasonal and cultural context\, connecting it with the harvest's end and the traditional festival marking the transition to winter. \nSamhain\, celebrated for thousands of years\, was the Celtic end-of-harvest fire festival. It symbolized the shift into the darker half of the year. \nCustoms included bonfires\, feasting\, and disguises to ward off spirits. These traditions evolved into modern Halloween\, which Ireland played a central role in spreading worldwide. \nThe October Bank Holiday therefore bridges modern labor rights with ancient Irish tradition. \nSince 1977\, the October Bank Holiday has become closely tied to Halloween festivals across Ireland\, harvest fairs and autumn events\, and sports. It has grown into both a civic long weekend and a celebration of Irish cultural heritage.
URL:https://excelnotes.com/holiday/october-bank-holiday/
CATEGORIES:Celebration
ATTACH;FMTTYPE=image/jpeg:https://excelnotes.com/wp-content/uploads/2025/09/October-Bank-Holiday.jpg
END:VEVENT
END:VCALENDAR