BEGIN:VCALENDAR
VERSION:2.0
PRODID:-//ExcelNotes - ECPv6.15.20//NONSGML v1.0//EN
CALSCALE:GREGORIAN
METHOD:PUBLISH
X-WR-CALNAME:ExcelNotes
X-ORIGINAL-URL:https://excelnotes.com
X-WR-CALDESC:Events for ExcelNotes
REFRESH-INTERVAL;VALUE=DURATION:PT1H
X-Robots-Tag:noindex
X-PUBLISHED-TTL:PT1H
BEGIN:VTIMEZONE
TZID:America/New_York
BEGIN:DAYLIGHT
TZOFFSETFROM:-0500
TZOFFSETTO:-0400
TZNAME:EDT
DTSTART:20240310T070000
END:DAYLIGHT
BEGIN:STANDARD
TZOFFSETFROM:-0400
TZOFFSETTO:-0500
TZNAME:EST
DTSTART:20241103T060000
END:STANDARD
BEGIN:DAYLIGHT
TZOFFSETFROM:-0500
TZOFFSETTO:-0400
TZNAME:EDT
DTSTART:20250309T070000
END:DAYLIGHT
BEGIN:STANDARD
TZOFFSETFROM:-0400
TZOFFSETTO:-0500
TZNAME:EST
DTSTART:20251102T060000
END:STANDARD
BEGIN:DAYLIGHT
TZOFFSETFROM:-0500
TZOFFSETTO:-0400
TZNAME:EDT
DTSTART:20260308T070000
END:DAYLIGHT
BEGIN:STANDARD
TZOFFSETFROM:-0400
TZOFFSETTO:-0500
TZNAME:EST
DTSTART:20261101T060000
END:STANDARD
END:VTIMEZONE
BEGIN:VEVENT
DTSTART;VALUE=DATE:20250804
DTEND;VALUE=DATE:20250805
DTSTAMP:20260422T192551
CREATED:20250318T042330Z
LAST-MODIFIED:20250318T042330Z
UID:10000233-1754265600-1754351999@excelnotes.com
SUMMARY:Picnic Day
DESCRIPTION:Picnic Day is a public holiday celebrated in the Northern Territory (NT) of Australia. It is a day for relaxation and outdoor gatherings reflecting the laid-back lifestyle of the Northern Territory. \nTable of Contents\n\nWhen is Picnic Day?\nThe History of Picnic Day?\nWhat Do People Do on This Day?\nMore about Northern Territory\, Australia?\n\nWhen is Picnic Day?\nThe Picnic Day is observed on the first Monday of August each year in Northern Territory. \nThe following is the list of Picnic Day from 2020 to 2049. \n   \n\n                \n                \n                            \n                            \n                            \n                    \n        \n\n                                                        HolidayDateWeekday\n\n\n\n        \n            Picnic DayAug 03\, 2020Monday        \n            \n            Picnic DayAug 02\, 2021Monday        \n            \n            Picnic DayAug 01\, 2022Monday        \n            \n            Picnic DayAug 07\, 2023Monday        \n            \n            Picnic DayAug 05\, 2024Monday        \n            \n            Picnic DayAug 04\, 2025Monday        \n            \n            Picnic DayAug 03\, 2026Monday        \n            \n            Picnic DayAug 02\, 2027Monday        \n            \n            Picnic DayAug 07\, 2028Monday        \n            \n            Picnic DayAug 06\, 2029Monday        \n            \n            Picnic DayAug 05\, 2030Monday        \n            \n            Picnic DayAug 04\, 2031Monday        \n            \n            Picnic DayAug 02\, 2032Monday        \n            \n            Picnic DayAug 01\, 2033Monday        \n            \n            Picnic DayAug 07\, 2034Monday        \n            \n            Picnic DayAug 06\, 2035Monday        \n            \n            Picnic DayAug 04\, 2036Monday        \n            \n            Picnic DayAug 03\, 2037Monday        \n            \n            Picnic DayAug 02\, 2038Monday        \n            \n            Picnic DayAug 01\, 2039Monday        \n            \n            Picnic DayAug 06\, 2040Monday        \n            \n            Picnic DayAug 05\, 2041Monday        \n            \n            Picnic DayAug 04\, 2042Monday        \n            \n            Picnic DayAug 03\, 2043Monday        \n            \n            Picnic DayAug 01\, 2044Monday        \n            \n            Picnic DayAug 07\, 2045Monday        \n            \n            Picnic DayAug 06\, 2046Monday        \n            \n            Picnic DayAug 05\, 2047Monday        \n            \n            Picnic DayAug 03\, 2048Monday        \n            \n            Picnic DayAug 02\, 2049Monday        \n    \n    \n    \n    \n    \n\n\nThe History of Picnic Day? \nThere is no confirmed origin of Picnic Day\, but historians and locals believe it emerged from several possible traditions.  \nThe most popular one is the Railway Workers' Holiday from late 1800s to early 1900s. Picnic Day was originally a holiday for railway workers who helped build the North Australian Railway. Workers would take a break from their hard labor and enjoy a day of leisure with their families. \nHowever\, some believe that early settlers in Darwin and other northern towns would take the train to Adelaide River for a day of picnicking and recreation. This gathering became a yearly tradition\, leading to the eventual declaration of an official holiday. \nThere are also other beliefs about the origin of the holiday. By the early 20th century\, Picnic Day was recognized as an official public holiday in the Northern Territory.  \nUnlike other Australian public holidays with deep historical or cultural significance\, Picnic Day has no political or religious meaning\, and it simply promotes relaxation and outdoor fun. \n   \nWhat Do People Do on This Day?\nPicnic Day in Northern Territory is simply a day for relaxation and outdoor activities. \nSince the Northern Territory has stunning landscapes and warm weather\, many people use Picnic Day to enjoy the great outdoors. Families and friends gather in parks and riversides to enjoy picnics and barbecues. \nMany Northern Territory residents take advantage of the long weekend to go camping. In the meanwhile\, fishing is a favorite pastime\, especially in Darwin\, Daly River\, and Arnhem Land. \nThe most famous event on Picnic Day is the Harts Range Races\, a three-day outback horse racing festival held east of Alice Springs. The Harts Range Races have been a Picnic Day tradition since the 1940s\, originally started by cattle station workers. \nPicnic Day is one of the most flexible and relaxing holidays in Australia\, and it's a day to unwind and enjoy time with loved ones. \nMore about Northern Territory\nThe Northern Territory (NT) is a vast and unique region of Australia\, known for its stunning landscapes and rich Aboriginal heritage. \nThe Northern Territory is in northern-central Australia\, bordered by Western Australia\, South Australia\, and Queensland. Darwin is its capital\, also the largest city. \nIt is home to some of the oldest living cultures in the world\, and Aboriginal Australians have lived in the NT for at least 60\,000 years. Aboriginal communities thrived in different environments\, from coastal fishing societies in the north to desert hunters in the central Northern Territory. \nDutch explorers were the first Europeans to map parts of the NT coast in the 1600s. Macassan traders from Indonesia regularly visited Arnhem Land from the 1700s\, trading sea cucumbers with Aboriginal people. \nThe British made several unsuccessful attempts to establish settlements in the Northern Territory from 1824 to 1870s due to the harsh climate and the conflict with Indigenous peoples. \nIn 1862\, John McDouall Stuart became the first European to successfully cross from Adelaide to Darwin\, opening up the Overland Telegraph route. Camels were introduced to explore the Red Centre\, leading to the rise of Afghan cameleers in Northern Territory history. \nIn 1872\, the overland telegraph line connected Darwin to Adelaide\, allowing faster communication between Australia and Britain\, which brought more settlers to the region. \nIn the 1870s-1900s\, gold were discovered in Pine Creek\, Tennant Creek and Arnhem Land and that led to gold rushes. \nThe Northern Territory was originally governed by South Australia\, but it was transferred to the Australian Commonwealth in 1911. \nDuring World War II\, the Northern Territory became a major military base\, playing a key role in defending Australia. It was used as a launch base for Australian and American forces fighting in the Pacific. \nIn 1950s-1970s\, the Northern Territory remained under federal control but saw increased development\, and Darwin grew into a major city with new roads and buildings during this time. \nIn 1978\, the Northern Territory gained self-government\, meaning it could make its own laws. \nToday\, the Northern Territory is home to 250\,000 people\, and plays a key role in tourism\, mining and renewable energy.
URL:https://excelnotes.com/holiday/picnic-day/
CATEGORIES:Celebration
ATTACH;FMTTYPE=image/jpeg:https://excelnotes.com/wp-content/uploads/2025/03/Picnic-Day.jpg
END:VEVENT
END:VCALENDAR