BEGIN:VCALENDAR
VERSION:2.0
PRODID:-//ExcelNotes - ECPv6.15.20//NONSGML v1.0//EN
CALSCALE:GREGORIAN
METHOD:PUBLISH
X-ORIGINAL-URL:https://excelnotes.com
X-WR-CALDESC:Events for ExcelNotes
REFRESH-INTERVAL;VALUE=DURATION:PT1H
X-Robots-Tag:noindex
X-PUBLISHED-TTL:PT1H
BEGIN:VTIMEZONE
TZID:America/New_York
BEGIN:DAYLIGHT
TZOFFSETFROM:-0500
TZOFFSETTO:-0400
TZNAME:EDT
DTSTART:20240310T070000
END:DAYLIGHT
BEGIN:STANDARD
TZOFFSETFROM:-0400
TZOFFSETTO:-0500
TZNAME:EST
DTSTART:20241103T060000
END:STANDARD
BEGIN:DAYLIGHT
TZOFFSETFROM:-0500
TZOFFSETTO:-0400
TZNAME:EDT
DTSTART:20250309T070000
END:DAYLIGHT
BEGIN:STANDARD
TZOFFSETFROM:-0400
TZOFFSETTO:-0500
TZNAME:EST
DTSTART:20251102T060000
END:STANDARD
BEGIN:DAYLIGHT
TZOFFSETFROM:-0500
TZOFFSETTO:-0400
TZNAME:EDT
DTSTART:20260308T070000
END:DAYLIGHT
BEGIN:STANDARD
TZOFFSETFROM:-0400
TZOFFSETTO:-0500
TZNAME:EST
DTSTART:20261101T060000
END:STANDARD
END:VTIMEZONE
BEGIN:VEVENT
DTSTART;VALUE=DATE:20250724
DTEND;VALUE=DATE:20250725
DTSTAMP:20260422T204652
CREATED:20250420T015344Z
LAST-MODIFIED:20250420T015344Z
UID:10000267-1753315200-1753401599@excelnotes.com
SUMMARY:Children's Day (Vanuatu)
DESCRIPTION:Children's Day in Vanuatu is a national public holiday dedicated to promoting the rights\, welfare\, and development of children across the country. The day highlights the importance of protecting children\, nurturing their potential\, and affirming their role as the future of the nation. \nWhen is Children's Day?\nChildren's Day is observed annually on July 24th.  \nThe following is the list of Children's Day from 2020 to 2049. \n   \n\n                \n                \n                            \n                            \n                            \n                    \n        \n\n                                                        HolidayDateWeekday\n\n\n\n        \n            Children's DayJul 24\, 2020Friday        \n            \n            Children's DayJul 24\, 2021Saturday        \n            \n            Children's DayJul 24\, 2022Sunday        \n            \n            Children's DayJul 24\, 2023Monday        \n            \n            Children's DayJul 24\, 2024Wednesday        \n            \n            Children's DayJul 24\, 2025Thursday        \n            \n            Children's DayJul 24\, 2026Friday        \n            \n            Children's DayJul 24\, 2027Saturday        \n            \n            Children's DayJul 24\, 2028Monday        \n            \n            Children's DayJul 24\, 2029Tuesday        \n            \n            Children's DayJul 24\, 2030Wednesday        \n            \n            Children's DayJul 24\, 2031Thursday        \n            \n            Children's DayJul 24\, 2032Saturday        \n            \n            Children's DayJul 24\, 2033Sunday        \n            \n            Children's DayJul 24\, 2034Monday        \n            \n            Children's DayJul 24\, 2035Tuesday        \n            \n            Children's DayJul 24\, 2036Thursday        \n            \n            Children's DayJul 24\, 2037Friday        \n            \n            Children's DayJul 24\, 2038Saturday        \n            \n            Children's DayJul 24\, 2039Sunday        \n            \n            Children's DayJul 24\, 2040Tuesday        \n            \n            Children's DayJul 24\, 2041Wednesday        \n            \n            Children's DayJul 24\, 2042Thursday        \n            \n            Children's DayJul 24\, 2043Friday        \n            \n            Children's DayJul 24\, 2044Sunday        \n            \n            Children's DayJul 24\, 2045Monday        \n            \n            Children's DayJul 24\, 2046Tuesday        \n            \n            Children's DayJul 24\, 2047Wednesday        \n            \n            Children's DayJul 24\, 2048Friday        \n            \n            Children's DayJul 24\, 2049Saturday        \n    \n    \n    \n    \n    \n\n\nThe History of Children's Day?\nThe idea of Children's Day originated in the early 20th century\, with many countries establishing days to celebrate and protect children. \nIn 1954\, the United Nations recommended that all countries observe a Universal Children's Day to promote international togetherness and awareness of children's issues. Many nations chose different dates based on cultural significance or national priorities. \nVanuatu established Children's Day as a national holiday on July 24\, reflecting the nation's commitment to protecting and nurturing children. \nThe day aligns with national and international principles outlined in the UN Convention on the Rights of the Child\, which Vanuatu ratified in 1993\, and the local laws and policies protecting children's access to education\, health\, and safety. \nWhile there is no single historical event tied to this date in Vanuatu\, July 24 was chosen to provide a dedicated platform for listening to children's voices\, celebrating their potential and promoting child-friendly development and protection policies.
URL:https://excelnotes.com/holiday/childrens-day-vanuatu/
CATEGORIES:Celebration
ATTACH;FMTTYPE=image/jpeg:https://excelnotes.com/wp-content/uploads/2025/04/Childrens-Day-Vanuatu.jpg
END:VEVENT
END:VCALENDAR