BEGIN:VCALENDAR
VERSION:2.0
PRODID:-//ExcelNotes - ECPv6.15.20//NONSGML v1.0//EN
CALSCALE:GREGORIAN
METHOD:PUBLISH
X-ORIGINAL-URL:https://excelnotes.com
X-WR-CALDESC:Events for ExcelNotes
REFRESH-INTERVAL;VALUE=DURATION:PT1H
X-Robots-Tag:noindex
X-PUBLISHED-TTL:PT1H
BEGIN:VTIMEZONE
TZID:America/New_York
BEGIN:DAYLIGHT
TZOFFSETFROM:-0500
TZOFFSETTO:-0400
TZNAME:EDT
DTSTART:20240310T070000
END:DAYLIGHT
BEGIN:STANDARD
TZOFFSETFROM:-0400
TZOFFSETTO:-0500
TZNAME:EST
DTSTART:20241103T060000
END:STANDARD
BEGIN:DAYLIGHT
TZOFFSETFROM:-0500
TZOFFSETTO:-0400
TZNAME:EDT
DTSTART:20250309T070000
END:DAYLIGHT
BEGIN:STANDARD
TZOFFSETFROM:-0400
TZOFFSETTO:-0500
TZNAME:EST
DTSTART:20251102T060000
END:STANDARD
BEGIN:DAYLIGHT
TZOFFSETFROM:-0500
TZOFFSETTO:-0400
TZNAME:EDT
DTSTART:20260308T070000
END:DAYLIGHT
BEGIN:STANDARD
TZOFFSETFROM:-0400
TZOFFSETTO:-0500
TZNAME:EST
DTSTART:20261101T060000
END:STANDARD
END:VTIMEZONE
BEGIN:VEVENT
DTSTART;TZID=America/New_York:20250702T080000
DTEND;TZID=America/New_York:20250702T170000
DTSTAMP:20260422T185808
CREATED:20250703T030305Z
LAST-MODIFIED:20250703T031318Z
UID:10000345-1751443200-1751475600@excelnotes.com
SUMMARY:Commemoration of Atatürk\, Youth and Sports Day
DESCRIPTION:Commemoration of Atatürk\, Youth and Sports Day is a national holiday in Turkey. It honors both the beginning of the Turkish War of Independence in 1919 and the role of youth and sports in the vision of a modern\, strong Republic as envisioned by Mustafa Kemal Atatürk\, the founder of modern Turkey. \nWhen is Commemoration of Atatürk\, Youth and Sports Day?\nCommemoration of Atatürk\, Youth and Sports Day is celebrated every year on May 19.  \nThe following is the list of Commemoration of Atatürk\, Youth and Sports Day from 2020 to 2049. \n   \n\n                \n                \n                            \n                            \n                            \n                    \n        \n\n                                                        HolidayDateWeekday\n\n\n\n        \n            Commemoration of Ataturk\, Youth and Sports DayMay 19\, 2020Tuesday        \n            \n            Commemoration of Ataturk\, Youth and Sports DayMay 19\, 2021Wednesday        \n            \n            Commemoration of Ataturk\, Youth and Sports DayMay 19\, 2022Thursday        \n            \n            Commemoration of Ataturk\, Youth and Sports DayMay 19\, 2023Friday        \n            \n            Commemoration of Ataturk\, Youth and Sports DayMay 19\, 2024Sunday        \n            \n            Commemoration of Ataturk\, Youth and Sports DayMay 19\, 2025Monday        \n            \n            Commemoration of Ataturk\, Youth and Sports DayMay 19\, 2026Tuesday        \n            \n            Commemoration of Ataturk\, Youth and Sports DayMay 19\, 2027Wednesday        \n            \n            Commemoration of Ataturk\, Youth and Sports DayMay 19\, 2028Friday        \n            \n            Commemoration of Ataturk\, Youth and Sports DayMay 19\, 2029Saturday        \n            \n            Commemoration of Ataturk\, Youth and Sports DayMay 19\, 2030Sunday        \n            \n            Commemoration of Ataturk\, Youth and Sports DayMay 19\, 2031Monday        \n            \n            Commemoration of Ataturk\, Youth and Sports DayMay 19\, 2032Wednesday        \n            \n            Commemoration of Ataturk\, Youth and Sports DayMay 19\, 2033Thursday        \n            \n            Commemoration of Ataturk\, Youth and Sports DayMay 19\, 2034Friday        \n            \n            Commemoration of Ataturk\, Youth and Sports DayMay 19\, 2035Saturday        \n            \n            Commemoration of Ataturk\, Youth and Sports DayMay 19\, 2036Monday        \n            \n            Commemoration of Ataturk\, Youth and Sports DayMay 19\, 2037Tuesday        \n            \n            Commemoration of Ataturk\, Youth and Sports DayMay 19\, 2038Wednesday        \n            \n            Commemoration of Ataturk\, Youth and Sports DayMay 19\, 2039Thursday        \n            \n            Commemoration of Ataturk\, Youth and Sports DayMay 19\, 2040Saturday        \n            \n            Commemoration of Ataturk\, Youth and Sports DayMay 19\, 2041Sunday        \n            \n            Commemoration of Ataturk\, Youth and Sports DayMay 19\, 2042Monday        \n            \n            Commemoration of Ataturk\, Youth and Sports DayMay 19\, 2043Tuesday        \n            \n            Commemoration of Ataturk\, Youth and Sports DayMay 19\, 2044Thursday        \n            \n            Commemoration of Ataturk\, Youth and Sports DayMay 19\, 2045Friday        \n            \n            Commemoration of Ataturk\, Youth and Sports DayMay 19\, 2046Saturday        \n            \n            Commemoration of Ataturk\, Youth and Sports DayMay 19\, 2047Sunday        \n            \n            Commemoration of Ataturk\, Youth and Sports DayMay 19\, 2048Tuesday        \n            \n            Commemoration of Ataturk\, Youth and Sports DayMay 19\, 2049Wednesday        \n    \n    \n    \n    \n    \n\n\nThe History of Commemoration of Atatürk\, Youth and Sports Day?\nOn May 19\, 1919\, Mustafa Kemal Atatürk\, then an Ottoman officer\, landed in Samsun on the Black Sea coast. This moment is widely regarded as the starting point of the Turkish national struggle against the Allied occupation following the defeat of the Ottoman Empire in World War I. \nAtatürk's mission was to organize resistance movements and lay the foundations for a new\, independent Turkish state. This led to the War of Independence (1919–1923)\, and eventually to the establishment of the Republic of Turkey in 1923. \nThe first official celebration of May 19 took place in 1926 in Samsun\, under the name "Gazi Day" in reference to Atatürk. \nIn 1938\, just before his death\, Atatürk officially dedicated May 19 as Youth and Sports Day to encourage the physical and moral development of young people. \nAfter his passing\, the name of the holiday was expanded to "Commemoration of Atatürk\, Youth and Sports Day"\, combining the national remembrance with a celebration of youth and vitality.
URL:https://excelnotes.com/holiday/commemoration-of-ataturk-youth-and-sports-day/
CATEGORIES:Celebration
ATTACH;FMTTYPE=image/jpeg:https://excelnotes.com/wp-content/uploads/2025/07/Commemoration-of-Ataturk-Youth-and-Sports-Day.jpg
END:VEVENT
END:VCALENDAR