BEGIN:VCALENDAR
VERSION:2.0
PRODID:-//ExcelNotes - ECPv6.15.20//NONSGML v1.0//EN
CALSCALE:GREGORIAN
METHOD:PUBLISH
X-WR-CALNAME:ExcelNotes
X-ORIGINAL-URL:https://excelnotes.com
X-WR-CALDESC:Events for ExcelNotes
REFRESH-INTERVAL;VALUE=DURATION:PT1H
X-Robots-Tag:noindex
X-PUBLISHED-TTL:PT1H
BEGIN:VTIMEZONE
TZID:America/New_York
BEGIN:DAYLIGHT
TZOFFSETFROM:-0500
TZOFFSETTO:-0400
TZNAME:EDT
DTSTART:20240310T070000
END:DAYLIGHT
BEGIN:STANDARD
TZOFFSETFROM:-0400
TZOFFSETTO:-0500
TZNAME:EST
DTSTART:20241103T060000
END:STANDARD
BEGIN:DAYLIGHT
TZOFFSETFROM:-0500
TZOFFSETTO:-0400
TZNAME:EDT
DTSTART:20250309T070000
END:DAYLIGHT
BEGIN:STANDARD
TZOFFSETFROM:-0400
TZOFFSETTO:-0500
TZNAME:EST
DTSTART:20251102T060000
END:STANDARD
BEGIN:DAYLIGHT
TZOFFSETFROM:-0500
TZOFFSETTO:-0400
TZNAME:EDT
DTSTART:20260308T070000
END:DAYLIGHT
BEGIN:STANDARD
TZOFFSETFROM:-0400
TZOFFSETTO:-0500
TZNAME:EST
DTSTART:20261101T060000
END:STANDARD
BEGIN:DAYLIGHT
TZOFFSETFROM:-0500
TZOFFSETTO:-0400
TZNAME:EDT
DTSTART:20270314T070000
END:DAYLIGHT
BEGIN:STANDARD
TZOFFSETFROM:-0400
TZOFFSETTO:-0500
TZNAME:EST
DTSTART:20271107T060000
END:STANDARD
END:VTIMEZONE
BEGIN:VEVENT
DTSTART;VALUE=DATE:20251112
DTEND;VALUE=DATE:20261013
DTSTAMP:20260423T013312
CREATED:20251112T055143Z
LAST-MODIFIED:20251112T055143Z
UID:10000757-1762905600-1791849599@excelnotes.com
SUMMARY:Lady of Aparecida Day (Brazil)
DESCRIPTION:Our Lady of Aparecida Day honors Nossa Senhora Aparecida\, the patron saint of Brazil. The day commemorates the 1717 discovery of a small clay statue of the Virgin Mary by fishermen in the Paraíba River\, which became a symbol of hope and faith. Over centuries\, devotion to Our Lady of Aparecida grew into one of Brazil's most cherished traditions. Millions of pilgrims visit the Basilica of the National Shrine of Aparecida\, one of the largest churches in the world\, to pay tribute. \nWhen is Lady of Aparecida Day?\nLady of Aparecida Day in Brazil is celebrated on October 12 every year.  \nThe following is the list of Lady of Aparecida Day from 2020 to 2049. \n   \n\n                \n                \n                            \n                            \n                            \n                    \n        \n\n                                                        HolidayDateWeekday\n\n\n\n        \n            Lady of Aparecida DayOct 12\, 2020Monday        \n            \n            Lady of Aparecida DayOct 12\, 2021Tuesday        \n            \n            Lady of Aparecida DayOct 12\, 2022Wednesday        \n            \n            Lady of Aparecida DayOct 12\, 2023Thursday        \n            \n            Lady of Aparecida DayOct 12\, 2024Saturday        \n            \n            Lady of Aparecida DayOct 12\, 2025Sunday        \n            \n            Lady of Aparecida DayOct 12\, 2026Monday        \n            \n            Lady of Aparecida DayOct 12\, 2027Tuesday        \n            \n            Lady of Aparecida DayOct 12\, 2028Thursday        \n            \n            Lady of Aparecida DayOct 12\, 2029Friday        \n            \n            Lady of Aparecida DayOct 12\, 2030Saturday        \n            \n            Lady of Aparecida DayOct 12\, 2031Sunday        \n            \n            Lady of Aparecida DayOct 12\, 2032Tuesday        \n            \n            Lady of Aparecida DayOct 12\, 2033Wednesday        \n            \n            Lady of Aparecida DayOct 12\, 2034Thursday        \n            \n            Lady of Aparecida DayOct 12\, 2035Friday        \n            \n            Lady of Aparecida DayOct 12\, 2036Sunday        \n            \n            Lady of Aparecida DayOct 12\, 2037Monday        \n            \n            Lady of Aparecida DayOct 12\, 2038Tuesday        \n            \n            Lady of Aparecida DayOct 12\, 2039Wednesday        \n            \n            Lady of Aparecida DayOct 12\, 2040Friday        \n            \n            Lady of Aparecida DayOct 12\, 2041Saturday        \n            \n            Lady of Aparecida DayOct 12\, 2042Sunday        \n            \n            Lady of Aparecida DayOct 12\, 2043Monday        \n            \n            Lady of Aparecida DayOct 12\, 2044Wednesday        \n            \n            Lady of Aparecida DayOct 12\, 2045Thursday        \n            \n            Lady of Aparecida DayOct 12\, 2046Friday        \n            \n            Lady of Aparecida DayOct 12\, 2047Saturday        \n            \n            Lady of Aparecida DayOct 12\, 2048Monday        \n            \n            Lady of Aparecida DayOct 12\, 2049Tuesday        \n    \n    \n    \n    \n    \n\n\nThe History of Lady of Aparecida Day?\nThe devotion to Our Lady of Aparecida began in October 1717\, in the small village of Guaratinguetá\, in the Paraíba Valley of São Paulo state. Local fishermen were struggling to catch fish in the Paraíba River as they prepared for the visit of a regional governor\, Dom Pedro de Almeida e Portugal\, Count of Assumar. \nThree fishermen\, Domingos Garcia\, João Alves\, and Filipe Pedroso\, prayed to the Virgin Mary for help. Casting their nets\, they first pulled up a small clay statue of a headless figure from the river. When they cast their nets again\, they found the missing head. After retrieving and cleaning the statue\, they continued fishing\, and to their astonishment\, their nets filled with fish. \nThe fishermen took this as a miracle\, and word of the event spread quickly. The little dark-skinned clay statue\, later recognized as Our Lady of the Immaculate Conception\, came to be affectionately called Nossa Senhora Aparecida\, meaning "Our Lady Who Appeared". \nThe statue was first kept in the home of Filipe Pedroso\, where neighbors gathered to pray. Reports of miracles and healings attributed to Our Lady of Aparecida multiplied\, and devotion to her spread across the region. In 1745\, a small chapel was built to house the statue\, and by 1834\, a larger church\, the Old Basilica\, was constructed to accommodate growing numbers of pilgrims. \nIn 1904\, Pope Pius X authorized the canonical coronation of Our Lady of Aparecida\, officially recognizing her as a sacred symbol of devotion. Later\, in 1930\, Pope Pius XI declared her the Patroness of Brazil\, cementing her status as a national spiritual figure. \nThe Basilica of the National Shrine of Our Lady of Aparecida\, built to replace the older church\, began construction in 1955 and was completed in 1980. That same year\, Pope John Paul II visited Brazil and consecrated the new basilica\, recognizing it as one of the largest Marian shrines in the world. In 1980\, the Brazilian government officially established October 12 as a national holiday dedicated to Our Lady of Aparecida\, blending religious reverence with cultural celebration. \nToday\, millions of pilgrims visit the Basilica of Aparecida each year\, especially on October 12\, walking\, cycling or even traveling long distances on foot to express devotion and gratitude.
URL:https://excelnotes.com/holiday/lady-of-aparecida-day-brazil/
CATEGORIES:Christianity
ATTACH;FMTTYPE=image/jpeg:https://excelnotes.com/wp-content/uploads/2025/11/Lady-of-Aparecida-Day-Brazil.jpg
END:VEVENT
BEGIN:VEVENT
DTSTART;VALUE=DATE:20260301
DTEND;VALUE=DATE:20260302
DTSTAMP:20260423T013312
CREATED:20250725T213837Z
LAST-MODIFIED:20250806T040509Z
UID:10000427-1772323200-1772409599@excelnotes.com
SUMMARY:Republic Day Neuchâtel
DESCRIPTION:Republic Day in Neuchâtel marks the anniversary of a unique and dramatic transformation in Swiss history\, the peaceful 1848 revolution that ended Neuchâtel's status as a monarchy and made it a republican canton within the Swiss Confederation. \nWhen is Republic Day?\nRepublic Day is celebrated annually on March 1. \nThe following is the list of Republic Day from 2020 to 2039. \n   \n\n                \n                \n                            \n                            \n                            \n                    \n        \n\n                                                        HolidayDateWeekday\n\n\n\n        \n            Republic DayMar 01\, 2020Sunday        \n            \n            Republic DayMar 01\, 2021Monday        \n            \n            Republic DayMar 01\, 2022Tuesday        \n            \n            Republic DayMar 01\, 2023Wednesday        \n            \n            Republic DayMar 01\, 2024Friday        \n            \n            Republic DayMar 01\, 2025Saturday        \n            \n            Republic DayMar 01\, 2026Sunday        \n            \n            Republic DayMar 01\, 2027Monday        \n            \n            Republic DayMar 01\, 2028Wednesday        \n            \n            Republic DayMar 01\, 2029Thursday        \n            \n            Republic DayMar 01\, 2030Friday        \n            \n            Republic DayMar 01\, 2031Saturday        \n            \n            Republic DayMar 01\, 2032Monday        \n            \n            Republic DayMar 01\, 2033Tuesday        \n            \n            Republic DayMar 01\, 2034Wednesday        \n            \n            Republic DayMar 01\, 2035Thursday        \n            \n            Republic DayMar 01\, 2036Saturday        \n            \n            Republic DayMar 01\, 2037Sunday        \n            \n            Republic DayMar 01\, 2038Monday        \n            \n            Republic DayMar 01\, 2039Tuesday        \n            \n            Republic DayMar 01\, 2040Thursday        \n            \n            Republic DayMar 01\, 2041Friday        \n            \n            Republic DayMar 01\, 2042Saturday        \n            \n            Republic DayMar 01\, 2043Sunday        \n            \n            Republic DayMar 01\, 2044Tuesday        \n            \n            Republic DayMar 01\, 2045Wednesday        \n            \n            Republic DayMar 01\, 2046Thursday        \n            \n            Republic DayMar 01\, 2047Friday        \n            \n            Republic DayMar 01\, 2048Sunday        \n            \n            Republic DayMar 01\, 2049Monday        \n    \n    \n    \n    \n    \n\n\nThe History of Republic Day?\nInspired by republican movements sweeping through Europe\, especially the February Revolution in France\, Neuchâtelois revolutionaries took action.  \nOn March 1\, 1848\, A group of about 1\,400 armed citizens from the Jura region\, particularly La Chaux-de-Fonds and Le Locle\, marched toward the capital. They peacefully seized control of the Château de Neuchâtel and overthrew the royalist administration. \nThat very day\, Neuchâtel proclaimed itself a republic\, aligning fully with the democratic values of the Swiss Confederation. \nAlthough the revolution was initially successful\, tensions persisted. In 1856\, royalist forces attempted a coup to restore Prussian rule in the Neuchâtel Crisis\, which nearly led to war. However\, through diplomatic mediation\, especially by Napoleon III of France—a peaceful resolution was reached. \nIn 1857\, King Frederick William IV of Prussia formally renounced all claims to Neuchâtel. Neuchâtel remained a full republic and Swiss canton\, cementing its democratic identity.
URL:https://excelnotes.com/holiday/republic-day-neuchatel/
CATEGORIES:Historical Holiday
ATTACH;FMTTYPE=image/jpeg:https://excelnotes.com/wp-content/uploads/2025/07/Republic-Day-Neuchatel.jpg
END:VEVENT
BEGIN:VEVENT
DTSTART;VALUE=DATE:20260301
DTEND;VALUE=DATE:20260302
DTSTAMP:20260423T013312
CREATED:20250827T050017Z
LAST-MODIFIED:20250827T050017Z
UID:10000465-1772323200-1772409599@excelnotes.com
SUMMARY:Balearic Day
DESCRIPTION:Balearic Day celebrates the 1983 enactment of the Statute of Autonomy that established the Balearic Islands as an autonomous community of Spain. It is both a celebration of the islands' political autonomy and a showcase of their unique cultural heritage\, blending Catalan traditions with local island customs. \nWhen is Balearic Day?\nBalearic Day in Spain is celebrated every year on March 1.  \nThe following is the list of Balearic Day from 2020 to 2049. \n   \n\n                \n                \n                            \n                            \n                            \n                    \n        \n\n                                                        HolidayDateWeekday\n\n\n\n        \n            Balearic DayMar 01\, 2020Sunday        \n            \n            Balearic DayMar 01\, 2021Monday        \n            \n            Balearic DayMar 01\, 2022Tuesday        \n            \n            Balearic DayMar 01\, 2023Wednesday        \n            \n            Balearic DayMar 01\, 2024Friday        \n            \n            Balearic DayMar 01\, 2025Saturday        \n            \n            Balearic DayMar 01\, 2026Sunday        \n            \n            Balearic DayMar 01\, 2027Monday        \n            \n            Balearic DayMar 01\, 2028Wednesday        \n            \n            Balearic DayMar 01\, 2029Thursday        \n            \n            Balearic DayMar 01\, 2030Friday        \n            \n            Balearic DayMar 01\, 2031Saturday        \n            \n            Balearic DayMar 01\, 2032Monday        \n            \n            Balearic DayMar 01\, 2033Tuesday        \n            \n            Balearic DayMar 01\, 2034Wednesday        \n            \n            Balearic DayMar 01\, 2035Thursday        \n            \n            Balearic DayMar 01\, 2036Saturday        \n            \n            Balearic DayMar 01\, 2037Sunday        \n            \n            Balearic DayMar 01\, 2038Monday        \n            \n            Balearic DayMar 01\, 2039Tuesday        \n            \n            Balearic DayMar 01\, 2040Thursday        \n            \n            Balearic DayMar 01\, 2041Friday        \n            \n            Balearic DayMar 01\, 2042Saturday        \n            \n            Balearic DayMar 01\, 2043Sunday        \n            \n            Balearic DayMar 01\, 2044Tuesday        \n            \n            Balearic DayMar 01\, 2045Wednesday        \n            \n            Balearic DayMar 01\, 2046Thursday        \n            \n            Balearic DayMar 01\, 2047Friday        \n            \n            Balearic DayMar 01\, 2048Sunday        \n            \n            Balearic DayMar 01\, 2049Monday        \n    \n    \n    \n    \n    \n\n\nThe History of Balearic Day?\nAfter the end of Francisco Franco's dictatorship in 1975\, Spain transitioned into democracy. One of the key steps was the 1978 Spanish Constitution\, which allowed Spain's regions to become autonomous communities with their own governments\, parliaments\, and statutes of autonomy. \nFor the Balearic Islands\, this opened the path to gaining official recognition of their cultural\, historical and political identity. \nIn 1982\, the Statute of Autonomy of the Balearic Islands was approved by the Spanish Cortes (Parliament). It officially came into effect on March 1\, 1983\, marking the creation of the Autonomous Community of the Balearic Islands. \nThis statute gave the islands their own Parliament\, President\, and Government (Govern de les Illes Balears)\, allowing them to manage key areas such as education\, health\, language policy and culture. \nTo commemorate this milestone\, March 1st was declared Balearic Day. It became the official regional holiday across the four islands: Mallorca\, Menorca\, Ibiza\, and Formentera\, symbolizing both self-governance and regional unity.
URL:https://excelnotes.com/holiday/balearic-day/
CATEGORIES:Political Holiday
ATTACH;FMTTYPE=image/jpeg:https://excelnotes.com/wp-content/uploads/2025/08/Balearic-Day.jpg
END:VEVENT
BEGIN:VEVENT
DTSTART;VALUE=DATE:20260301
DTEND;VALUE=DATE:20260302
DTSTAMP:20260423T013312
CREATED:20250906T224537Z
LAST-MODIFIED:20250906T224537Z
UID:10000490-1772323200-1772409599@excelnotes.com
SUMMARY:Independence Movement Day
DESCRIPTION:Independence Movement Day marks the March 1st Movement against Japanese rule. Though suppressed\, it galvanized Korea's struggle for freedom and is now remembered every year as a national holiday in South Korea\, honoring the spirit of independence and resilience. \nWhen is Independence Movement Day?\nIndependence Movement Day in South Korea is celebrated every year on March 1  \nThe following is the list of Independence Movement Day from 2020 to 2049. \n   \n\n                \n                \n                            \n                            \n                            \n                    \n        \n\n                                                        HolidayDateWeekday\n\n\n\n        \n            Independence Movement DayMar 01\, 2020Sunday        \n            \n            Independence Movement DayMar 01\, 2021Monday        \n            \n            Independence Movement DayMar 01\, 2022Tuesday        \n            \n            Independence Movement DayMar 01\, 2023Wednesday        \n            \n            Independence Movement DayMar 01\, 2024Friday        \n            \n            Independence Movement DayMar 01\, 2025Saturday        \n            \n            Independence Movement DayMar 01\, 2026Sunday        \n            \n            Independence Movement DayMar 01\, 2027Monday        \n            \n            Independence Movement DayMar 01\, 2028Wednesday        \n            \n            Independence Movement DayMar 01\, 2029Thursday        \n            \n            Independence Movement DayMar 01\, 2030Friday        \n            \n            Independence Movement DayMar 01\, 2031Saturday        \n            \n            Independence Movement DayMar 01\, 2032Monday        \n            \n            Independence Movement DayMar 01\, 2033Tuesday        \n            \n            Independence Movement DayMar 01\, 2034Wednesday        \n            \n            Independence Movement DayMar 01\, 2035Thursday        \n            \n            Independence Movement DayMar 01\, 2036Saturday        \n            \n            Independence Movement DayMar 01\, 2037Sunday        \n            \n            Independence Movement DayMar 01\, 2038Monday        \n            \n            Independence Movement DayMar 01\, 2039Tuesday        \n            \n            Independence Movement DayMar 01\, 2040Thursday        \n            \n            Independence Movement DayMar 01\, 2041Friday        \n            \n            Independence Movement DayMar 01\, 2042Saturday        \n            \n            Independence Movement DayMar 01\, 2043Sunday        \n            \n            Independence Movement DayMar 01\, 2044Tuesday        \n            \n            Independence Movement DayMar 01\, 2045Wednesday        \n            \n            Independence Movement DayMar 01\, 2046Thursday        \n            \n            Independence Movement DayMar 01\, 2047Friday        \n            \n            Independence Movement DayMar 01\, 2048Sunday        \n            \n            Independence Movement DayMar 01\, 2049Monday        \n            \n                    \n    \n    \n    \n    \n    \n\n\nThe History of Independence Movement Day?\nIn 1910\, Korea was annexed by Japan and placed under strict colonial control. Koreans endured suppression of their language\, culture\, and press\, as well as forced labor and economic exploitation. \nAfter World War I\, U.S. President Woodrow Wilson's principle of self-determination inspired Korean activists to demand independence. \nOn March 1\, 1919\, thirty-three Korean cultural and religious leaders secretly signed and read the Korean Declaration of Independence in Seoul. \nDemonstrations quickly spread across the nation\, and more than 2 million people participated in rallies shouting "Manse" ("Long live Korean independence"). Protests occurred in hundreds of cities and villages. \nThe Japanese military responded with brutal force with estimates say 7\,000–10\,000 Koreans were killed\, and tens of thousands were wounded or imprisoned. Despite its failure to free Korea immediately\, the movement marked a turning point in Korea's independence struggle. \nThe movement led to the creation of the Provisional Government of the Republic of Korea in Shanghai (April 1919). It inspired future independence activism\, including armed resistance and cultural preservation movements. \nThe March 1st Movement became a symbol of national unity and resistance against colonialism. After Korea's liberation in 1945\, the newly formed Republic of Korea designated March 1st as a national holiday\, known as Samiljeol (삼일절\, "Three-One Day").
URL:https://excelnotes.com/holiday/independence-movement-day/
CATEGORIES:Political Holiday
ATTACH;FMTTYPE=image/jpeg:https://excelnotes.com/wp-content/uploads/2025/09/Independence-Movement-Day.jpg
END:VEVENT
END:VCALENDAR