BEGIN:VCALENDAR
VERSION:2.0
PRODID:-//ExcelNotes - ECPv6.15.20//NONSGML v1.0//EN
CALSCALE:GREGORIAN
METHOD:PUBLISH
X-WR-CALNAME:ExcelNotes
X-ORIGINAL-URL:https://excelnotes.com
X-WR-CALDESC:Events for ExcelNotes
REFRESH-INTERVAL;VALUE=DURATION:PT1H
X-Robots-Tag:noindex
X-PUBLISHED-TTL:PT1H
BEGIN:VTIMEZONE
TZID:America/New_York
BEGIN:DAYLIGHT
TZOFFSETFROM:-0500
TZOFFSETTO:-0400
TZNAME:EDT
DTSTART:20240310T070000
END:DAYLIGHT
BEGIN:STANDARD
TZOFFSETFROM:-0400
TZOFFSETTO:-0500
TZNAME:EST
DTSTART:20241103T060000
END:STANDARD
BEGIN:DAYLIGHT
TZOFFSETFROM:-0500
TZOFFSETTO:-0400
TZNAME:EDT
DTSTART:20250309T070000
END:DAYLIGHT
BEGIN:STANDARD
TZOFFSETFROM:-0400
TZOFFSETTO:-0500
TZNAME:EST
DTSTART:20251102T060000
END:STANDARD
BEGIN:DAYLIGHT
TZOFFSETFROM:-0500
TZOFFSETTO:-0400
TZNAME:EDT
DTSTART:20260308T070000
END:DAYLIGHT
BEGIN:STANDARD
TZOFFSETFROM:-0400
TZOFFSETTO:-0500
TZNAME:EST
DTSTART:20261101T060000
END:STANDARD
END:VTIMEZONE
BEGIN:VEVENT
DTSTART;VALUE=DATE:20250828
DTEND;VALUE=DATE:20250829
DTSTAMP:20260423T113456
CREATED:20241230T201732Z
LAST-MODIFIED:20241230T205200Z
UID:10000135-1756339200-1756425599@excelnotes.com
SUMMARY:Orthodox Assumption Day
DESCRIPTION:Assumption Day is a major feast in Christianity that commemorates the Assumption of the Virgin Mary into Heaven. This day marks the belief that the Mother of Jesus\, at the end of her earthly life\, was taken body and soul into Heaven. It is observed by Roman Catholics\, Eastern Orthodox\, Anglicans\, and other Christian traditions\, though the theological emphasis varies. \nTable of Contents\n\nWhen is Assumption Day?\nThe History of Assumption Day?\nWhat Do People Do on This Day?\nMore about Virgin Mary\n\nWhen is Assumption Day?\nIn Orthodox churches\, Assumption Day is known as the Dormition of the Theotokos (the falling asleep of Mary)\, and it is celebrated on August 15 on the Julian calendar\, which corresponds to August 28 on the Gregorian calendar in some Orthodox traditions. \nThe following is the list of Assumption Day from 2020 to 2049. \n   \n\n                \n                \n                            \n                            \n                            \n                    \n        \n\n                                                        HolidayDateWeekday\n\n\n\n        \n            Assumption DayAugust 28\, 2020Friday        \n            \n            Assumption DayAugust 28\, 2021Saturday        \n            \n            Assumption DayAugust 28\, 2022Sunday        \n            \n            Assumption DayAugust 28\, 2023Monday        \n            \n            Assumption DayAugust 28\, 2024Wednesday        \n            \n            Assumption DayAugust 28\, 2025Thursday        \n            \n            Assumption DayAugust 28\, 2026Friday        \n            \n            Assumption DayAugust 28\, 2027Saturday        \n            \n            Assumption DayAugust 28\, 2028Monday        \n            \n            Assumption DayAugust 28\, 2029Tuesday        \n            \n            Assumption DayAugust 28\, 2030Wednesday        \n            \n            Assumption DayAugust 28\, 2031Thursday        \n            \n            Assumption DayAugust 28\, 2032Saturday        \n            \n            Assumption DayAugust 28\, 2033Sunday        \n            \n            Assumption DayAugust 28\, 2034Monday        \n            \n            Assumption DayAugust 28\, 2035Tuesday        \n            \n            Assumption DayAugust 28\, 2036Thursday        \n            \n            Assumption DayAugust 28\, 2037Friday        \n            \n            Assumption DayAugust 28\, 2038Saturday        \n            \n            Assumption DayAugust 28\, 2039Sunday        \n            \n            Assumption DayAugust 28\, 2040Tuesday        \n            \n            Assumption DayAugust 28\, 2041Wednesday        \n            \n            Assumption DayAugust 28\, 2042Thursday        \n            \n            Assumption DayAugust 28\, 2043Friday        \n            \n            Assumption DayAugust 28\, 2044Sunday        \n            \n            Assumption DayAugust 28\, 2045Monday        \n            \n            Assumption DayAugust 28\, 2046Tuesday        \n            \n            Assumption DayAugust 28\, 2047Wednesday        \n            \n            Assumption DayAugust 28\, 2048Friday        \n            \n            Assumption DayAugust 28\, 2049Saturday        \n    \n    \n    \n    \n    \n\n\nThe History of Assumption Day\nAssumption Day has deep roots in Christian tradition and has evolved over centuries\, becoming a major celebration in both the Roman Catholic Church and the Eastern Orthodox Church. \nIn the Eastern Orthodox Church\, Assumption Day is known as the Dormition of the Theotokos\, commemorating the "falling asleep" of the Virgin Mary and her subsequent bodily assumption into Heaven. \nThe earliest references to Mary's assumption are found in apocryphal writings\, particularly the Transitus Mariae (Assumption of Mary)\, which emerged between the 3rd and 5th centuries. These accounts describe Mary's peaceful death\, her burial and her bodily assumption into Heaven. \nThe feast of the Dormition of the Theotokos (meaning "God-bearer") originated in the Eastern Christian Church\, where it celebrated Mary's "falling asleep" and her glorification in Heaven. By the 6th century\, the feast was widely observed in the Byzantine Empire\, with Emperor Maurice (582–602 AD) establishing August 15 as the official date.  \nThe feast was soon recognized throughout the Eastern Christian world. By the 7th century\, the feast was celebrated widely in Constantinople and other major cities of the Byzantine Empire\, and churches dedicated to the Dormition became pilgrimage sites. \nThe feast was adopted by Slavic Orthodox Churches (Russia\, Serbia\, Bulgaria) as part of their liturgical calendar\, maintaining the same theological emphasis. Today\, the Dormition is one of the most important feasts in the Orthodox Church\, celebrated with great solemnity and devotion. \n   \nWhat Do People Do on This Day?\nOn Orthodox Assumption Day\, people engage in religious services\, devotional acts and community celebrations to honor the Virgin Mary's "falling asleep" and her bodily assumption into Heaven. \nThe central activity of Assumption Day is attending church services\, and the day begins with the Divine Liturgy\, one of the most important services in the Orthodox liturgical year. \nIn some Orthodox traditions\, a symbolic burial procession is held\, featuring an icon or epitaphios (cloth) depicting the Virgin Mary. The ceremony mirrors Christ's burial on Holy Friday\, emphasizing her union with her Son. \nMany observe the Dormition Fast from August 1 to 14\, a period of abstinence from meat\, dairy\, and other rich foods\, focusing on repentance and spiritual renewal. On the feast day itself\, prayer and thanksgiving for Mary's intercession are central. \nPeople light candles and pray before icons of the Virgin Mary\, particularly those depicting her Dormition\, and the icon veneration reflects the Orthodox emphasis on Mary as the Mother of God and her continuing role in the Church. \nIn some regions\, herbs and flowers are brought to church for blessing\, symbolizing Mary as the "Flower of Heaven" and her role in sanctifying creation. After liturgical services\, families and communities gather for festive meals\, often featuring traditional foods prepared in honor of the occasion. In rural areas\, the day often coincides with harvest celebrations\, blending religious and agricultural traditions. \nAssumption Day is a public holiday in several countries\, where people often spend the day with family\, attending church\, and participating in community events. \nInspired by Mary's humility and devotion\, some people use the day to perform acts of charity\, such as helping the poor or volunteering in their communities. \nMore about Virgin Mary\nThe Virgin Mary\, also known as Mary\, Mother of Jesus\, holds a central and revered position in Christianity. Her life and role in salvation history are celebrated in Scripture\, tradition and liturgical practices across various Christian denominations. \nMary was born likely in Nazareth or nearby in Galilee to parents Saint Anne and Saint Joachim. According to apocryphal writings\, Mary was consecrated to God from an early age. \nBetrothed to Joseph\, a carpenter and devout man\, she remained a virgin\, fulfilling prophecies about the Messiah's birth. \nShe was chosen by God to be the Mother of Jesus Christ\, the Son of God. The angel Gabriel announced she would conceive Jesus by the Holy Spirit. When Mary visited her cousin Elizabeth\, she recognized her as the Mother of the Lord. \nMary gave birth to Jesus in Bethlehem\, then Mary and Joseph fled to Egypt to protect Jesus from King Herod. \nMary is present at Jesus' crucifixion witnessing her Son's suffering. Jesus gave her into the care of the Apostle John\, symbolizing her as the spiritual mother of all believers.
URL:https://excelnotes.com/holiday/orthodox-assumption-day/
CATEGORIES:Christianity
ATTACH;FMTTYPE=image/jpeg:https://excelnotes.com/wp-content/uploads/2024/12/Orthodox-Assumption-Day.jpg
END:VEVENT
END:VCALENDAR