BEGIN:VCALENDAR
VERSION:2.0
PRODID:-//ExcelNotes - ECPv6.15.20//NONSGML v1.0//EN
CALSCALE:GREGORIAN
METHOD:PUBLISH
X-ORIGINAL-URL:https://excelnotes.com
X-WR-CALDESC:Events for ExcelNotes
REFRESH-INTERVAL;VALUE=DURATION:PT1H
X-Robots-Tag:noindex
X-PUBLISHED-TTL:PT1H
BEGIN:VTIMEZONE
TZID:America/New_York
BEGIN:DAYLIGHT
TZOFFSETFROM:-0500
TZOFFSETTO:-0400
TZNAME:EDT
DTSTART:20240310T070000
END:DAYLIGHT
BEGIN:STANDARD
TZOFFSETFROM:-0400
TZOFFSETTO:-0500
TZNAME:EST
DTSTART:20241103T060000
END:STANDARD
BEGIN:DAYLIGHT
TZOFFSETFROM:-0500
TZOFFSETTO:-0400
TZNAME:EDT
DTSTART:20250309T070000
END:DAYLIGHT
BEGIN:STANDARD
TZOFFSETFROM:-0400
TZOFFSETTO:-0500
TZNAME:EST
DTSTART:20251102T060000
END:STANDARD
BEGIN:DAYLIGHT
TZOFFSETFROM:-0500
TZOFFSETTO:-0400
TZNAME:EDT
DTSTART:20260308T070000
END:DAYLIGHT
BEGIN:STANDARD
TZOFFSETFROM:-0400
TZOFFSETTO:-0500
TZNAME:EST
DTSTART:20261101T060000
END:STANDARD
END:VTIMEZONE
BEGIN:VEVENT
DTSTART;VALUE=DATE:20250801
DTEND;VALUE=DATE:20250802
DTSTAMP:20260421T060326
CREATED:20250425T042213Z
LAST-MODIFIED:20250425T042420Z
UID:10000306-1754006400-1754092799@excelnotes.com
SUMMARY:Emancipation Day (TCI)
DESCRIPTION:Emancipation Day in the Turks and Caicos Islands (TCI) is a public holiday that commemorates the abolition of slavery in the British Empire. It serves as a day of remembrance\, reflection\, and celebration of freedom\, cultural resilience\, and the enduring legacy of the enslaved African people and their descendants. \nWhen is Emancipation Day?\nEmancipation Day is observed annually on August 1st\, marking the Slavery Abolition Act of 1833.  \nThe following is the list of Emancipation Day from 2020 to 2049. \n   \n\n                \n                \n                            \n                            \n                            \n                    \n        \n\n                                                        HolidayDateWeekday\n\n\n\n        \n            Emancipation DayAug 01\, 2020Saturday        \n            \n            Emancipation DayAug 01\, 2021Sunday        \n            \n            Emancipation DayAug 01\, 2022Monday        \n            \n            Emancipation DayAug 01\, 2023Tuesday        \n            \n            Emancipation DayAug 01\, 2024Thursday        \n            \n            Emancipation DayAug 01\, 2025Friday        \n            \n            Emancipation DayAug 01\, 2026Saturday        \n            \n            Emancipation DayAug 01\, 2027Sunday        \n            \n            Emancipation DayAug 01\, 2028Tuesday        \n            \n            Emancipation DayAug 01\, 2029Wednesday        \n            \n            Emancipation DayAug 01\, 2030Thursday        \n            \n            Emancipation DayAug 01\, 2031Friday        \n            \n            Emancipation DayAug 01\, 2032Sunday        \n            \n            Emancipation DayAug 01\, 2033Monday        \n            \n            Emancipation DayAug 01\, 2034Tuesday        \n            \n            Emancipation DayAug 01\, 2035Wednesday        \n            \n            Emancipation DayAug 01\, 2036Friday        \n            \n            Emancipation DayAug 01\, 2037Saturday        \n            \n            Emancipation DayAug 01\, 2038Sunday        \n            \n            Emancipation DayAug 01\, 2039Monday        \n            \n            Emancipation DayAug 01\, 2040Wednesday        \n            \n            Emancipation DayAug 01\, 2041Thursday        \n            \n            Emancipation DayAug 01\, 2042Friday        \n            \n            Emancipation DayAug 01\, 2043Saturday        \n            \n            Emancipation DayAug 01\, 2044Monday        \n            \n            Emancipation DayAug 01\, 2045Tuesday        \n            \n            Emancipation DayAug 01\, 2046Wednesday        \n            \n            Emancipation DayAug 01\, 2047Thursday        \n            \n            Emancipation DayAug 01\, 2048Saturday        \n            \n            Emancipation DayAug 01\, 2049Sunday        \n    \n    \n    \n    \n    \n\n\nThe History of Emancipation Day?\nEmancipation Day in the Turks and Caicos Islands marks a defining moment in the islands' history\, the abolition of slavery in the British Empire. \nThe Slavery Abolition Act was passed by the British Parliament in 1833 and came into effect on August 1\, 1834. This act ended slavery across much of the British Empire\, including the Turks and Caicos Islands\, which at the time were administered under Jamaican governance as a British colony. \nOn that day in 1834\, enslaved Africans in the Turks and Caicos were officially declared free. However\, like in other British territories\, many were still forced to enter an "apprenticeship" system that lasted until 1838\, effectively delaying full emancipation. \nEnslaved people in the Turks and Caicos were mainly used in salt production\, the islands' most significant industry during the colonial period. They worked under grueling conditions in salt ponds on Grand Turk\, Salt Cay\, and South Caicos. \nDespite harsh conditions\, enslaved Africans in Turks and Caicos Islands maintained strong ties to their cultural traditions and often resisted oppression in both subtle and overt ways. \nEmancipation Day is more than a historical marker—it's a powerful symbol of human rights\, social justice\, and identity for Turks and Caicos Islanders. It encourages reflection on the legacy of slavery\, the challenges faced by descendants of enslaved people\, and the importance of cultural continuity.
URL:https://excelnotes.com/holiday/emancipation-day-tci/
CATEGORIES:Historical Holiday
ATTACH;FMTTYPE=image/jpeg:https://excelnotes.com/wp-content/uploads/2025/04/Emancipation-Day-TCI.jpg
END:VEVENT
BEGIN:VEVENT
DTSTART;VALUE=DATE:20250801
DTEND;VALUE=DATE:20250802
DTSTAMP:20260421T060326
CREATED:20250703T214338Z
LAST-MODIFIED:20250703T215347Z
UID:10000359-1754006400-1754092799@excelnotes.com
SUMMARY:Emancipation Day Trinidad and Tobago
DESCRIPTION:Emancipation Day is a national public holiday celebrated in Trinidad and Tobago. It commemorates the abolition of slavery in the British Empire and honors the struggles\, resilience\, and cultural heritage of people of African descent. \nWhen is Emancipation Day?\nEmancipation Day in Trinidad and Tobago is celebrated on August 1 each year.  \nThe following is the list of Emancipation Day from 2020 to 2049. \n   \n\n                \n                \n                            \n                            \n                            \n                    \n        \n\n                                                        HolidayDateWeekday\n\n\n\n        \n            Emancipation DayAug 01\, 2020Saturday        \n            \n            Emancipation DayAug 01\, 2021Sunday        \n            \n            Emancipation DayAug 01\, 2022Monday        \n            \n            Emancipation DayAug 01\, 2023Tuesday        \n            \n            Emancipation DayAug 01\, 2024Thursday        \n            \n            Emancipation DayAug 01\, 2025Friday        \n            \n            Emancipation DayAug 01\, 2026Saturday        \n            \n            Emancipation DayAug 01\, 2027Sunday        \n            \n            Emancipation DayAug 01\, 2028Tuesday        \n            \n            Emancipation DayAug 01\, 2029Wednesday        \n            \n            Emancipation DayAug 01\, 2030Thursday        \n            \n            Emancipation DayAug 01\, 2031Friday        \n            \n            Emancipation DayAug 01\, 2032Sunday        \n            \n            Emancipation DayAug 01\, 2033Monday        \n            \n            Emancipation DayAug 01\, 2034Tuesday        \n            \n            Emancipation DayAug 01\, 2035Wednesday        \n            \n            Emancipation DayAug 01\, 2036Friday        \n            \n            Emancipation DayAug 01\, 2037Saturday        \n            \n            Emancipation DayAug 01\, 2038Sunday        \n            \n            Emancipation DayAug 01\, 2039Monday        \n            \n            Emancipation DayAug 01\, 2040Wednesday        \n            \n            Emancipation DayAug 01\, 2041Thursday        \n            \n            Emancipation DayAug 01\, 2042Friday        \n            \n            Emancipation DayAug 01\, 2043Saturday        \n            \n            Emancipation DayAug 01\, 2044Monday        \n            \n            Emancipation DayAug 01\, 2045Tuesday        \n            \n            Emancipation DayAug 01\, 2046Wednesday        \n            \n            Emancipation DayAug 01\, 2047Thursday        \n            \n            Emancipation DayAug 01\, 2048Saturday        \n            \n            Emancipation DayAug 01\, 2049Sunday        \n    \n    \n    \n    \n    \n\n\nThe History of Emancipation Day?\nDuring the 18th and early 19th centuries\, Trinidad and Tobago (under Spanish\, then British rule) became heavily involved in the plantation economy\, which depended on the forced labor of enslaved Africans. \nIn 1833\, the British Parliament passed the Slavery Abolition Act.  \nOn August 1\, 1834\, Slavery was officially abolished\, but former slaves were forced into a 4-year "apprenticeship" system. \nOn August 1\, 1838\, full emancipation was granted—ending over 200 years of slavery in Trinidad and Tobago. \nFor many years\, August 1st was unofficially recognized by Afro-Trinidadian communities.  \nIn 1985\, under the leadership of Prime Minister George Chambers\, the government declared August 1 as Emancipation Day\, a national holiday\, and replaced "Discovery Day"\, which had commemorated Columbus's arrival.
URL:https://excelnotes.com/holiday/emancipation-day-trinidad-and-tobago/
CATEGORIES:Historical Holiday
ATTACH;FMTTYPE=image/jpeg:https://excelnotes.com/wp-content/uploads/2025/07/Emancipation-Day-Trinidad-and-Tobago.jpg
END:VEVENT
BEGIN:VEVENT
DTSTART;VALUE=DATE:20250801
DTEND;VALUE=DATE:20250802
DTSTAMP:20260421T060326
CREATED:20250719T045351Z
LAST-MODIFIED:20250807T043457Z
UID:10000422-1754006400-1754092799@excelnotes.com
SUMMARY:National Day Switzerland
DESCRIPTION:Swiss National Day commemorates the birth of the Swiss Confederation in 1291. The day marks a foundational moment in Switzerland's journey toward unity\, independence\, and neutrality. \nWhen is National Day?\nNational Day in Switzerland is celebrated each year on August 1st.  \nThe following is the list of National Day from 2020 to 2049. \n   \n\n                \n                \n                            \n                            \n                            \n                    \n        \n\n                                                        HolidayDateWeekday\n\n\n\n        \n            National DayAug 01\, 2020Saturday        \n            \n            National DayAug 01\, 2021Sunday        \n            \n            National DayAug 01\, 2022Monday        \n            \n            National DayAug 01\, 2023Tuesday        \n            \n            National DayAug 01\, 2024Thursday        \n            \n            National DayAug 01\, 2025Friday        \n            \n            National DayAug 01\, 2026Saturday        \n            \n            National DayAug 01\, 2027Sunday        \n            \n            National DayAug 01\, 2028Tuesday        \n            \n            National DayAug 01\, 2029Wednesday        \n            \n            National DayAug 01\, 2030Thursday        \n            \n            National DayAug 01\, 2031Friday        \n            \n            National DayAug 01\, 2032Sunday        \n            \n            National DayAug 01\, 2033Monday        \n            \n            National DayAug 01\, 2034Tuesday        \n            \n            National DayAug 01\, 2035Wednesday        \n            \n            National DayAug 01\, 2036Friday        \n            \n            National DayAug 01\, 2037Saturday        \n            \n            National DayAug 01\, 2038Sunday        \n            \n            National DayAug 01\, 2039Monday        \n            \n            National DayAug 01\, 2040Wednesday        \n            \n            National DayAug 01\, 2041Thursday        \n            \n            National DayAug 01\, 2042Friday        \n            \n            National DayAug 01\, 2043Saturday        \n            \n            National DayAug 01\, 2044Monday        \n            \n            National DayAug 01\, 2045Tuesday        \n            \n            National DayAug 01\, 2046Wednesday        \n            \n            National DayAug 01\, 2047Thursday        \n            \n            National DayAug 01\, 2048Saturday        \n            \n            National DayAug 01\, 2049Sunday        \n    \n    \n    \n    \n    \n\n\nThe History of National Day?\nIn early August 1291\, three forest cantons\, Uri\, Schwyz\, and Unterwalden\, signed a mutual defense agreement. While the charter did not create a full nation-state\, it laid the groundwork for a confederation of autonomous regions united by common interests. \nIts date\, August 1\, 1291\, is symbolic rather than exact\, but widely accepted as the Confederation's "birthday". \nIn the 1800s\, amid rising nationalism in Europe\, Swiss historians and leaders began celebrating local legends and historical symbols of unity. The idea of a shared Swiss identity grew stronger after the Swiss Federal Constitution of 1848\, which created a modern federal state. \nOn the 600th anniversary of the Federal Charter\, August 1\, 1891\, was celebrated as a national day for the first time. \nDespite annual celebrations\, August 1 did not become a national public holiday until 1994. A popular initiative and nationwide vote led to its recognition as an official day off throughout Switzerland.
URL:https://excelnotes.com/holiday/national-day-switzerland/
CATEGORIES:Historical Holiday
ATTACH;FMTTYPE=image/jpeg:https://excelnotes.com/wp-content/uploads/2025/07/National-Day-Switzerland.jpg
END:VEVENT
END:VCALENDAR